BEGIN:VCALENDAR
VERSION:2.0
PRODID:-//TCS High School - ECPv6.15.11//NONSGML v1.0//EN
CALSCALE:GREGORIAN
METHOD:PUBLISH
X-ORIGINAL-URL:https://tcshighschool.org
X-WR-CALDESC:Events for TCS High School
REFRESH-INTERVAL;VALUE=DURATION:PT1H
X-Robots-Tag:noindex
X-PUBLISHED-TTL:PT1H
BEGIN:VTIMEZONE
TZID:America/New_York
BEGIN:DAYLIGHT
TZOFFSETFROM:-0500
TZOFFSETTO:-0400
TZNAME:EDT
DTSTART:20220313T070000
END:DAYLIGHT
BEGIN:STANDARD
TZOFFSETFROM:-0400
TZOFFSETTO:-0500
TZNAME:EST
DTSTART:20221106T060000
END:STANDARD
BEGIN:DAYLIGHT
TZOFFSETFROM:-0500
TZOFFSETTO:-0400
TZNAME:EDT
DTSTART:20230312T070000
END:DAYLIGHT
BEGIN:STANDARD
TZOFFSETFROM:-0400
TZOFFSETTO:-0500
TZNAME:EST
DTSTART:20231105T060000
END:STANDARD
BEGIN:DAYLIGHT
TZOFFSETFROM:-0500
TZOFFSETTO:-0400
TZNAME:EDT
DTSTART:20240310T070000
END:DAYLIGHT
BEGIN:STANDARD
TZOFFSETFROM:-0400
TZOFFSETTO:-0500
TZNAME:EST
DTSTART:20241103T060000
END:STANDARD
END:VTIMEZONE
BEGIN:VEVENT
DTSTART;TZID=America/New_York:20230421T090000
DTEND;TZID=America/New_York:20230421T110000
DTSTAMP:20260425T233726
CREATED:20220721T121129Z
LAST-MODIFIED:20220721T121129Z
UID:40003-1682067600-1682074800@tcshighschool.org
SUMMARY:Creative Writing
DESCRIPTION:
URL:https://tcshighschool.org/event/creative-writing-7/2023-04-21/
CATEGORIES:Seminar - Regular
END:VEVENT
BEGIN:VEVENT
DTSTART;TZID=America/New_York:20230421T110000
DTEND;TZID=America/New_York:20230421T113000
DTSTAMP:20260425T233726
CREATED:20220827T115740Z
LAST-MODIFIED:20220827T120220Z
UID:40734-1682074800-1682076600@tcshighschool.org
SUMMARY:Lunch: Ms. Rita (Ethan's Mom)
DESCRIPTION:
URL:https://tcshighschool.org/event/lunch-ms-rita-ethans-mom-7/
CATEGORIES:Lunch
END:VEVENT
BEGIN:VEVENT
DTSTART;TZID=America/New_York:20230421T113000
DTEND;TZID=America/New_York:20230421T130000
DTSTAMP:20260425T233726
CREATED:20230320T110058Z
LAST-MODIFIED:20230326T161250Z
UID:42324-1682076600-1682082000@tcshighschool.org
SUMMARY:Conversation with Marc Stiener
DESCRIPTION:https://www.steinershow.org/about/marc-steiner/
URL:https://tcshighschool.org/event/conversation-with-marc-stiener/
CATEGORIES:Conversation
ATTACH;FMTTYPE=image/jpeg:https://tcshighschool.org/wp-content/uploads/2023/03/images-2.jpg
END:VEVENT
END:VCALENDAR