BEGIN:VCALENDAR
VERSION:2.0
PRODID:-//TCS High School - ECPv6.15.11//NONSGML v1.0//EN
CALSCALE:GREGORIAN
METHOD:PUBLISH
X-ORIGINAL-URL:https://tcshighschool.org
X-WR-CALDESC:Events for TCS High School
REFRESH-INTERVAL;VALUE=DURATION:PT1H
X-Robots-Tag:noindex
X-PUBLISHED-TTL:PT1H
BEGIN:VTIMEZONE
TZID:America/New_York
BEGIN:DAYLIGHT
TZOFFSETFROM:-0500
TZOFFSETTO:-0400
TZNAME:EDT
DTSTART:20220313T070000
END:DAYLIGHT
BEGIN:STANDARD
TZOFFSETFROM:-0400
TZOFFSETTO:-0500
TZNAME:EST
DTSTART:20221106T060000
END:STANDARD
BEGIN:DAYLIGHT
TZOFFSETFROM:-0500
TZOFFSETTO:-0400
TZNAME:EDT
DTSTART:20230312T070000
END:DAYLIGHT
BEGIN:STANDARD
TZOFFSETFROM:-0400
TZOFFSETTO:-0500
TZNAME:EST
DTSTART:20231105T060000
END:STANDARD
BEGIN:DAYLIGHT
TZOFFSETFROM:-0500
TZOFFSETTO:-0400
TZNAME:EDT
DTSTART:20240310T070000
END:DAYLIGHT
BEGIN:STANDARD
TZOFFSETFROM:-0400
TZOFFSETTO:-0500
TZNAME:EST
DTSTART:20241103T060000
END:STANDARD
END:VTIMEZONE
BEGIN:VEVENT
DTSTART;TZID=America/New_York:20230501T100000
DTEND;TZID=America/New_York:20230501T113000
DTSTAMP:20260425T221439
CREATED:20221213T120622Z
LAST-MODIFIED:20221213T120622Z
UID:41513-1682935200-1682940600@tcshighschool.org
SUMMARY:U of B: Entr 101
DESCRIPTION:
URL:https://tcshighschool.org/event/u-of-b-entr-101/2023-05-01/
CATEGORIES:Seminar - Regular
END:VEVENT
BEGIN:VEVENT
DTSTART;TZID=America/New_York:20230501T120000
DTEND;TZID=America/New_York:20230501T123000
DTSTAMP:20260425T221439
CREATED:20220815T142448Z
LAST-MODIFIED:20220913T233237Z
UID:40571-1682942400-1682944200@tcshighschool.org
SUMMARY:Lunch: Ms. Carol
DESCRIPTION:
URL:https://tcshighschool.org/event/lunch-ms-carol-81-2022-12-05/2023-05-01/
CATEGORIES:Lunch
END:VEVENT
BEGIN:VEVENT
DTSTART;TZID=America/New_York:20230501T123000
DTEND;TZID=America/New_York:20230501T133000
DTSTAMP:20260425T221439
CREATED:20230113T003404Z
LAST-MODIFIED:20230417T112623Z
UID:41754-1682944200-1682947800@tcshighschool.org
SUMMARY:Conversation with Doris Hollister
DESCRIPTION:
URL:https://tcshighschool.org/event/conversation-with-doris-hollister/
CATEGORIES:Conversation
END:VEVENT
END:VCALENDAR