BEGIN:VCALENDAR
VERSION:2.0
PRODID:-//TCS High School - ECPv6.15.11//NONSGML v1.0//EN
CALSCALE:GREGORIAN
METHOD:PUBLISH
X-ORIGINAL-URL:https://tcshighschool.org
X-WR-CALDESC:Events for TCS High School
REFRESH-INTERVAL;VALUE=DURATION:PT1H
X-Robots-Tag:noindex
X-PUBLISHED-TTL:PT1H
BEGIN:VTIMEZONE
TZID:America/New_York
BEGIN:DAYLIGHT
TZOFFSETFROM:-0500
TZOFFSETTO:-0400
TZNAME:EDT
DTSTART:20220313T070000
END:DAYLIGHT
BEGIN:STANDARD
TZOFFSETFROM:-0400
TZOFFSETTO:-0500
TZNAME:EST
DTSTART:20221106T060000
END:STANDARD
BEGIN:DAYLIGHT
TZOFFSETFROM:-0500
TZOFFSETTO:-0400
TZNAME:EDT
DTSTART:20230312T070000
END:DAYLIGHT
BEGIN:STANDARD
TZOFFSETFROM:-0400
TZOFFSETTO:-0500
TZNAME:EST
DTSTART:20231105T060000
END:STANDARD
BEGIN:DAYLIGHT
TZOFFSETFROM:-0500
TZOFFSETTO:-0400
TZNAME:EDT
DTSTART:20240310T070000
END:DAYLIGHT
BEGIN:STANDARD
TZOFFSETFROM:-0400
TZOFFSETTO:-0500
TZNAME:EST
DTSTART:20241103T060000
END:STANDARD
END:VTIMEZONE
BEGIN:VEVENT
DTSTART;TZID=America/New_York:20230503T084500
DTEND;TZID=America/New_York:20230503T094500
DTSTAMP:20260425T221436
CREATED:20220721T121242Z
LAST-MODIFIED:20220803T211225Z
UID:40042-1683103500-1683107100@tcshighschool.org
SUMMARY:Physical Education
DESCRIPTION:
URL:https://tcshighschool.org/event/physical-education-tentative/2023-05-03/
CATEGORIES:Seminar - Regular
END:VEVENT
BEGIN:VEVENT
DTSTART;TZID=America/New_York:20230503T100000
DTEND;TZID=America/New_York:20230503T113000
DTSTAMP:20260425T221436
CREATED:20221213T120622Z
LAST-MODIFIED:20221213T120622Z
UID:41514-1683108000-1683113400@tcshighschool.org
SUMMARY:U of B: Entr 101
DESCRIPTION:
URL:https://tcshighschool.org/event/u-of-b-entr-101/2023-05-03/
CATEGORIES:Seminar - Regular
END:VEVENT
BEGIN:VEVENT
DTSTART;TZID=America/New_York:20230503T120000
DTEND;TZID=America/New_York:20230503T123000
DTSTAMP:20260425T221436
CREATED:20230502T130258Z
LAST-MODIFIED:20230502T130258Z
UID:42651-1683115200-1683117000@tcshighschool.org
SUMMARY:Lunch: Ms. Carla (Karla's mom)
DESCRIPTION:
URL:https://tcshighschool.org/event/lunch-ms-carla-karlas-mom-5/
CATEGORIES:Lunch
END:VEVENT
BEGIN:VEVENT
DTSTART;TZID=America/New_York:20230503T123000
DTEND;TZID=America/New_York:20230503T133000
DTSTAMP:20260425T221436
CREATED:20220721T121548Z
LAST-MODIFIED:20220727T232227Z
UID:40367-1683117000-1683120600@tcshighschool.org
SUMMARY:Art Class
DESCRIPTION:With Leandra Laird
URL:https://tcshighschool.org/event/art-class-tentative/2023-05-03/
CATEGORIES:Seminar - Regular
END:VEVENT
BEGIN:VEVENT
DTSTART;TZID=America/New_York:20230503T133000
DTEND;TZID=America/New_York:20230503T143000
DTSTAMP:20260425T221436
CREATED:20230427T175123Z
LAST-MODIFIED:20230427T175123Z
UID:42595-1683120600-1683124200@tcshighschool.org
SUMMARY:World War II Stories with Ms. Leah & Ms. Leandra
DESCRIPTION:
URL:https://tcshighschool.org/event/world-war-ii-stories-with-ms-leah-ms-leandra/
CATEGORIES:Seminars - Special
END:VEVENT
END:VCALENDAR