BEGIN:VCALENDAR
VERSION:2.0
PRODID:-//TCS High School - ECPv6.15.11//NONSGML v1.0//EN
CALSCALE:GREGORIAN
METHOD:PUBLISH
X-ORIGINAL-URL:https://tcshighschool.org
X-WR-CALDESC:Events for TCS High School
REFRESH-INTERVAL;VALUE=DURATION:PT1H
X-Robots-Tag:noindex
X-PUBLISHED-TTL:PT1H
BEGIN:VTIMEZONE
TZID:America/New_York
BEGIN:DAYLIGHT
TZOFFSETFROM:-0500
TZOFFSETTO:-0400
TZNAME:EDT
DTSTART:20220313T070000
END:DAYLIGHT
BEGIN:STANDARD
TZOFFSETFROM:-0400
TZOFFSETTO:-0500
TZNAME:EST
DTSTART:20221106T060000
END:STANDARD
BEGIN:DAYLIGHT
TZOFFSETFROM:-0500
TZOFFSETTO:-0400
TZNAME:EDT
DTSTART:20230312T070000
END:DAYLIGHT
BEGIN:STANDARD
TZOFFSETFROM:-0400
TZOFFSETTO:-0500
TZNAME:EST
DTSTART:20231105T060000
END:STANDARD
BEGIN:DAYLIGHT
TZOFFSETFROM:-0500
TZOFFSETTO:-0400
TZNAME:EDT
DTSTART:20240310T070000
END:DAYLIGHT
BEGIN:STANDARD
TZOFFSETFROM:-0400
TZOFFSETTO:-0500
TZNAME:EST
DTSTART:20241103T060000
END:STANDARD
END:VTIMEZONE
BEGIN:VEVENT
DTSTART;TZID=America/New_York:20231110T090000
DTEND;TZID=America/New_York:20231110T110000
DTSTAMP:20260425T122150
CREATED:20230814T215012Z
LAST-MODIFIED:20230814T215012Z
UID:42961-1699606800-1699614000@tcshighschool.org
SUMMARY:Creative Writing
DESCRIPTION:
URL:https://tcshighschool.org/event/creative-writing-8/2023-11-10/
CATEGORIES:Seminar - Regular
END:VEVENT
BEGIN:VEVENT
DTSTART;TZID=America/New_York:20231110T113000
DTEND;TZID=America/New_York:20231110T130000
DTSTAMP:20260425T122150
CREATED:20230930T195422Z
LAST-MODIFIED:20231101T162115Z
UID:44131-1699615800-1699621200@tcshighschool.org
SUMMARY:Conversation with Alumni II
DESCRIPTION:Dyrrell Moon (confirmed) \nSadie Greenwood (confirmed) \nDaj’a White (confirmed) \nMatthew Wendler (confirmed) \nJaniah Tillery (confirmed) \nSpencer Erdossy \nJoshua Sharp \n 
URL:https://tcshighschool.org/event/conversation-with-alumni-ii/
CATEGORIES:Conversation
END:VEVENT
END:VCALENDAR