BEGIN:VCALENDAR
VERSION:2.0
PRODID:-//TCS High School - ECPv6.15.11//NONSGML v1.0//EN
CALSCALE:GREGORIAN
METHOD:PUBLISH
X-ORIGINAL-URL:https://tcshighschool.org
X-WR-CALDESC:Events for TCS High School
REFRESH-INTERVAL;VALUE=DURATION:PT1H
X-Robots-Tag:noindex
X-PUBLISHED-TTL:PT1H
BEGIN:VTIMEZONE
TZID:America/New_York
BEGIN:DAYLIGHT
TZOFFSETFROM:-0500
TZOFFSETTO:-0400
TZNAME:EDT
DTSTART:20220313T070000
END:DAYLIGHT
BEGIN:STANDARD
TZOFFSETFROM:-0400
TZOFFSETTO:-0500
TZNAME:EST
DTSTART:20221106T060000
END:STANDARD
BEGIN:DAYLIGHT
TZOFFSETFROM:-0500
TZOFFSETTO:-0400
TZNAME:EDT
DTSTART:20230312T070000
END:DAYLIGHT
BEGIN:STANDARD
TZOFFSETFROM:-0400
TZOFFSETTO:-0500
TZNAME:EST
DTSTART:20231105T060000
END:STANDARD
BEGIN:DAYLIGHT
TZOFFSETFROM:-0500
TZOFFSETTO:-0400
TZNAME:EDT
DTSTART:20240310T070000
END:DAYLIGHT
BEGIN:STANDARD
TZOFFSETFROM:-0400
TZOFFSETTO:-0500
TZNAME:EST
DTSTART:20241103T060000
END:STANDARD
END:VTIMEZONE
BEGIN:VEVENT
DTSTART;TZID=America/New_York:20231117T090000
DTEND;TZID=America/New_York:20231117T110000
DTSTAMP:20260425T121943
CREATED:20230814T215012Z
LAST-MODIFIED:20230814T215012Z
UID:42962-1700211600-1700218800@tcshighschool.org
SUMMARY:Creative Writing
DESCRIPTION:
URL:https://tcshighschool.org/event/creative-writing-8/2023-11-17/
CATEGORIES:Seminar - Regular
END:VEVENT
BEGIN:VEVENT
DTSTART;TZID=America/New_York:20231117T110000
DTEND;TZID=America/New_York:20231117T113000
DTSTAMP:20260425T121943
CREATED:20230904T150136Z
LAST-MODIFIED:20231117T013729Z
UID:43832-1700218800-1700220600@tcshighschool.org
SUMMARY:Lunch: Ms. Lisa Knickmeyer (Sponsor)
DESCRIPTION:Shrimp mac & cheese & plain mac & cheese\, bean salad\, apple pie
URL:https://tcshighschool.org/event/lunch-ms-lisa-knickmeyer-sponsor-3/
CATEGORIES:Lunch
END:VEVENT
BEGIN:VEVENT
DTSTART;TZID=America/New_York:20231117T113000
DTEND;TZID=America/New_York:20231117T130000
DTSTAMP:20260425T121943
CREATED:20231018T132027Z
LAST-MODIFIED:20231101T125040Z
UID:44307-1700220600-1700226000@tcshighschool.org
SUMMARY:Conversation with Mary Pat Clarke
DESCRIPTION:https://en.wikipedia.org/wiki/Mary_Pat_Clarke \nhttps://tuscanycanterbury.org/neighbors-in-the-news/mary-pat-clarke/
URL:https://tcshighschool.org/event/conversation-with-mary-pat-clarke/
CATEGORIES:Conversation
ATTACH;FMTTYPE=image/jpeg:https://tcshighschool.org/wp-content/uploads/2023/10/download-2-2.jpg
END:VEVENT
END:VCALENDAR