BEGIN:VCALENDAR
VERSION:2.0
PRODID:-//TCS High School - ECPv6.15.11//NONSGML v1.0//EN
CALSCALE:GREGORIAN
METHOD:PUBLISH
X-WR-CALNAME:TCS High School
X-ORIGINAL-URL:https://tcshighschool.org
X-WR-CALDESC:Events for TCS High School
REFRESH-INTERVAL;VALUE=DURATION:PT1H
X-Robots-Tag:noindex
X-PUBLISHED-TTL:PT1H
BEGIN:VTIMEZONE
TZID:America/New_York
BEGIN:DAYLIGHT
TZOFFSETFROM:-0500
TZOFFSETTO:-0400
TZNAME:EDT
DTSTART:20220313T070000
END:DAYLIGHT
BEGIN:STANDARD
TZOFFSETFROM:-0400
TZOFFSETTO:-0500
TZNAME:EST
DTSTART:20221106T060000
END:STANDARD
BEGIN:DAYLIGHT
TZOFFSETFROM:-0500
TZOFFSETTO:-0400
TZNAME:EDT
DTSTART:20230312T070000
END:DAYLIGHT
BEGIN:STANDARD
TZOFFSETFROM:-0400
TZOFFSETTO:-0500
TZNAME:EST
DTSTART:20231105T060000
END:STANDARD
BEGIN:DAYLIGHT
TZOFFSETFROM:-0500
TZOFFSETTO:-0400
TZNAME:EDT
DTSTART:20240310T070000
END:DAYLIGHT
BEGIN:STANDARD
TZOFFSETFROM:-0400
TZOFFSETTO:-0500
TZNAME:EST
DTSTART:20241103T060000
END:STANDARD
END:VTIMEZONE
BEGIN:VEVENT
DTSTART;VALUE=DATE:20231201
DTEND;VALUE=DATE:20231202
DTSTAMP:20260425T114242
CREATED:20230326T211531Z
LAST-MODIFIED:20230326T211531Z
UID:42401-1701388800-1701475199@tcshighschool.org
SUMMARY:2nd Trimester Begins
DESCRIPTION:
URL:https://tcshighschool.org/event/2nd-trimester-begins-6/
CATEGORIES:Special Days
END:VEVENT
BEGIN:VEVENT
DTSTART;TZID=America/New_York:20231201T090000
DTEND;TZID=America/New_York:20231201T110000
DTSTAMP:20260425T114242
CREATED:20230814T215012Z
LAST-MODIFIED:20230814T215012Z
UID:42964-1701421200-1701428400@tcshighschool.org
SUMMARY:Creative Writing
DESCRIPTION:
URL:https://tcshighschool.org/event/creative-writing-8/2023-12-01/
CATEGORIES:Seminar - Regular
END:VEVENT
BEGIN:VEVENT
DTSTART;TZID=America/New_York:20231201T110000
DTEND;TZID=America/New_York:20231201T113000
DTSTAMP:20260425T114242
CREATED:20231003T193616Z
LAST-MODIFIED:20231127T002733Z
UID:44183-1701428400-1701430200@tcshighschool.org
SUMMARY:Lunch: Ms. Jenae (Rhys & Quinn's Mom)
DESCRIPTION:pasta with lemon and chicken and broccoli
URL:https://tcshighschool.org/event/lunch-ms-jenae-rhys-quinns-mom-7/
CATEGORIES:Lunch
END:VEVENT
BEGIN:VEVENT
DTSTART;TZID=America/New_York:20231201T113000
DTEND;TZID=America/New_York:20231201T130000
DTSTAMP:20260425T114242
CREATED:20231101T114523Z
LAST-MODIFIED:20231214T210911Z
UID:44407-1701430200-1701435600@tcshighschool.org
SUMMARY:Conversation with Paul Coates & Obari Cartman
DESCRIPTION:https://en.wikipedia.org/wiki/Paul_Coates_(publisher) \n  \nhttps://www.baltimoremagazine.com/section/historypolitics/paul-coates-ta-nehisi-coates-father-on-black-classic-press/ \nhttps://aalbc.com/authors/author.php?author_name=W.+Paul+Coates
URL:https://tcshighschool.org/event/conversation-with-paul-coates-2/
CATEGORIES:Conversation
ATTACH;FMTTYPE=image/jpeg:https://tcshighschool.org/wp-content/uploads/2023/11/paul-coates-2.jpg
END:VEVENT
END:VCALENDAR