BEGIN:VCALENDAR
VERSION:2.0
PRODID:-//TCS High School - ECPv6.15.11//NONSGML v1.0//EN
CALSCALE:GREGORIAN
METHOD:PUBLISH
X-ORIGINAL-URL:https://tcshighschool.org
X-WR-CALDESC:Events for TCS High School
REFRESH-INTERVAL;VALUE=DURATION:PT1H
X-Robots-Tag:noindex
X-PUBLISHED-TTL:PT1H
BEGIN:VTIMEZONE
TZID:America/New_York
BEGIN:DAYLIGHT
TZOFFSETFROM:-0500
TZOFFSETTO:-0400
TZNAME:EDT
DTSTART:20220313T070000
END:DAYLIGHT
BEGIN:STANDARD
TZOFFSETFROM:-0400
TZOFFSETTO:-0500
TZNAME:EST
DTSTART:20221106T060000
END:STANDARD
BEGIN:DAYLIGHT
TZOFFSETFROM:-0500
TZOFFSETTO:-0400
TZNAME:EDT
DTSTART:20230312T070000
END:DAYLIGHT
BEGIN:STANDARD
TZOFFSETFROM:-0400
TZOFFSETTO:-0500
TZNAME:EST
DTSTART:20231105T060000
END:STANDARD
BEGIN:DAYLIGHT
TZOFFSETFROM:-0500
TZOFFSETTO:-0400
TZNAME:EDT
DTSTART:20240310T070000
END:DAYLIGHT
BEGIN:STANDARD
TZOFFSETFROM:-0400
TZOFFSETTO:-0500
TZNAME:EST
DTSTART:20241103T060000
END:STANDARD
END:VTIMEZONE
BEGIN:VEVENT
DTSTART;TZID=America/New_York:20231215T090000
DTEND;TZID=America/New_York:20231215T110000
DTSTAMP:20260425T083331
CREATED:20230814T215012Z
LAST-MODIFIED:20230814T215012Z
UID:42966-1702630800-1702638000@tcshighschool.org
SUMMARY:Creative Writing
DESCRIPTION:
URL:https://tcshighschool.org/event/creative-writing-8/2023-12-15/
CATEGORIES:Seminar - Regular
END:VEVENT
BEGIN:VEVENT
DTSTART;TZID=America/New_York:20231215T110000
DTEND;TZID=America/New_York:20231215T113000
DTSTAMP:20260425T083331
CREATED:20231128T214208Z
LAST-MODIFIED:20231128T214208Z
UID:44580-1702638000-1702639800@tcshighschool.org
SUMMARY:Lunch: Ms. Neyvy (Fatima's Mom)
DESCRIPTION:
URL:https://tcshighschool.org/event/lunch-ms-neyvy-fatimas-mom-4/
CATEGORIES:Lunch
END:VEVENT
BEGIN:VEVENT
DTSTART;TZID=America/New_York:20231215T113000
DTEND;TZID=America/New_York:20231215T130000
DTSTAMP:20260425T083331
CREATED:20230918T140851Z
LAST-MODIFIED:20231019T155804Z
UID:44070-1702639800-1702645200@tcshighschool.org
SUMMARY:Conversation with Denise Gantt
DESCRIPTION:https://www.lyricbaltimore.com/education/about-1 \n 
URL:https://tcshighschool.org/event/conversation-with-denise-gantt/
CATEGORIES:Conversation
ATTACH;FMTTYPE=image/jpeg:https://tcshighschool.org/wp-content/uploads/2023/09/Denise-2-ea6f2aa9f2.jpg
END:VEVENT
END:VCALENDAR