BEGIN:VCALENDAR
VERSION:2.0
PRODID:-//TCS High School - ECPv6.15.11//NONSGML v1.0//EN
CALSCALE:GREGORIAN
METHOD:PUBLISH
X-ORIGINAL-URL:https://tcshighschool.org
X-WR-CALDESC:Events for TCS High School
REFRESH-INTERVAL;VALUE=DURATION:PT1H
X-Robots-Tag:noindex
X-PUBLISHED-TTL:PT1H
BEGIN:VTIMEZONE
TZID:America/New_York
BEGIN:DAYLIGHT
TZOFFSETFROM:-0500
TZOFFSETTO:-0400
TZNAME:EDT
DTSTART:20230312T070000
END:DAYLIGHT
BEGIN:STANDARD
TZOFFSETFROM:-0400
TZOFFSETTO:-0500
TZNAME:EST
DTSTART:20231105T060000
END:STANDARD
BEGIN:DAYLIGHT
TZOFFSETFROM:-0500
TZOFFSETTO:-0400
TZNAME:EDT
DTSTART:20240310T070000
END:DAYLIGHT
BEGIN:STANDARD
TZOFFSETFROM:-0400
TZOFFSETTO:-0500
TZNAME:EST
DTSTART:20241103T060000
END:STANDARD
BEGIN:DAYLIGHT
TZOFFSETFROM:-0500
TZOFFSETTO:-0400
TZNAME:EDT
DTSTART:20250309T070000
END:DAYLIGHT
BEGIN:STANDARD
TZOFFSETFROM:-0400
TZOFFSETTO:-0500
TZNAME:EST
DTSTART:20251102T060000
END:STANDARD
END:VTIMEZONE
BEGIN:VEVENT
DTSTART;TZID=America/New_York:20240530T090000
DTEND;TZID=America/New_York:20240530T110000
DTSTAMP:20260424T222217
CREATED:20240425T151207Z
LAST-MODIFIED:20240425T151334Z
UID:45535-1717059600-1717066800@tcshighschool.org
SUMMARY:Creative Writing
DESCRIPTION:
URL:https://tcshighschool.org/event/creative-writing-10/
CATEGORIES:Seminar - Regular
END:VEVENT
BEGIN:VEVENT
DTSTART;TZID=America/New_York:20240530T121500
DTEND;TZID=America/New_York:20240530T124500
DTSTAMP:20260424T222217
CREATED:20240308T123655Z
LAST-MODIFIED:20240308T123655Z
UID:45280-1717071300-1717073100@tcshighschool.org
SUMMARY:Lunch: (Mr. Kevin & Ms. Leah) Sam's Parents
DESCRIPTION:
URL:https://tcshighschool.org/event/lunch-mr-kevin-ms-leah-sams-parents/
CATEGORIES:Lunch
END:VEVENT
BEGIN:VEVENT
DTSTART;TZID=America/New_York:20240530T124500
DTEND;TZID=America/New_York:20240530T134500
DTSTAMP:20260424T222217
CREATED:20231214T014637Z
LAST-MODIFIED:20231214T014637Z
UID:44706-1717073100-1717076700@tcshighschool.org
SUMMARY:Theatre with The Lyric
DESCRIPTION:
URL:https://tcshighschool.org/event/theatre-with-the-lyric-6/
CATEGORIES:Seminar - Regular
END:VEVENT
BEGIN:VEVENT
DTSTART;TZID=America/New_York:20240530T140000
DTEND;TZID=America/New_York:20240530T150000
DTSTAMP:20260424T222217
CREATED:20240505T164103Z
LAST-MODIFIED:20240519T121808Z
UID:45587-1717077600-1717081200@tcshighschool.org
SUMMARY:Conversation with Alysia Lee & Larry Simmons
DESCRIPTION:
URL:https://tcshighschool.org/event/conversation-with-alysia-lee-larry-simmons/
CATEGORIES:Conversation
ATTACH;FMTTYPE=image/jpeg:https://tcshighschool.org/wp-content/uploads/2024/05/Alysia-Lee-headshot-500x500-1.jpg
END:VEVENT
BEGIN:VEVENT
DTSTART;TZID=America/New_York:20240530T183000
DTEND;TZID=America/New_York:20240530T200000
DTSTAMP:20260424T222217
CREATED:20240523T152845Z
LAST-MODIFIED:20240523T152845Z
UID:45673-1717093800-1717099200@tcshighschool.org
SUMMARY:Sponsor Meeting
DESCRIPTION:
URL:https://tcshighschool.org/event/sponsor-meeting-46/
CATEGORIES:Meetings
END:VEVENT
END:VCALENDAR