BEGIN:VCALENDAR
VERSION:2.0
PRODID:-//TCS High School - ECPv6.15.11//NONSGML v1.0//EN
CALSCALE:GREGORIAN
METHOD:PUBLISH
X-ORIGINAL-URL:https://tcshighschool.org
X-WR-CALDESC:Events for TCS High School
REFRESH-INTERVAL;VALUE=DURATION:PT1H
X-Robots-Tag:noindex
X-PUBLISHED-TTL:PT1H
BEGIN:VTIMEZONE
TZID:America/New_York
BEGIN:DAYLIGHT
TZOFFSETFROM:-0500
TZOFFSETTO:-0400
TZNAME:EDT
DTSTART:20230312T070000
END:DAYLIGHT
BEGIN:STANDARD
TZOFFSETFROM:-0400
TZOFFSETTO:-0500
TZNAME:EST
DTSTART:20231105T060000
END:STANDARD
BEGIN:DAYLIGHT
TZOFFSETFROM:-0500
TZOFFSETTO:-0400
TZNAME:EDT
DTSTART:20240310T070000
END:DAYLIGHT
BEGIN:STANDARD
TZOFFSETFROM:-0400
TZOFFSETTO:-0500
TZNAME:EST
DTSTART:20241103T060000
END:STANDARD
BEGIN:DAYLIGHT
TZOFFSETFROM:-0500
TZOFFSETTO:-0400
TZNAME:EDT
DTSTART:20250309T070000
END:DAYLIGHT
BEGIN:STANDARD
TZOFFSETFROM:-0400
TZOFFSETTO:-0500
TZNAME:EST
DTSTART:20251102T060000
END:STANDARD
END:VTIMEZONE
BEGIN:VEVENT
DTSTART;TZID=America/New_York:20241211T085500
DTEND;TZID=America/New_York:20241211T095500
DTSTAMP:20260424T163223
CREATED:20240813T214657Z
LAST-MODIFIED:20240813T214657Z
UID:46128-1733907300-1733910900@tcshighschool.org
SUMMARY:Physical Education
DESCRIPTION:
URL:https://tcshighschool.org/event/physical-education-5/2024-12-11/
CATEGORIES:Seminar - Regular
END:VEVENT
BEGIN:VEVENT
DTSTART;TZID=America/New_York:20241211T121500
DTEND;TZID=America/New_York:20241211T124500
DTSTAMP:20260424T163223
CREATED:20240814T172328Z
LAST-MODIFIED:20241211T194537Z
UID:46152-1733919300-1733921100@tcshighschool.org
SUMMARY:Lunch: The Avents (Lyric's Family)
DESCRIPTION:macaroni casserole and rolls
URL:https://tcshighschool.org/event/lunch-the-avents-lyrics-family-2/
CATEGORIES:Lunch
END:VEVENT
BEGIN:VEVENT
DTSTART;TZID=America/New_York:20241211T124500
DTEND;TZID=America/New_York:20241211T134500
DTSTAMP:20260424T163223
CREATED:20240814T003342Z
LAST-MODIFIED:20240814T003342Z
UID:46144-1733921100-1733924700@tcshighschool.org
SUMMARY:Art Seminar
DESCRIPTION:
URL:https://tcshighschool.org/event/art-seminar-5-2024-12-11/
CATEGORIES:Seminar - Regular
END:VEVENT
END:VCALENDAR