BEGIN:VCALENDAR
VERSION:2.0
PRODID:-//TCS High School - ECPv6.15.11//NONSGML v1.0//EN
CALSCALE:GREGORIAN
METHOD:PUBLISH
X-WR-CALNAME:TCS High School
X-ORIGINAL-URL:https://tcshighschool.org
X-WR-CALDESC:Events for TCS High School
REFRESH-INTERVAL;VALUE=DURATION:PT1H
X-Robots-Tag:noindex
X-PUBLISHED-TTL:PT1H
BEGIN:VTIMEZONE
TZID:America/New_York
BEGIN:DAYLIGHT
TZOFFSETFROM:-0500
TZOFFSETTO:-0400
TZNAME:EDT
DTSTART:20230312T070000
END:DAYLIGHT
BEGIN:STANDARD
TZOFFSETFROM:-0400
TZOFFSETTO:-0500
TZNAME:EST
DTSTART:20231105T060000
END:STANDARD
BEGIN:DAYLIGHT
TZOFFSETFROM:-0500
TZOFFSETTO:-0400
TZNAME:EDT
DTSTART:20240310T070000
END:DAYLIGHT
BEGIN:STANDARD
TZOFFSETFROM:-0400
TZOFFSETTO:-0500
TZNAME:EST
DTSTART:20241103T060000
END:STANDARD
BEGIN:DAYLIGHT
TZOFFSETFROM:-0500
TZOFFSETTO:-0400
TZNAME:EDT
DTSTART:20250309T070000
END:DAYLIGHT
BEGIN:STANDARD
TZOFFSETFROM:-0400
TZOFFSETTO:-0500
TZNAME:EST
DTSTART:20251102T060000
END:STANDARD
END:VTIMEZONE
BEGIN:VEVENT
DTSTART;TZID=America/New_York:20241219T100000
DTEND;TZID=America/New_York:20241219T110000
DTSTAMP:20260424T152743
CREATED:20241219T122415Z
LAST-MODIFIED:20241219T122415Z
UID:47299-1734602400-1734606000@tcshighschool.org
SUMMARY:Documentary: The ABC's of Book Banning
DESCRIPTION:
URL:https://tcshighschool.org/event/documentary-the-abcs-of-book-banning/
CATEGORIES:Movies
END:VEVENT
BEGIN:VEVENT
DTSTART;TZID=America/New_York:20241219T111500
DTEND;TZID=America/New_York:20241219T121500
DTSTAMP:20260424T152743
CREATED:20241123T193031Z
LAST-MODIFIED:20241123T193031Z
UID:47116-1734606900-1734610500@tcshighschool.org
SUMMARY:Art Seminar
DESCRIPTION:
URL:https://tcshighschool.org/event/art-seminar-8/
CATEGORIES:Seminar - Regular
END:VEVENT
BEGIN:VEVENT
DTSTART;TZID=America/New_York:20241219T121500
DTEND;TZID=America/New_York:20241219T124500
DTSTAMP:20260424T152743
CREATED:20240813T134928Z
LAST-MODIFIED:20240813T134928Z
UID:46032-1734610500-1734612300@tcshighschool.org
SUMMARY:Lunch: Berman McAleer
DESCRIPTION:
URL:https://tcshighschool.org/event/lunch-berman-mcaleer-17/2024-12-19/
CATEGORIES:Lunch
END:VEVENT
BEGIN:VEVENT
DTSTART;TZID=America/New_York:20241219T124500
DTEND;TZID=America/New_York:20241219T134500
DTSTAMP:20260424T152743
CREATED:20240722T191232Z
LAST-MODIFIED:20240722T191232Z
UID:45771-1734612300-1734615900@tcshighschool.org
SUMMARY:Financial Literacy
DESCRIPTION:
URL:https://tcshighschool.org/event/financial-literacy-9/2024-12-19/
CATEGORIES:Seminar - Regular
END:VEVENT
END:VCALENDAR