BEGIN:VCALENDAR
VERSION:2.0
PRODID:-//TCS High School - ECPv6.15.11//NONSGML v1.0//EN
CALSCALE:GREGORIAN
METHOD:PUBLISH
X-ORIGINAL-URL:https://tcshighschool.org
X-WR-CALDESC:Events for TCS High School
REFRESH-INTERVAL;VALUE=DURATION:PT1H
X-Robots-Tag:noindex
X-PUBLISHED-TTL:PT1H
BEGIN:VTIMEZONE
TZID:America/New_York
BEGIN:DAYLIGHT
TZOFFSETFROM:-0500
TZOFFSETTO:-0400
TZNAME:EDT
DTSTART:20240310T070000
END:DAYLIGHT
BEGIN:STANDARD
TZOFFSETFROM:-0400
TZOFFSETTO:-0500
TZNAME:EST
DTSTART:20241103T060000
END:STANDARD
BEGIN:DAYLIGHT
TZOFFSETFROM:-0500
TZOFFSETTO:-0400
TZNAME:EDT
DTSTART:20250309T070000
END:DAYLIGHT
BEGIN:STANDARD
TZOFFSETFROM:-0400
TZOFFSETTO:-0500
TZNAME:EST
DTSTART:20251102T060000
END:STANDARD
BEGIN:DAYLIGHT
TZOFFSETFROM:-0500
TZOFFSETTO:-0400
TZNAME:EDT
DTSTART:20260308T070000
END:DAYLIGHT
BEGIN:STANDARD
TZOFFSETFROM:-0400
TZOFFSETTO:-0500
TZNAME:EST
DTSTART:20261101T060000
END:STANDARD
END:VTIMEZONE
BEGIN:VEVENT
DTSTART;TZID=America/New_York:20251208T121500
DTEND;TZID=America/New_York:20251208T124500
DTSTAMP:20260423T143342
CREATED:20250830T011844Z
LAST-MODIFIED:20251208T000114Z
UID:49226-1765196100-1765197900@tcshighschool.org
SUMMARY:Lunch: Ms. Jacqueline (Khori's Grandmother)
DESCRIPTION:pizza
URL:https://tcshighschool.org/event/lunch-ms-jacqueline-khoris-grandmother-3/
CATEGORIES:Lunch
END:VEVENT
BEGIN:VEVENT
DTSTART;TZID=America/New_York:20251208T124500
DTEND;TZID=America/New_York:20251208T134500
DTSTAMP:20260423T143342
CREATED:20250821T203926Z
LAST-MODIFIED:20251226T133847Z
UID:49016-1765197900-1765201500@tcshighschool.org
SUMMARY:Young Playwrights Seminar
DESCRIPTION:
URL:https://tcshighschool.org/event/young-playwrights-tentative/
CATEGORIES:Seminars - Special
END:VEVENT
END:VCALENDAR