BEGIN:VCALENDAR
VERSION:2.0
PRODID:-//TCS High School - ECPv6.15.11//NONSGML v1.0//EN
CALSCALE:GREGORIAN
METHOD:PUBLISH
X-WR-CALNAME:TCS High School
X-ORIGINAL-URL:https://tcshighschool.org
X-WR-CALDESC:Events for TCS High School
REFRESH-INTERVAL;VALUE=DURATION:PT1H
X-Robots-Tag:noindex
X-PUBLISHED-TTL:PT1H
BEGIN:VTIMEZONE
TZID:America/New_York
BEGIN:DAYLIGHT
TZOFFSETFROM:-0500
TZOFFSETTO:-0400
TZNAME:EDT
DTSTART:20230312T070000
END:DAYLIGHT
BEGIN:STANDARD
TZOFFSETFROM:-0400
TZOFFSETTO:-0500
TZNAME:EST
DTSTART:20231105T060000
END:STANDARD
BEGIN:DAYLIGHT
TZOFFSETFROM:-0500
TZOFFSETTO:-0400
TZNAME:EDT
DTSTART:20240310T070000
END:DAYLIGHT
BEGIN:STANDARD
TZOFFSETFROM:-0400
TZOFFSETTO:-0500
TZNAME:EST
DTSTART:20241103T060000
END:STANDARD
BEGIN:DAYLIGHT
TZOFFSETFROM:-0500
TZOFFSETTO:-0400
TZNAME:EDT
DTSTART:20250309T070000
END:DAYLIGHT
BEGIN:STANDARD
TZOFFSETFROM:-0400
TZOFFSETTO:-0500
TZNAME:EST
DTSTART:20251102T060000
END:STANDARD
END:VTIMEZONE
BEGIN:VEVENT
DTSTART;TZID=America/New_York:20240202T113000
DTEND;TZID=America/New_York:20240202T130000
DTSTAMP:20260425T085950
CREATED:20231219T214914Z
LAST-MODIFIED:20240122T002037Z
UID:44817-1706873400-1706878800@tcshighschool.org
SUMMARY:Conversation with Ted Giovanis
DESCRIPTION:https://tedgiovanis.com/
URL:https://tcshighschool.org/event/conversation-with-ted-giovanis/
CATEGORIES:Conversation
ATTACH;FMTTYPE=image/jpeg:https://tcshighschool.org/wp-content/uploads/2023/12/download-2.jpg
END:VEVENT
BEGIN:VEVENT
DTSTART;TZID=America/New_York:20240216T130000
DTEND;TZID=America/New_York:20240216T140000
DTSTAMP:20260425T085950
CREATED:20240218T221103Z
LAST-MODIFIED:20240218T224625Z
UID:45105-1708088400-1708092000@tcshighschool.org
SUMMARY:Conversation with Dyrrell Moon
DESCRIPTION:
URL:https://tcshighschool.org/event/conversation-with-dyrrell-moon-3/
CATEGORIES:Conversation
END:VEVENT
BEGIN:VEVENT
DTSTART;TZID=America/New_York:20240223T113000
DTEND;TZID=America/New_York:20240223T130000
DTSTAMP:20260425T085950
CREATED:20240119T194059Z
LAST-MODIFIED:20240119T194059Z
UID:44952-1708687800-1708693200@tcshighschool.org
SUMMARY:Conversation with Bria-Leigh Yazic
DESCRIPTION:
URL:https://tcshighschool.org/event/conversation-with-bria-leigh-yazic/
CATEGORIES:Conversation
END:VEVENT
END:VCALENDAR