BEGIN:VCALENDAR
VERSION:2.0
PRODID:-//TCS High School - ECPv6.15.11//NONSGML v1.0//EN
CALSCALE:GREGORIAN
METHOD:PUBLISH
X-WR-CALNAME:TCS High School
X-ORIGINAL-URL:https://tcshighschool.org
X-WR-CALDESC:Events for TCS High School
REFRESH-INTERVAL;VALUE=DURATION:PT1H
X-Robots-Tag:noindex
X-PUBLISHED-TTL:PT1H
BEGIN:VTIMEZONE
TZID:America/New_York
BEGIN:DAYLIGHT
TZOFFSETFROM:-0500
TZOFFSETTO:-0400
TZNAME:EDT
DTSTART:20230312T070000
END:DAYLIGHT
BEGIN:STANDARD
TZOFFSETFROM:-0400
TZOFFSETTO:-0500
TZNAME:EST
DTSTART:20231105T060000
END:STANDARD
BEGIN:DAYLIGHT
TZOFFSETFROM:-0500
TZOFFSETTO:-0400
TZNAME:EDT
DTSTART:20240310T070000
END:DAYLIGHT
BEGIN:STANDARD
TZOFFSETFROM:-0400
TZOFFSETTO:-0500
TZNAME:EST
DTSTART:20241103T060000
END:STANDARD
BEGIN:DAYLIGHT
TZOFFSETFROM:-0500
TZOFFSETTO:-0400
TZNAME:EDT
DTSTART:20250309T070000
END:DAYLIGHT
BEGIN:STANDARD
TZOFFSETFROM:-0400
TZOFFSETTO:-0500
TZNAME:EST
DTSTART:20251102T060000
END:STANDARD
END:VTIMEZONE
BEGIN:VEVENT
DTSTART;TZID=America/New_York:20240301T113000
DTEND;TZID=America/New_York:20240301T130000
DTSTAMP:20260425T061905
CREATED:20240205T121159Z
LAST-MODIFIED:20240313T110225Z
UID:45046-1709292600-1709298000@tcshighschool.org
SUMMARY:Conversation with Marc Steiner
DESCRIPTION:Focus on the Middle East \nhttps://www.steinershow.org/about/marc-steiner/
URL:https://tcshighschool.org/event/conversation-with-marc-steiner/
CATEGORIES:Conversation
ATTACH;FMTTYPE=image/jpeg:https://tcshighschool.org/wp-content/uploads/2024/02/download.jpg
END:VEVENT
BEGIN:VEVENT
DTSTART;TZID=America/New_York:20240308T113000
DTEND;TZID=America/New_York:20240308T130000
DTSTAMP:20260425T061905
CREATED:20240301T160144Z
LAST-MODIFIED:20240306T124757Z
UID:45204-1709897400-1709902800@tcshighschool.org
SUMMARY:International Women's Day Conversation
DESCRIPTION:Ms. Carla – Karla & Ruth’s sponsor\nMs. Jenae – Rhys & Quinn’s sponsor\nMs. Tyrice – Kendall’s sponsor\nMs. Leslie – Kennedy’s sponsor\nMs. Leah – Sam’s sponsor\nMs. Penina – Ethan’s sponsor\nMs. Margaret – Ethan’s grandmother\nMs. Kate – Madison’s sponsor\nMs. Miriam – Mohamed’s sponsor
URL:https://tcshighschool.org/event/international-womens-day-conversation/
CATEGORIES:Conversation
ATTACH;FMTTYPE=image/jpeg:https://tcshighschool.org/wp-content/uploads/2024/03/download.jpg
END:VEVENT
BEGIN:VEVENT
DTSTART;TZID=America/New_York:20240312T084500
DTEND;TZID=America/New_York:20240312T100000
DTSTAMP:20260425T061905
CREATED:20240313T105503Z
LAST-MODIFIED:20240313T105503Z
UID:45335-1710233100-1710237600@tcshighschool.org
SUMMARY:Conversation with Ron Halbright
DESCRIPTION:
URL:https://tcshighschool.org/event/conversation-with-ron-halbright/
CATEGORIES:Conversation
END:VEVENT
BEGIN:VEVENT
DTSTART;TZID=America/New_York:20240315T113000
DTEND;TZID=America/New_York:20240315T130000
DTSTAMP:20260425T061905
CREATED:20240308T225023Z
LAST-MODIFIED:20240313T105630Z
UID:45293-1710502200-1710507600@tcshighschool.org
SUMMARY:Conversation with Dr. Al Scott
DESCRIPTION:https://gradimmunology.med.som.jhmi.edu/scott/
URL:https://tcshighschool.org/event/conversation-with-dr-al-scott/
CATEGORIES:Conversation
ATTACH;FMTTYPE=image/jpeg:https://tcshighschool.org/wp-content/uploads/2024/03/download-1.jpg
END:VEVENT
BEGIN:VEVENT
DTSTART;TZID=America/New_York:20240318T134500
DTEND;TZID=America/New_York:20240318T150000
DTSTAMP:20260425T061905
CREATED:20240313T105421Z
LAST-MODIFIED:20240314T154328Z
UID:45333-1710769500-1710774000@tcshighschool.org
SUMMARY:Conversation with Ulyana Bezkorovayna
DESCRIPTION:
URL:https://tcshighschool.org/event/conversation-with-ulyana-bezkorovayna-tentative/
CATEGORIES:Conversation
END:VEVENT
END:VCALENDAR