BEGIN:VCALENDAR
VERSION:2.0
PRODID:-//TCS High School - ECPv6.15.11//NONSGML v1.0//EN
CALSCALE:GREGORIAN
METHOD:PUBLISH
X-ORIGINAL-URL:https://tcshighschool.org
X-WR-CALDESC:Events for TCS High School
REFRESH-INTERVAL;VALUE=DURATION:PT1H
X-Robots-Tag:noindex
X-PUBLISHED-TTL:PT1H
BEGIN:VTIMEZONE
TZID:America/New_York
BEGIN:DAYLIGHT
TZOFFSETFROM:-0500
TZOFFSETTO:-0400
TZNAME:EDT
DTSTART:20230312T070000
END:DAYLIGHT
BEGIN:STANDARD
TZOFFSETFROM:-0400
TZOFFSETTO:-0500
TZNAME:EST
DTSTART:20231105T060000
END:STANDARD
BEGIN:DAYLIGHT
TZOFFSETFROM:-0500
TZOFFSETTO:-0400
TZNAME:EDT
DTSTART:20240310T070000
END:DAYLIGHT
BEGIN:STANDARD
TZOFFSETFROM:-0400
TZOFFSETTO:-0500
TZNAME:EST
DTSTART:20241103T060000
END:STANDARD
BEGIN:DAYLIGHT
TZOFFSETFROM:-0500
TZOFFSETTO:-0400
TZNAME:EDT
DTSTART:20250309T070000
END:DAYLIGHT
BEGIN:STANDARD
TZOFFSETFROM:-0400
TZOFFSETTO:-0500
TZNAME:EST
DTSTART:20251102T060000
END:STANDARD
END:VTIMEZONE
BEGIN:VEVENT
DTSTART;TZID=America/New_York:20240405T113000
DTEND;TZID=America/New_York:20240405T130000
DTSTAMP:20260425T073732
CREATED:20240221T143457Z
LAST-MODIFIED:20240406T005604Z
UID:45151-1712316600-1712322000@tcshighschool.org
SUMMARY:Conversation with Nygel D. Robinson
DESCRIPTION:Playwright/Performer in Mexodus at Center Stage \nNygel D. Robinson (he/him) is an artist based in Chicago\, IL and is the co writer of Mexodus. Select theatre credits include Bro. Davis/ Music Director in The Amen Corner (Shakespeare Theatre Company)\, Jimmy Powers in Lady Day (North Carolina Theatre)\, and Actor/Musician in The All Night Strut (Milwaukee Rep.) Nygel has his his hands in many other projects as a Composer/Lyricist\, Music Director\, and Music Producer. singer\, actor\, writer\, and multi-instrumentalist \n 
URL:https://tcshighschool.org/event/conversation-with-nygel-d-robinson/
CATEGORIES:Conversation
ATTACH;FMTTYPE=image/jpeg:https://tcshighschool.org/wp-content/uploads/2024/02/c-NygelRobinson__2EF21FA62E724AD288A25A29D989F43B_1674494700913.jpg
END:VEVENT
BEGIN:VEVENT
DTSTART;TZID=America/New_York:20240412T113000
DTEND;TZID=America/New_York:20240412T130000
DTSTAMP:20260425T073732
CREATED:20240229T122856Z
LAST-MODIFIED:20240409T144518Z
UID:45197-1712921400-1712926800@tcshighschool.org
SUMMARY:Conversation with Luis Sierra Moncion
DESCRIPTION:  \nhttps://studentaffairs.jhu.edu/socialconcern/staff/deputy-director/ \n 
URL:https://tcshighschool.org/event/conversation-with-jasmine-blanks-jones/
CATEGORIES:Conversation
ATTACH;FMTTYPE=image/jpeg:https://tcshighschool.org/wp-content/uploads/2024/02/download-2.jpg
END:VEVENT
BEGIN:VEVENT
DTSTART;TZID=America/New_York:20240419T113000
DTEND;TZID=America/New_York:20240419T130000
DTSTAMP:20260425T073732
CREATED:20240309T220831Z
LAST-MODIFIED:20240420T193600Z
UID:45307-1713526200-1713531600@tcshighschool.org
SUMMARY:Conversation with Israel Erron Ford and Jude Tibeau
DESCRIPTION:https://www.judetibeau.com/resume
URL:https://tcshighschool.org/event/conversation-with-center-stage-tentative/
CATEGORIES:Conversation
END:VEVENT
BEGIN:VEVENT
DTSTART;TZID=America/New_York:20240425T084500
DTEND;TZID=America/New_York:20240425T094500
DTSTAMP:20260425T073732
CREATED:20240409T223437Z
LAST-MODIFIED:20240412T200149Z
UID:45460-1714034700-1714038300@tcshighschool.org
SUMMARY:Conversation with B4YT in Liberia
DESCRIPTION:
URL:https://tcshighschool.org/event/conversation-with-b4yt-in-liberia/
CATEGORIES:Conversation
ATTACH;FMTTYPE=image/png:https://tcshighschool.org/wp-content/uploads/2024/04/images.png
END:VEVENT
BEGIN:VEVENT
DTSTART;TZID=America/New_York:20240426T113000
DTEND;TZID=America/New_York:20240426T130000
DTSTAMP:20260425T073732
CREATED:20240309T220749Z
LAST-MODIFIED:20240420T192417Z
UID:45305-1714131000-1714136400@tcshighschool.org
SUMMARY:Conversation with Antonio Garcia & Michael Rose
DESCRIPTION:
URL:https://tcshighschool.org/event/conversation-with-antonio-garcia-tentative/
CATEGORIES:Conversation
END:VEVENT
END:VCALENDAR