BEGIN:VCALENDAR
VERSION:2.0
PRODID:-//TCS High School - ECPv6.15.11//NONSGML v1.0//EN
CALSCALE:GREGORIAN
METHOD:PUBLISH
X-WR-CALNAME:TCS High School
X-ORIGINAL-URL:https://tcshighschool.org
X-WR-CALDESC:Events for TCS High School
REFRESH-INTERVAL;VALUE=DURATION:PT1H
X-Robots-Tag:noindex
X-PUBLISHED-TTL:PT1H
BEGIN:VTIMEZONE
TZID:America/New_York
BEGIN:DAYLIGHT
TZOFFSETFROM:-0500
TZOFFSETTO:-0400
TZNAME:EDT
DTSTART:20240310T070000
END:DAYLIGHT
BEGIN:STANDARD
TZOFFSETFROM:-0400
TZOFFSETTO:-0500
TZNAME:EST
DTSTART:20241103T060000
END:STANDARD
BEGIN:DAYLIGHT
TZOFFSETFROM:-0500
TZOFFSETTO:-0400
TZNAME:EDT
DTSTART:20250309T070000
END:DAYLIGHT
BEGIN:STANDARD
TZOFFSETFROM:-0400
TZOFFSETTO:-0500
TZNAME:EST
DTSTART:20251102T060000
END:STANDARD
BEGIN:DAYLIGHT
TZOFFSETFROM:-0500
TZOFFSETTO:-0400
TZNAME:EDT
DTSTART:20260308T070000
END:DAYLIGHT
BEGIN:STANDARD
TZOFFSETFROM:-0400
TZOFFSETTO:-0500
TZNAME:EST
DTSTART:20261101T060000
END:STANDARD
END:VTIMEZONE
BEGIN:VEVENT
DTSTART;TZID=America/New_York:20251106T110000
DTEND;TZID=America/New_York:20251106T123000
DTSTAMP:20260423T160357
CREATED:20250811T191459Z
LAST-MODIFIED:20251020T185250Z
UID:48860-1762426800-1762432200@tcshighschool.org
SUMMARY:Conversation with Maria Broom
DESCRIPTION:Although nationally known as an actress for her recurring roles in HBO’s The Wire and The Corner\, Maria Broom is also a storyteller and dancer with more than 40 years of experience performing and teaching in the United States and across the globe. \nhttps://www.youtube.com/watch?v=71qh-GRKTPY \nhttps://mariabroom.com/
URL:https://tcshighschool.org/event/conversation-with-maria-broom/
CATEGORIES:Conversation
ATTACH;FMTTYPE=image/jpeg:https://tcshighschool.org/wp-content/uploads/2025/08/images-copy.jpg
END:VEVENT
BEGIN:VEVENT
DTSTART;TZID=America/New_York:20251107T113000
DTEND;TZID=America/New_York:20251107T130000
DTSTAMP:20260423T160357
CREATED:20250826T154021Z
LAST-MODIFIED:20251004T201905Z
UID:49145-1762515000-1762520400@tcshighschool.org
SUMMARY:Conversation with Whitney Palmer/BCYF
DESCRIPTION:BCYF
URL:https://tcshighschool.org/event/conversation-with-mario-armstrong-tentative/
CATEGORIES:Conversation
END:VEVENT
BEGIN:VEVENT
DTSTART;TZID=America/New_York:20251114T113000
DTEND;TZID=America/New_York:20251114T130000
DTSTAMP:20260423T160357
CREATED:20250815T150207Z
LAST-MODIFIED:20250930T213326Z
UID:48957-1763119800-1763125200@tcshighschool.org
SUMMARY:Conversation with JHU-CSC
DESCRIPTION:
URL:https://tcshighschool.org/event/conversation-with-jhu-csc-tentative-2/
CATEGORIES:Conversation
END:VEVENT
BEGIN:VEVENT
DTSTART;TZID=America/New_York:20251121T113000
DTEND;TZID=America/New_York:20251121T130000
DTSTAMP:20260423T160357
CREATED:20250826T195611Z
LAST-MODIFIED:20250909T003740Z
UID:49161-1763724600-1763730000@tcshighschool.org
SUMMARY:Conversation with Christianne Knight
DESCRIPTION:Christiane Knight [she/they] is an artist\, musician\, and writer based in Baltimore\, MD. They are the author of the contemporary fantasy series Stories of the Eleriannan\, which blends faerie\, folklore\, and urban magic. Christiane has published three books and several short works in the series\, with a fourth on the way\, as well as the upcoming near-future sci-fi tale A Small Light in the Darkness (2026). \nA strong proponent of small press\, independent\, and DIY publishing\, their writing has appeared in numerous publications\, including Gibbering Madness\, Nyx Obscura\, and Ghastly. They have also edited and published three zines of their own: .:boneyard:.\, Through The Trees\, and The House of Three Ravens. \n  \nhttps://www.threeravens.net/about/ \nhttps://www.christianeknight.com/bio/
URL:https://tcshighschool.org/event/conversation-with-christianne-knight/
CATEGORIES:Conversation
ATTACH;FMTTYPE=image/jpeg:https://tcshighschool.org/wp-content/uploads/2025/08/C-Knight-Author-Photo.jpg
END:VEVENT
END:VCALENDAR