BEGIN:VCALENDAR
VERSION:2.0
PRODID:-//TCS High School - ECPv6.15.11//NONSGML v1.0//EN
CALSCALE:GREGORIAN
METHOD:PUBLISH
X-WR-CALNAME:TCS High School
X-ORIGINAL-URL:https://tcshighschool.org
X-WR-CALDESC:Events for TCS High School
REFRESH-INTERVAL;VALUE=DURATION:PT1H
X-Robots-Tag:noindex
X-PUBLISHED-TTL:PT1H
BEGIN:VTIMEZONE
TZID:America/New_York
BEGIN:DAYLIGHT
TZOFFSETFROM:-0500
TZOFFSETTO:-0400
TZNAME:EDT
DTSTART:20220313T070000
END:DAYLIGHT
BEGIN:STANDARD
TZOFFSETFROM:-0400
TZOFFSETTO:-0500
TZNAME:EST
DTSTART:20221106T060000
END:STANDARD
BEGIN:DAYLIGHT
TZOFFSETFROM:-0500
TZOFFSETTO:-0400
TZNAME:EDT
DTSTART:20230312T070000
END:DAYLIGHT
BEGIN:STANDARD
TZOFFSETFROM:-0400
TZOFFSETTO:-0500
TZNAME:EST
DTSTART:20231105T060000
END:STANDARD
BEGIN:DAYLIGHT
TZOFFSETFROM:-0500
TZOFFSETTO:-0400
TZNAME:EDT
DTSTART:20240310T070000
END:DAYLIGHT
BEGIN:STANDARD
TZOFFSETFROM:-0400
TZOFFSETTO:-0500
TZNAME:EST
DTSTART:20241103T060000
END:STANDARD
END:VTIMEZONE
BEGIN:VEVENT
DTSTART;TZID=America/New_York:20230915T113000
DTEND;TZID=America/New_York:20230915T130000
DTSTAMP:20260424T025849
CREATED:20230808T152635Z
LAST-MODIFIED:20230808T152635Z
UID:42838-1694777400-1694782800@tcshighschool.org
SUMMARY:Conversation with Megan Rivers
DESCRIPTION:https://www.wbaltv.com/news-team/079eb6b5-08ce-425a-91a2-5e527dc0f332 \nhttps://www.wbaltv.com/article/meet-wbal-tv-anchor-reporter-megan-rivers/42520087
URL:https://tcshighschool.org/event/conversation-with-megan-rivers/
CATEGORIES:Conversation
END:VEVENT
BEGIN:VEVENT
DTSTART;TZID=America/New_York:20230908T113000
DTEND;TZID=America/New_York:20230908T130000
DTSTAMP:20260424T025849
CREATED:20230808T152503Z
LAST-MODIFIED:20230808T152503Z
UID:42836-1694172600-1694178000@tcshighschool.org
SUMMARY:Conversation with TCS Trustees
DESCRIPTION:
URL:https://tcshighschool.org/event/conversation-with-tcs-trustees-2/
CATEGORIES:Conversation
END:VEVENT
BEGIN:VEVENT
DTSTART;TZID=America/New_York:20230524T103000
DTEND;TZID=America/New_York:20230524T120000
DTSTAMP:20260424T025849
CREATED:20230220T144736Z
LAST-MODIFIED:20230511T214310Z
UID:42048-1684924200-1684929600@tcshighschool.org
SUMMARY:Conversation with David DeBoy
DESCRIPTION:https://www.daviddeboy.com/writer.html
URL:https://tcshighschool.org/event/conversation-with-david-deboy-2/
CATEGORIES:Conversation
ATTACH;FMTTYPE=image/jpeg:https://tcshighschool.org/wp-content/uploads/2023/02/download.jpg
END:VEVENT
BEGIN:VEVENT
DTSTART;TZID=America/New_York:20230519T113000
DTEND;TZID=America/New_York:20230519T130000
DTSTAMP:20260424T025849
CREATED:20230413T154612Z
LAST-MODIFIED:20230519T215850Z
UID:42515-1684495800-1684501200@tcshighschool.org
SUMMARY:Conversation with The Abell foundation
DESCRIPTION:Joe Manko\, Kashanae Simpson and Liz Tung
URL:https://tcshighschool.org/event/conversaation-with-joe-manko/
CATEGORIES:Conversation
ATTACH;FMTTYPE=image/jpeg:https://tcshighschool.org/wp-content/uploads/2023/04/Joe-768x768-1.jpg
END:VEVENT
BEGIN:VEVENT
DTSTART;TZID=America/New_York:20230505T113000
DTEND;TZID=America/New_York:20230505T130000
DTSTAMP:20260424T025849
CREATED:20230405T143840Z
LAST-MODIFIED:20230429T122921Z
UID:42486-1683286200-1683291600@tcshighschool.org
SUMMARY:Conversation with Dr. Jasmine Blanks Jones
DESCRIPTION:Executive Director\nCenter for Social Concern\nJohns Hopkins University
URL:https://tcshighschool.org/event/conversation-with-dr-jasmine-blanks-jones/
CATEGORIES:Conversation
ATTACH;FMTTYPE=image/jpeg:https://tcshighschool.org/wp-content/uploads/2023/04/Screen-Shot-2023-04-29-at-8.26.59-AM.jpeg
END:VEVENT
BEGIN:VEVENT
DTSTART;TZID=America/New_York:20230501T123000
DTEND;TZID=America/New_York:20230501T133000
DTSTAMP:20260424T025849
CREATED:20230113T003404Z
LAST-MODIFIED:20230417T112623Z
UID:41754-1682944200-1682947800@tcshighschool.org
SUMMARY:Conversation with Doris Hollister
DESCRIPTION:
URL:https://tcshighschool.org/event/conversation-with-doris-hollister/
CATEGORIES:Conversation
END:VEVENT
BEGIN:VEVENT
DTSTART;TZID=America/New_York:20230424T123000
DTEND;TZID=America/New_York:20230424T140000
DTSTAMP:20260424T025849
CREATED:20230112T145312Z
LAST-MODIFIED:20230406T132515Z
UID:41749-1682339400-1682344800@tcshighschool.org
SUMMARY:Conversation with John Brenner & Philippia Richardson
DESCRIPTION:
URL:https://tcshighschool.org/event/conversation-with-john-brenner-philippia-richardson-2/
CATEGORIES:Conversation
END:VEVENT
BEGIN:VEVENT
DTSTART;TZID=America/New_York:20230421T113000
DTEND;TZID=America/New_York:20230421T130000
DTSTAMP:20260424T025849
CREATED:20230320T110058Z
LAST-MODIFIED:20230326T161250Z
UID:42324-1682076600-1682082000@tcshighschool.org
SUMMARY:Conversation with Marc Stiener
DESCRIPTION:https://www.steinershow.org/about/marc-steiner/
URL:https://tcshighschool.org/event/conversation-with-marc-stiener/
CATEGORIES:Conversation
ATTACH;FMTTYPE=image/jpeg:https://tcshighschool.org/wp-content/uploads/2023/03/images-2.jpg
END:VEVENT
BEGIN:VEVENT
DTSTART;TZID=America/New_York:20230420T123000
DTEND;TZID=America/New_York:20230420T133000
DTSTAMP:20260424T025849
CREATED:20230321T110310Z
LAST-MODIFIED:20230417T135537Z
UID:42348-1681993800-1681997400@tcshighschool.org
SUMMARY:Conversation with Dr. Ron & Barbara Walcher 
DESCRIPTION:Caroline Davies
URL:https://tcshighschool.org/event/conversation-with-dr-ron-barbara-walcher-tentative/
CATEGORIES:Conversation
ATTACH;FMTTYPE=image/jpeg:https://tcshighschool.org/wp-content/uploads/2023/03/75429369_10156263321846652_5950295258641203200_n.jpg
END:VEVENT
BEGIN:VEVENT
DTSTART;TZID=America/New_York:20230414T113000
DTEND;TZID=America/New_York:20230414T130000
DTSTAMP:20260424T025849
CREATED:20230406T132431Z
LAST-MODIFIED:20230406T132431Z
UID:42491-1681471800-1681477200@tcshighschool.org
SUMMARY:Conversation with DJ Sean Armstrong
DESCRIPTION:
URL:https://tcshighschool.org/event/conversation-with-dj-sean-armstrong/
CATEGORIES:Conversation
END:VEVENT
BEGIN:VEVENT
DTSTART;TZID=America/New_York:20230331T113000
DTEND;TZID=America/New_York:20230331T130000
DTSTAMP:20260424T025849
CREATED:20230221T222628Z
LAST-MODIFIED:20230222T002031Z
UID:42063-1680262200-1680267600@tcshighschool.org
SUMMARY:Conversation with Farid Bishara Salloum
DESCRIPTION:https://www.babaskitchen.net/story.html \nhttps://sparkvisionnow.com/culture-keeper-feature-babas-mediterranean-kitchen/
URL:https://tcshighschool.org/event/conversation-with-farid-bishara-salloum/
CATEGORIES:Conversation
ATTACH;FMTTYPE=image/jpeg:https://tcshighschool.org/wp-content/uploads/2023/02/download-2-2.jpg
END:VEVENT
BEGIN:VEVENT
DTSTART;TZID=America/New_York:20230324T113000
DTEND;TZID=America/New_York:20230324T130000
DTSTAMP:20260424T025849
CREATED:20230107T171713Z
LAST-MODIFIED:20230302T170620Z
UID:41716-1679657400-1679662800@tcshighschool.org
SUMMARY:Conversation with Ron Halbright
DESCRIPTION:
URL:https://tcshighschool.org/event/conversation-with-ron-halbright-tentative/
CATEGORIES:Conversation
ATTACH;FMTTYPE=image/jpeg:https://tcshighschool.org/wp-content/uploads/2023/01/Screen-Shot-2023-02-19-at-6.32.53-PM-1.jpeg
END:VEVENT
BEGIN:VEVENT
DTSTART;TZID=America/New_York:20230324T090000
DTEND;TZID=America/New_York:20230324T101500
DTSTAMP:20260424T025849
CREATED:20230218T222627Z
LAST-MODIFIED:20230311T161719Z
UID:42007-1679648400-1679652900@tcshighschool.org
SUMMARY:Conversation with Teri Henderson
DESCRIPTION:Author of Black Collagists: The Book\, is an experienced Art curator and writer and is currently the Arts & Culture Editor for Baltimore Beat
URL:https://tcshighschool.org/event/conversation-with-teri-henderson-tentative/
CATEGORIES:Conversation
ATTACH;FMTTYPE=image/jpeg:https://tcshighschool.org/wp-content/uploads/2023/02/download-2-1.jpg
END:VEVENT
BEGIN:VEVENT
DTSTART;TZID=America/New_York:20230320T110000
DTEND;TZID=America/New_York:20230320T120000
DTSTAMP:20260424T025849
CREATED:20230317T142843Z
LAST-MODIFIED:20230317T142843Z
UID:42307-1679310000-1679313600@tcshighschool.org
SUMMARY:Conversation with Cheryl Waters
DESCRIPTION:
URL:https://tcshighschool.org/event/conversation-with-cheryl-waters/
CATEGORIES:Conversation
END:VEVENT
BEGIN:VEVENT
DTSTART;TZID=America/New_York:20230317T113000
DTEND;TZID=America/New_York:20230317T130000
DTSTAMP:20260424T025849
CREATED:20230215T173758Z
LAST-MODIFIED:20230220T122537Z
UID:41984-1679052600-1679058000@tcshighschool.org
SUMMARY:Conversation with Imani Yasin
DESCRIPTION:Imani Yasin is a hip-hop artist with an undeniable sound. After tapping into her passion for rapping\, singing\, and songwriting\, she has never ceased to improve her craft. As a native of Baltimore\, MD\, she brings an interesting perspective and unique experience to the world of music. Imani’s inspiration to create music is a direct result of her love for R&B\, but listening to rap’s coveted storytellers is what gave her the confidence to unapologetically share her own. \nImani started creating her own music in high school\, when she got a hold of a friend’s laptop and discovered GarageBand. Then\, it was just fun and games – but college grew her real passion for the craft. As a freshman at Philadelphia University\, she constantly recorded in a dorm room with one of her best friends. From there she began to explore various sounds\, fearlessly covering an array of topics – including her relationships\, struggles\, triumphs\, and quest to success. Now\, Imani has crafted a unique style of her own in which she incorporates both rapping and singing\, using elements of hip-hop\, R&B\, pop\, and house. \nShe has a voice that you instantly recognize\, but a versatility that keeps you on your toes. This versatility shows it’s face in her artistry\, but also in her life as a whole. In addition to being an independent artist\, Imani is also a youth advocate\, educator\, mentor\, and facilitator who has committed herself to leading and developing catalysts for positive change by working alongside Baltimore City youth and adults since 2007. Imani’s track record includes being an elementary school teacher\, race and equity facilitator\, high school program director\, mentoring consultant\, and athletic coach. She is currently the Director of Baltimore’s Project SERVE – a workforce development program that primarily serves individuals who are transitioning into communities post incarceration. \nAlthough a long time artist\, Imani is just beginning to make her mark with songs like “Lime Light” and “Watch Yo Mouth”. Follow her journey to explore her sound and to learn even more about what she can do both with and without a microphone. \nhttps://www.imaniyasin.com/
URL:https://tcshighschool.org/event/conversation-with-imani-yasin-4/
CATEGORIES:Conversation
ATTACH;FMTTYPE=image/jpeg:https://tcshighschool.org/wp-content/uploads/2023/02/A38EBCC4-177A-4D48-AFD3-4242577D65F8-2.jpg
END:VEVENT
BEGIN:VEVENT
DTSTART;TZID=America/New_York:20230313T123000
DTEND;TZID=America/New_York:20230313T140000
DTSTAMP:20260424T025849
CREATED:20230221T171633Z
LAST-MODIFIED:20230221T195145Z
UID:42061-1678710600-1678716000@tcshighschool.org
SUMMARY:Conversation Margaret\, Rita & Penina Jobita
DESCRIPTION:
URL:https://tcshighschool.org/event/conversation-margaret-rita-penina-jobita/
CATEGORIES:Conversation
END:VEVENT
BEGIN:VEVENT
DTSTART;TZID=America/New_York:20230310T113000
DTEND;TZID=America/New_York:20230310T130000
DTSTAMP:20260424T025849
CREATED:20230124T000850Z
LAST-MODIFIED:20230303T114124Z
UID:41841-1678447800-1678453200@tcshighschool.org
SUMMARY:Conversation with Jessica Bancroft & Colleagues
DESCRIPTION:Maryland Office of the Public Defender\nJessica Bancroft\, District Court Supervisor Baltimore County\nGayle Robinson\, Deputy District Public Defender Baltimore County\nLayne Pierre\, Circuit Court Supervisor Baltimore County.
URL:https://tcshighschool.org/event/conversation-with-jessica-russo/
CATEGORIES:Conversation
ATTACH;FMTTYPE=image/jpeg:https://tcshighschool.org/wp-content/uploads/2023/01/download-5.jpg
END:VEVENT
BEGIN:VEVENT
DTSTART;TZID=America/New_York:20230228T093000
DTEND;TZID=America/New_York:20230228T103000
DTSTAMP:20260424T025849
CREATED:20230303T121230Z
LAST-MODIFIED:20230303T121230Z
UID:42132-1677576600-1677580200@tcshighschool.org
SUMMARY:Conversation with John Brenner & Philippia Richardson?
DESCRIPTION:University of Baltimore\, Office of Dual Enrollment
URL:https://tcshighschool.org/event/conversation-with-john-brenner-philippia-richardson-3/
CATEGORIES:Conversation
END:VEVENT
BEGIN:VEVENT
DTSTART;TZID=America/New_York:20230224T113000
DTEND;TZID=America/New_York:20230224T130000
DTSTAMP:20260424T025849
CREATED:20230218T192832Z
LAST-MODIFIED:20230224T233240Z
UID:42005-1677238200-1677243600@tcshighschool.org
SUMMARY:Conversation with Margaret Murphy
DESCRIPTION:Margaret Murphy is a three time National Emmy Award winning producer/director/writer/editor whose work covers the areas of news\, documentary\, sports and children’s programming as well as dramatic features. She began her career at Sesame Street producing and editing dozens of short films for the series and went on to co-create the pilot for “Animals\, Animals\, Animals”\, ABC’s Emmy and Peabody Award winning childrens’ series. She received a Video of the Year Grammy Award nomination for “Fun and Games” an interactive DVD for children featuring Bill Murray\, Meadowlark Lemon of the Harlem Globetrotters and prominent Broadway performers. She also created the first sports special for Nickelodeon\, “Circles and Spins” based on a figure skating competition. At CBS News\, she served as a chief editor for “60 Minutes” and “The Mike Wallace Profiles”. \nShe won her first National Emmy as an editor with the ABC Sports’ Olympic Unit and won another National Emmy as a Producer for ABC’s Nightline. For the PBS series\, Smithsonian World\, she won a National Emmy for her profile of Anne Morrow Lindbergh\, an honor shared with noted historian David McCullough. \nShe was later hired by legendary Creative Director\, Bill Backer as a producer/editor at McCann-Erickson Worldwide to work on the Coca-Cola account for two years. \nShe developed two stories that became CBS Movies\, Christmas Comes to Willow Creek and\, for Belzberg/Murphy Productions\, “Unforgiveable” focusing on domestic abuse of women. She was also a producer for Lifetime specials with Christie Brinkley\, Willow Bay and Elizabeth Vargas. \nShe served as a member of the original staff of Dateline NBC where she produced more than twenty major features and suggested the title for the series which was inspired by her time at Nightline. For Bloomberg TV\, she was the recipient of the LA Press Club Award for Best Profile\, an hour documentary on Rupert Murdoch. \nHer independent films including “They Are Their Own Gifts” (a trilogy featuring painter Alice Neel\, poet Muriel Rukeyser and choreographer Anna Sokolow) have been honored at the New York Film Festival as well as festivals in Berlin\, Edinburgh\, Chicago\, Houston and Denver. “Alice Neel-Painter” co-produced with Lucille Rhodes on the iconic artist was chosen for streaming on the Metropolitan Museum’s web site for their Out of the Archive Festival. The film celebrated the Met’s major exhibition of Neel’s work in 2021.
URL:https://tcshighschool.org/event/conversation-with-margaret-murphy/
CATEGORIES:Conversation
ATTACH;FMTTYPE=image/jpeg:https://tcshighschool.org/wp-content/uploads/2023/02/DSC_0025-2.jpg
END:VEVENT
BEGIN:VEVENT
DTSTART;TZID=America/New_York:20230217T113000
DTEND;TZID=America/New_York:20230217T130000
DTSTAMP:20260424T025849
CREATED:20230102T022117Z
LAST-MODIFIED:20230211T131511Z
UID:41644-1676633400-1676638800@tcshighschool.org
SUMMARY:Conversation with Megan Emdad/Gary Bozel & Associates
DESCRIPTION:
URL:https://tcshighschool.org/event/conversation-wit-gary-bozel-associates/
CATEGORIES:Conversation
ATTACH;FMTTYPE=image/jpeg:https://tcshighschool.org/wp-content/uploads/2023/01/1611807998288-1.jpg
END:VEVENT
BEGIN:VEVENT
DTSTART;TZID=America/New_York:20230216T113000
DTEND;TZID=America/New_York:20230216T140000
DTSTAMP:20260424T025849
CREATED:20230104T220307Z
LAST-MODIFIED:20230220T130133Z
UID:41661-1676547000-1676556000@tcshighschool.org
SUMMARY:Conversation with ACIM including Field Trip & Lunch to GIa's in Little Italy
DESCRIPTION:https://cafegiabaltimore.com/cafe-gia-baltimore-italian-restaurant/
URL:https://tcshighschool.org/event/volunteer-day-franciscan-center/
CATEGORIES:Conversation
ATTACH;FMTTYPE=image/jpeg:https://tcshighschool.org/wp-content/uploads/2023/01/IMG_2240.jpeg
END:VEVENT
BEGIN:VEVENT
DTSTART;TZID=America/New_York:20230214T110000
DTEND;TZID=America/New_York:20230214T120000
DTSTAMP:20260424T025849
CREATED:20230211T160818Z
LAST-MODIFIED:20230211T233359Z
UID:41971-1676372400-1676376000@tcshighschool.org
SUMMARY:Conversation with Dr. Steve Plantholt
DESCRIPTION:
URL:https://tcshighschool.org/event/conversation-with-dr-steve-plantholt/
CATEGORIES:Conversation
ATTACH;FMTTYPE=image/jpeg:https://tcshighschool.org/wp-content/uploads/2023/02/PlantholtStephenJ_1265426274-2.jpg
END:VEVENT
BEGIN:VEVENT
DTSTART;TZID=America/New_York:20230210T113000
DTEND;TZID=America/New_York:20230210T130000
DTSTAMP:20260424T025849
CREATED:20221231T141440Z
LAST-MODIFIED:20230127T154722Z
UID:41607-1676028600-1676034000@tcshighschool.org
SUMMARY:Conversation with Rona Kobell
DESCRIPTION:Rona Kobell is the co-founder and founding editor of the Environmental Justice Journalism Initiative. Rona spent nine years at The Baltimore Sun and then eight at the Chesapeake Bay Journal. She was editor of Chesapeake Quarterly\, a magazine Maryland Sea Grant produces\, as well as a producer for several films about environmental justice. She will graduate in May with a Master’s of Arts from University of Maryland’s Philip Merrill College of Journalism\, where she created and teaches an environmental justice course. She is also teaching an honors course at UMBC focusing on sounds of environmental justice. She is a graduate of the University of Michigan and was a Knight-Wallace fellow at the university.
URL:https://tcshighschool.org/event/conversation-with-ronal-kobell/
CATEGORIES:Conversation
ATTACH;FMTTYPE=image/jpeg:https://tcshighschool.org/wp-content/uploads/2022/12/DSC_0009-2.jpg
END:VEVENT
BEGIN:VEVENT
DTSTART;TZID=America/New_York:20230203T113000
DTEND;TZID=America/New_York:20230203T130000
DTSTAMP:20260424T025849
CREATED:20230104T173833Z
LAST-MODIFIED:20230201T013043Z
UID:41659-1675423800-1675429200@tcshighschool.org
SUMMARY:Conversation with Mike Gallo
DESCRIPTION:
URL:https://tcshighschool.org/event/conversation-with-mystery-guest/
CATEGORIES:Conversation
END:VEVENT
BEGIN:VEVENT
DTSTART;TZID=America/New_York:20230201T123000
DTEND;TZID=America/New_York:20230201T143000
DTSTAMP:20260424T025849
CREATED:20220721T121548Z
LAST-MODIFIED:20230117T014504Z
UID:40354-1675254600-1675261800@tcshighschool.org
SUMMARY:Conversation with Author Michele Bacon
DESCRIPTION:
URL:https://tcshighschool.org/event/art-class-tentative-2023-02-01/
CATEGORIES:Conversation
ATTACH;FMTTYPE=image/jpeg:https://tcshighschool.org/wp-content/uploads/2022/07/download-2-2.jpg
END:VEVENT
BEGIN:VEVENT
DTSTART;TZID=America/New_York:20230127T113000
DTEND;TZID=America/New_York:20230127T130000
DTSTAMP:20260424T025849
CREATED:20220815T143624Z
LAST-MODIFIED:20230117T014422Z
UID:40586-1674819000-1674824400@tcshighschool.org
SUMMARY:Conversation with Larry Gross
DESCRIPTION:Larry”s mom was a survivor of the Auschwitz concentration camp
URL:https://tcshighschool.org/event/conversation-with-larry-gross-2/
CATEGORIES:Conversation
ATTACH;FMTTYPE=image/jpeg:https://tcshighschool.org/wp-content/uploads/2022/08/download-1-2.jpg
END:VEVENT
BEGIN:VEVENT
DTSTART;TZID=America/New_York:20230120T113000
DTEND;TZID=America/New_York:20230120T133000
DTSTAMP:20260424T025849
CREATED:20221219T125118Z
LAST-MODIFIED:20221226T184931Z
UID:41542-1674214200-1674221400@tcshighschool.org
SUMMARY:Conversation with Bridgette Pearce
DESCRIPTION:CASA\, Baltimore County
URL:https://tcshighschool.org/event/conversation-with-bridgette-pearce/
CATEGORIES:Conversation
ATTACH;FMTTYPE=image/jpeg:https://tcshighschool.org/wp-content/uploads/2022/12/download-1-2-2.jpg
END:VEVENT
BEGIN:VEVENT
DTSTART;TZID=America/New_York:20230113T113000
DTEND;TZID=America/New_York:20230113T130000
DTSTAMP:20260424T025849
CREATED:20221210T190410Z
LAST-MODIFIED:20221226T184803Z
UID:41475-1673609400-1673614800@tcshighschool.org
SUMMARY:Conversation with Stevanie Williams and Parrish Allison
DESCRIPTION:WombWork Production artists\, Stevanie Williams\, the creator of The Channeling of Ms. Sybby Grant and Parrish Allison
URL:https://tcshighschool.org/event/conversation-with-stevanie-williams-and-parrish-allison/
CATEGORIES:Conversation
ATTACH;FMTTYPE=image/jpeg:https://tcshighschool.org/wp-content/uploads/2022/12/download-3-2-1.jpg
END:VEVENT
BEGIN:VEVENT
DTSTART;TZID=America/New_York:20230106T113000
DTEND;TZID=America/New_York:20230106T130000
DTSTAMP:20260424T025849
CREATED:20230103T013451Z
LAST-MODIFIED:20230103T013949Z
UID:41652-1673004600-1673010000@tcshighschool.org
SUMMARY:Conversation with Jim Burger
DESCRIPTION:Photojournalist \n 
URL:https://tcshighschool.org/event/conversation-with-jim-burger-4/
CATEGORIES:Conversation
END:VEVENT
BEGIN:VEVENT
DTSTART;TZID=America/New_York:20230102T123000
DTEND;TZID=America/New_York:20230102T134500
DTSTAMP:20260424T025849
CREATED:20221210T232112Z
LAST-MODIFIED:20221224T152041Z
UID:41479-1672662600-1672667100@tcshighschool.org
SUMMARY:Conversation with Ed Meade
DESCRIPTION:Report on hist trip to Antarctica
URL:https://tcshighschool.org/event/conversation-with-ed-meade/
CATEGORIES:Conversation
END:VEVENT
END:VCALENDAR