BEGIN:VCALENDAR
VERSION:2.0
PRODID:-//TCS High School - ECPv6.15.11//NONSGML v1.0//EN
CALSCALE:GREGORIAN
METHOD:PUBLISH
X-ORIGINAL-URL:https://tcshighschool.org
X-WR-CALDESC:Events for TCS High School
REFRESH-INTERVAL;VALUE=DURATION:PT1H
X-Robots-Tag:noindex
X-PUBLISHED-TTL:PT1H
BEGIN:VTIMEZONE
TZID:America/New_York
BEGIN:DAYLIGHT
TZOFFSETFROM:-0500
TZOFFSETTO:-0400
TZNAME:EDT
DTSTART:20210314T070000
END:DAYLIGHT
BEGIN:STANDARD
TZOFFSETFROM:-0400
TZOFFSETTO:-0500
TZNAME:EST
DTSTART:20211107T060000
END:STANDARD
BEGIN:DAYLIGHT
TZOFFSETFROM:-0500
TZOFFSETTO:-0400
TZNAME:EDT
DTSTART:20220313T070000
END:DAYLIGHT
BEGIN:STANDARD
TZOFFSETFROM:-0400
TZOFFSETTO:-0500
TZNAME:EST
DTSTART:20221106T060000
END:STANDARD
BEGIN:DAYLIGHT
TZOFFSETFROM:-0500
TZOFFSETTO:-0400
TZNAME:EDT
DTSTART:20230312T070000
END:DAYLIGHT
BEGIN:STANDARD
TZOFFSETFROM:-0400
TZOFFSETTO:-0500
TZNAME:EST
DTSTART:20231105T060000
END:STANDARD
END:VTIMEZONE
BEGIN:VEVENT
DTSTART;TZID=America/New_York:20221014T113000
DTEND;TZID=America/New_York:20221014T130000
DTSTAMP:20260424T092416
CREATED:20220915T000329Z
LAST-MODIFIED:20221001T175957Z
UID:40920-1665747000-1665752400@tcshighschool.org
SUMMARY:Conversation with Sean Yoes
DESCRIPTION:
URL:https://tcshighschool.org/event/conversation-with-d-watkins-tentative/
CATEGORIES:Conversation
ATTACH;FMTTYPE=image/jpeg:https://tcshighschool.org/wp-content/uploads/2022/05/Me-Ibu.jpeg
END:VEVENT
BEGIN:VEVENT
DTSTART;TZID=America/New_York:20221007T113000
DTEND;TZID=America/New_York:20221007T130000
DTSTAMP:20260424T092416
CREATED:20220830T180141Z
LAST-MODIFIED:20221001T180611Z
UID:40746-1665142200-1665147600@tcshighschool.org
SUMMARY:Conversation with Rikki Vaughn & Candice Green
DESCRIPTION:
URL:https://tcshighschool.org/event/conversation-with-rikki-vaughn/
CATEGORIES:Conversation
ATTACH;FMTTYPE=image/jpeg:https://tcshighschool.org/wp-content/uploads/2022/08/Screen-Shot-2022-10-01-at-1.42.19-PM-2.jpeg
END:VEVENT
BEGIN:VEVENT
DTSTART;TZID=America/New_York:20220930T113000
DTEND;TZID=America/New_York:20220930T130000
DTSTAMP:20260424T092416
CREATED:20220822T212959Z
LAST-MODIFIED:20220924T180411Z
UID:40681-1664537400-1664542800@tcshighschool.org
SUMMARY:Conversation with Director Stevie Walker-Webb
DESCRIPTION:Stevie Walker-Webb
URL:https://tcshighschool.org/event/conversation-withstevie-walker-webb/
CATEGORIES:Conversation
ATTACH;FMTTYPE=image/jpeg:https://tcshighschool.org/wp-content/uploads/2022/08/c13ddd5ad65a1d3fb6d8ff87a81a6a1a-screen-shot-2020-08-21-at-1.17.49-PM-2.jpg
END:VEVENT
BEGIN:VEVENT
DTSTART;TZID=America/New_York:20220928T123000
DTEND;TZID=America/New_York:20220928T133000
DTSTAMP:20260424T092416
CREATED:20220910T214950Z
LAST-MODIFIED:20220911T200847Z
UID:40852-1664368200-1664371800@tcshighschool.org
SUMMARY:Conversation with Alumni in College
DESCRIPTION:
URL:https://tcshighschool.org/event/conversation-with-alumni-2/
CATEGORIES:Conversation
END:VEVENT
BEGIN:VEVENT
DTSTART;TZID=America/New_York:20220923T113000
DTEND;TZID=America/New_York:20220923T130000
DTSTAMP:20260424T092416
CREATED:20220823T205940Z
LAST-MODIFIED:20220918T175450Z
UID:40693-1663932600-1663938000@tcshighschool.org
SUMMARY:Conversation with Chef Steve Albright
DESCRIPTION:
URL:https://tcshighschool.org/event/conversation-with-chef-steve-albright/
CATEGORIES:Conversation
ATTACH;FMTTYPE=image/jpeg:https://tcshighschool.org/wp-content/uploads/2022/08/steve.jpg
END:VEVENT
BEGIN:VEVENT
DTSTART;TZID=America/New_York:20220916T113000
DTEND;TZID=America/New_York:20220916T130000
DTSTAMP:20260424T092416
CREATED:20220825T145329Z
LAST-MODIFIED:20220910T033119Z
UID:40702-1663327800-1663333200@tcshighschool.org
SUMMARY:Conversation with Janiah Tillary
DESCRIPTION:
URL:https://tcshighschool.org/event/conversation-with-alumni/
CATEGORIES:Conversation
END:VEVENT
BEGIN:VEVENT
DTSTART;TZID=America/New_York:20220914T123000
DTEND;TZID=America/New_York:20220914T140000
DTSTAMP:20260424T092416
CREATED:20220810T205440Z
LAST-MODIFIED:20220830T203123Z
UID:40541-1663158600-1663164000@tcshighschool.org
SUMMARY:Conversation with Joe McAleer\,  Patrick Monaghan & Kathleen Gower
DESCRIPTION:Berman McAleer partners
URL:https://tcshighschool.org/event/conversation-with-joe-mcaleer/
CATEGORIES:Conversation
END:VEVENT
BEGIN:VEVENT
DTSTART;TZID=America/New_York:20220912T123000
DTEND;TZID=America/New_York:20220912T133000
DTSTAMP:20260424T092416
CREATED:20220826T133211Z
LAST-MODIFIED:20220826T133211Z
UID:40714-1662985800-1662989400@tcshighschool.org
SUMMARY:Conversation with Liz Dover
DESCRIPTION:Head of The GreenMount School
URL:https://tcshighschool.org/event/conversation-with-liz-dover/
CATEGORIES:Conversation
END:VEVENT
BEGIN:VEVENT
DTSTART;TZID=America/New_York:20220909T113000
DTEND;TZID=America/New_York:20220909T130000
DTSTAMP:20260424T092416
CREATED:20220723T013459Z
LAST-MODIFIED:20220910T010331Z
UID:40323-1662723000-1662728400@tcshighschool.org
SUMMARY:Conversation with TCS Trustees
DESCRIPTION:
URL:https://tcshighschool.org/event/conversation-with-tcs-trustees/
CATEGORIES:Conversation,Upcoming Events
ATTACH;FMTTYPE=image/jpeg:https://tcshighschool.org/wp-content/uploads/2022/07/DSC_0077.jpg
END:VEVENT
END:VCALENDAR