BEGIN:VCALENDAR
VERSION:2.0
PRODID:-//TCS High School - ECPv6.15.11//NONSGML v1.0//EN
CALSCALE:GREGORIAN
METHOD:PUBLISH
X-WR-CALNAME:TCS High School
X-ORIGINAL-URL:https://tcshighschool.org
X-WR-CALDESC:Events for TCS High School
REFRESH-INTERVAL;VALUE=DURATION:PT1H
X-Robots-Tag:noindex
X-PUBLISHED-TTL:PT1H
BEGIN:VTIMEZONE
TZID:America/New_York
BEGIN:DAYLIGHT
TZOFFSETFROM:-0500
TZOFFSETTO:-0400
TZNAME:EDT
DTSTART:20240310T070000
END:DAYLIGHT
BEGIN:STANDARD
TZOFFSETFROM:-0400
TZOFFSETTO:-0500
TZNAME:EST
DTSTART:20241103T060000
END:STANDARD
BEGIN:DAYLIGHT
TZOFFSETFROM:-0500
TZOFFSETTO:-0400
TZNAME:EDT
DTSTART:20250309T070000
END:DAYLIGHT
BEGIN:STANDARD
TZOFFSETFROM:-0400
TZOFFSETTO:-0500
TZNAME:EST
DTSTART:20251102T060000
END:STANDARD
BEGIN:DAYLIGHT
TZOFFSETFROM:-0500
TZOFFSETTO:-0400
TZNAME:EDT
DTSTART:20260308T070000
END:DAYLIGHT
BEGIN:STANDARD
TZOFFSETFROM:-0400
TZOFFSETTO:-0500
TZNAME:EST
DTSTART:20261101T060000
END:STANDARD
END:VTIMEZONE
BEGIN:VEVENT
DTSTART;TZID=America/New_York:20250919T113000
DTEND;TZID=America/New_York:20250919T130000
DTSTAMP:20260423T163239
CREATED:20250919T142546Z
LAST-MODIFIED:20250919T142806Z
UID:49490-1758281400-1758286800@tcshighschool.org
SUMMARY:Conversation with John Tyler
DESCRIPTION:https://www.baltimoremagazine.com/section/artsentertainment/gamechanger-john-tyler-musician-producer-love-groove-music-festival/
URL:https://tcshighschool.org/event/conversation-with-john-tyler/
CATEGORIES:Conversation
ATTACH;FMTTYPE=image/jpeg:https://tcshighschool.org/wp-content/uploads/2025/09/02122023_Arts_John-Tyler-10-scaled-1.jpeg
END:VEVENT
BEGIN:VEVENT
DTSTART;TZID=America/New_York:20250912T113000
DTEND;TZID=America/New_York:20250912T130000
DTSTAMP:20260423T163239
CREATED:20250819T232135Z
LAST-MODIFIED:20250913T131943Z
UID:48968-1757676600-1757682000@tcshighschool.org
SUMMARY:Conversation with Safiyah Cheatam
DESCRIPTION:Safiyah Cheatam is a multimedia artist\, researcher\, and storyteller of Black Islam in the U.S. and Afrofuturism. For 10 years\, she has enriched Baltimore with community engagement in arts education\, currently serving as the Assistant Manager of Teen and Career Development Programs at the Walters Art Museum. She is a recipient of the Washington Project for the Arts’ Wherewithal Research and Project Grant\, Red Bull Arts Microgrant\, Rubys Artist Grant\, and VisArts’ Fleur and Charles Bresler Residency. Safiyah has been featured in The Washington Post\, NBC News\, BmoreArt\, and has exhibited artworks nationally. She received a Master’s of Fine Arts from UMBC and is in her 5th year of serving on the philanthropic Awesome Foundation board of trustees. \nDan Flounders is a Baltimore-based Muslim printmaker and designer. He was a resident artist at Vermont Studio Center in 2023\, a resident artist at The CAN Foundation in 2023\, a 2021 Denbo Fellow at Pyramid Atlantic\, and has completed printmaking apprenticeships at Studio1026 and Brick + Mortar Design Studio. Flounders has exhibited work regionally at Gormley Gallery\, Assembly NFK\, CAN Foundation\, Johns Hopkins University\, VisArts\, HOCO\, Maryland Institute College of Art\, Martin Luther King Jr. Memorial Library\, Philadelphia University\, Pyramid Atlantic\, Notre Dame of Maryland University\, Space1026\, and Brick + Mortar Gallery. He holds a BFA in Design and Printmaking from Maryland Institute College of Art (MICA). \nhttps://bmoreart.com/event/heirloom-islam-print-cohort-exhibition
URL:https://tcshighschool.org/event/conversation-with-safiyah-and-dan/
CATEGORIES:Conversation
ATTACH;FMTTYPE=image/jpeg:https://tcshighschool.org/wp-content/uploads/2025/08/Dan-Flouners_Bmore-ART_2023-09-11_TSUCALAS_2C7A5532-copy.jpg
END:VEVENT
BEGIN:VEVENT
DTSTART;TZID=America/New_York:20250905T113000
DTEND;TZID=America/New_York:20250905T130000
DTSTAMP:20260423T163239
CREATED:20250418T125445Z
LAST-MODIFIED:20250418T125445Z
UID:48386-1757071800-1757077200@tcshighschool.org
SUMMARY:Conversation with TCS Trustees
DESCRIPTION:
URL:https://tcshighschool.org/event/conversation-with-tcs-trustees-4/
CATEGORIES:Conversation
END:VEVENT
BEGIN:VEVENT
DTSTART;TZID=America/New_York:20250529T093000
DTEND;TZID=America/New_York:20250529T110000
DTSTAMP:20260423T163239
CREATED:20250408T161218Z
LAST-MODIFIED:20250529T170209Z
UID:48292-1748511000-1748516400@tcshighschool.org
SUMMARY:Conversation with Megan Rivers
DESCRIPTION:
URL:https://tcshighschool.org/event/conversation-with-center-stage-tentative-5/
CATEGORIES:Conversation
END:VEVENT
BEGIN:VEVENT
DTSTART;TZID=America/New_York:20250522T124500
DTEND;TZID=America/New_York:20250522T140000
DTSTAMP:20260423T163239
CREATED:20250409T214143Z
LAST-MODIFIED:20250519T145838Z
UID:48327-1747917900-1747922400@tcshighschool.org
SUMMARY:Conversation with Imani Yasin
DESCRIPTION:
URL:https://tcshighschool.org/event/conversation-with-imani-yasin-5/
CATEGORIES:Conversation
ATTACH;FMTTYPE=image/jpeg:https://tcshighschool.org/wp-content/uploads/2025/04/download-2-1.jpg
END:VEVENT
BEGIN:VEVENT
DTSTART;TZID=America/New_York:20250522T103000
DTEND;TZID=America/New_York:20250522T123000
DTSTAMP:20260423T163239
CREATED:20250523T002811Z
LAST-MODIFIED:20250523T002811Z
UID:48617-1747909800-1747917000@tcshighschool.org
SUMMARY:Conversation with Paul Coates
DESCRIPTION:
URL:https://tcshighschool.org/event/conversation-with-paul-coates-3/
CATEGORIES:Conversation
END:VEVENT
BEGIN:VEVENT
DTSTART;TZID=America/New_York:20250521T134500
DTEND;TZID=America/New_York:20250521T150000
DTSTAMP:20260423T163239
CREATED:20250409T145858Z
LAST-MODIFIED:20250424T150446Z
UID:48322-1747835100-1747839600@tcshighschool.org
SUMMARY:Conversation with Baltimore City Comptroller Bill Henry
DESCRIPTION:
URL:https://tcshighschool.org/event/conversation-with-baltimore-city-comptroller-bill-henry-tentative/
CATEGORIES:Conversation
ATTACH;FMTTYPE=image/jpeg:https://tcshighschool.org/wp-content/uploads/2025/04/download.jpg
END:VEVENT
BEGIN:VEVENT
DTSTART;TZID=America/New_York:20250515T100000
DTEND;TZID=America/New_York:20250515T113000
DTSTAMP:20260423T163239
CREATED:20250504T142806Z
LAST-MODIFIED:20250513T204420Z
UID:48509-1747303200-1747308600@tcshighschool.org
SUMMARY:Conversation with Dr. Greg Walsh
DESCRIPTION:
URL:https://tcshighschool.org/event/conversation-with-dr-greg-walsh-tentative/
CATEGORIES:Conversation
ATTACH;FMTTYPE=image/jpeg:https://tcshighschool.org/wp-content/uploads/2025/05/download-1.jpg
END:VEVENT
BEGIN:VEVENT
DTSTART;TZID=America/New_York:20250513T090000
DTEND;TZID=America/New_York:20250513T103000
DTSTAMP:20260423T163239
CREATED:20250416T193730Z
LAST-MODIFIED:20250416T193730Z
UID:48357-1747126800-1747132200@tcshighschool.org
SUMMARY:Conversation with Hannah Nentakpeh/B4YT
DESCRIPTION:
URL:https://tcshighschool.org/event/conversation-with-hannah-nentakpeh-b4yt/
CATEGORIES:Conversation
ATTACH;FMTTYPE=image/jpeg:https://tcshighschool.org/wp-content/uploads/2025/04/unnamed.jpeg
END:VEVENT
BEGIN:VEVENT
DTSTART;TZID=America/New_York:20250512T134500
DTEND;TZID=America/New_York:20250512T150000
DTSTAMP:20260423T163239
CREATED:20250407T120135Z
LAST-MODIFIED:20250426T094412Z
UID:48284-1747057500-1747062000@tcshighschool.org
SUMMARY:Conversation with Michelle White/BCCC
DESCRIPTION:
URL:https://tcshighschool.org/event/conversation-with-michelle-white-tentative-2/
CATEGORIES:Conversation
ATTACH;FMTTYPE=image/jpeg:https://tcshighschool.org/wp-content/uploads/2025/04/DSC_0047-scaled.jpg-1.jpeg
END:VEVENT
BEGIN:VEVENT
DTSTART;TZID=America/New_York:20250508T124500
DTEND;TZID=America/New_York:20250508T134500
DTSTAMP:20260423T163239
CREATED:20250422T115041Z
LAST-MODIFIED:20250422T115041Z
UID:48394-1746708300-1746711900@tcshighschool.org
SUMMARY:Conversation with Lee Blinder Part 2
DESCRIPTION:
URL:https://tcshighschool.org/event/conversation-with-lee-blinder-part-2/
CATEGORIES:Conversation
END:VEVENT
BEGIN:VEVENT
DTSTART;TZID=America/New_York:20250508T093000
DTEND;TZID=America/New_York:20250508T103000
DTSTAMP:20260423T163239
CREATED:20250423T145434Z
LAST-MODIFIED:20250424T235632Z
UID:48403-1746696600-1746700200@tcshighschool.org
SUMMARY:Conversation with Mayor Brandon Scott
DESCRIPTION:
URL:https://tcshighschool.org/event/conversation-with-mayor-brandon-scott/
CATEGORIES:Conversation
ATTACH;FMTTYPE=image/jpeg:https://tcshighschool.org/wp-content/uploads/2025/04/download-1.jpg
END:VEVENT
BEGIN:VEVENT
DTSTART;TZID=America/New_York:20250502T113000
DTEND;TZID=America/New_York:20250502T130000
DTSTAMP:20260423T163239
CREATED:20250323T200916Z
LAST-MODIFIED:20250409T154356Z
UID:48132-1746185400-1746190800@tcshighschool.org
SUMMARY:Conversation with U.S. Congressman Kweisi Mfume
DESCRIPTION:
URL:https://tcshighschool.org/event/conversation-with-congressman-kweisi-mfume-tentative/
CATEGORIES:Conversation
ATTACH;FMTTYPE=image/jpeg:https://tcshighschool.org/wp-content/uploads/2025/03/download-3.jpg
END:VEVENT
BEGIN:VEVENT
DTSTART;TZID=America/New_York:20250425T113000
DTEND;TZID=America/New_York:20250425T130000
DTSTAMP:20260423T163239
CREATED:20250328T133237Z
LAST-MODIFIED:20250416T222742Z
UID:48182-1745580600-1745586000@tcshighschool.org
SUMMARY:Conversation with Susama Agarwala
DESCRIPTION:
URL:https://tcshighschool.org/event/conversation-with-susama-agarwala-2/
CATEGORIES:Conversation
ATTACH;FMTTYPE=image/jpeg:https://tcshighschool.org/wp-content/uploads/2025/02/download-2.jpg
END:VEVENT
BEGIN:VEVENT
DTSTART;TZID=America/New_York:20250424T120000
DTEND;TZID=America/New_York:20250424T133000
DTSTAMP:20260423T163239
CREATED:20250417T210553Z
LAST-MODIFIED:20250417T211408Z
UID:48375-1745496000-1745501400@tcshighschool.org
SUMMARY:Conversation with Larry Gross - Holocaust Remembrance Day
DESCRIPTION:
URL:https://tcshighschool.org/event/conversation-with-larry-gross-holocaust-remembrance-day/
CATEGORIES:Conversation
ATTACH;FMTTYPE=image/jpeg:https://tcshighschool.org/wp-content/uploads/2025/04/download-2.jpg
END:VEVENT
BEGIN:VEVENT
DTSTART;TZID=America/New_York:20250421T124500
DTEND;TZID=America/New_York:20250421T140000
DTSTAMP:20260423T163239
CREATED:20250331T232116Z
LAST-MODIFIED:20250331T232302Z
UID:48213-1745239500-1745244000@tcshighschool.org
SUMMARY:Conversation with Lee Blinder
DESCRIPTION:https://transmaryland.org/researchteam
URL:https://tcshighschool.org/event/conversation-with-lee-blinder/
CATEGORIES:Conversation
ATTACH;FMTTYPE=image/jpeg:https://tcshighschool.org/wp-content/uploads/2025/03/download-4.jpg
END:VEVENT
BEGIN:VEVENT
DTSTART;TZID=America/New_York:20250411T113000
DTEND;TZID=America/New_York:20250411T130000
DTSTAMP:20260423T163239
CREATED:20250223T141700Z
LAST-MODIFIED:20250417T182421Z
UID:47780-1744371000-1744376400@tcshighschool.org
SUMMARY:Conversation with Joe Manko & Eryn Lessard
DESCRIPTION:
URL:https://tcshighschool.org/event/conversation-with-joe-manko-4/
CATEGORIES:Conversation
ATTACH;FMTTYPE=image/jpeg:https://tcshighschool.org/wp-content/uploads/2023/04/Joe-768x768-1.jpg
END:VEVENT
BEGIN:VEVENT
DTSTART;TZID=America/New_York:20250404T113000
DTEND;TZID=America/New_York:20250404T130000
DTSTAMP:20260423T163239
CREATED:20241215T160427Z
LAST-MODIFIED:20250223T141813Z
UID:47266-1743766200-1743771600@tcshighschool.org
SUMMARY:Conversation with Center Stage
DESCRIPTION:
URL:https://tcshighschool.org/event/conversation-with-center-stage-4/
CATEGORIES:Conversation
ATTACH;FMTTYPE=image/jpeg:https://tcshighschool.org/wp-content/uploads/2024/08/images-2.jpg
END:VEVENT
BEGIN:VEVENT
DTSTART;TZID=America/New_York:20250328T113000
DTEND;TZID=America/New_York:20250328T130000
DTSTAMP:20260423T163239
CREATED:20250203T014000Z
LAST-MODIFIED:20250222T144715Z
UID:47638-1743161400-1743166800@tcshighschool.org
SUMMARY:Conversation with Michelle Williams
DESCRIPTION:
URL:https://tcshighschool.org/event/conversation-with-michelle-williams-tentative/
CATEGORIES:Conversation
ATTACH;FMTTYPE=image/jpeg:https://tcshighschool.org/wp-content/uploads/2025/02/download-1-2-1.jpg
END:VEVENT
BEGIN:VEVENT
DTSTART;TZID=America/New_York:20250321T113000
DTEND;TZID=America/New_York:20250321T130000
DTSTAMP:20260423T163239
CREATED:20250212T163639Z
LAST-MODIFIED:20250307T223431Z
UID:47701-1742556600-1742562000@tcshighschool.org
SUMMARY:Conversation with Dr. Susama Agarwala
DESCRIPTION:
URL:https://tcshighschool.org/event/conversation-with-susama-agarwala/
CATEGORIES:Conversation
ATTACH;FMTTYPE=image/jpeg:https://tcshighschool.org/wp-content/uploads/2025/02/download-2.jpg
END:VEVENT
BEGIN:VEVENT
DTSTART;TZID=America/New_York:20250318T124500
DTEND;TZID=America/New_York:20250318T140000
DTSTAMP:20260423T163239
CREATED:20250305T133530Z
LAST-MODIFIED:20250305T133530Z
UID:47999-1742301900-1742306400@tcshighschool.org
SUMMARY:Conversation with Dr. Al Scott
DESCRIPTION:
URL:https://tcshighschool.org/event/conversation-with-dr-al-scott-2/
CATEGORIES:Conversation
ATTACH;FMTTYPE=image/jpeg:https://tcshighschool.org/wp-content/uploads/2025/03/download.jpg
END:VEVENT
BEGIN:VEVENT
DTSTART;TZID=America/New_York:20250317T124500
DTEND;TZID=America/New_York:20250317T140000
DTSTAMP:20260423T163239
CREATED:20250121T151602Z
LAST-MODIFIED:20250307T222352Z
UID:47524-1742215500-1742220000@tcshighschool.org
SUMMARY:Conversation with Cheryl Waters-Hassan
DESCRIPTION:
URL:https://tcshighschool.org/event/conversation-with-cheryl-waters-hassan-2/
CATEGORIES:Conversation
ATTACH;FMTTYPE=image/jpeg:https://tcshighschool.org/wp-content/uploads/2024/10/download.jpg
END:VEVENT
BEGIN:VEVENT
DTSTART;TZID=America/New_York:20250307T113000
DTEND;TZID=America/New_York:20250307T130000
DTSTAMP:20260423T163239
CREATED:20250125T020900Z
LAST-MODIFIED:20250224T161425Z
UID:47545-1741347000-1741352400@tcshighschool.org
SUMMARY:Conversation with JHU Center for Social Concern
DESCRIPTION:Associate Directors Ben Belz and Jellema Stewart\,
URL:https://tcshighschool.org/event/conversation-with-jhu-center-for-social-concern-2/
CATEGORIES:Conversation
END:VEVENT
BEGIN:VEVENT
DTSTART;TZID=America/New_York:20250228T113000
DTEND;TZID=America/New_York:20250228T130000
DTSTAMP:20260423T163239
CREATED:20241215T160251Z
LAST-MODIFIED:20250223T141923Z
UID:47263-1740742200-1740747600@tcshighschool.org
SUMMARY:Conversation with Center Stage
DESCRIPTION:
URL:https://tcshighschool.org/event/conversation-with-center-stage-3/
CATEGORIES:Conversation
END:VEVENT
BEGIN:VEVENT
DTSTART;TZID=America/New_York:20250221T113000
DTEND;TZID=America/New_York:20250221T130000
DTSTAMP:20260423T163239
CREATED:20241211T114254Z
LAST-MODIFIED:20250125T051432Z
UID:47240-1740137400-1740142800@tcshighschool.org
SUMMARY:Conversation with Greeyo and LaRae Amoor Studio
DESCRIPTION:
URL:https://tcshighschool.org/event/conversation-with-jhu-center-for-social-concern/
CATEGORIES:Conversation
ATTACH;FMTTYPE=image/jpeg:https://tcshighschool.org/wp-content/uploads/2024/11/download-2.jpg
END:VEVENT
BEGIN:VEVENT
DTSTART;TZID=America/New_York:20250214T120000
DTEND;TZID=America/New_York:20250214T133000
DTSTAMP:20260423T163239
CREATED:20250204T233957Z
LAST-MODIFIED:20250205T221342Z
UID:47651-1739534400-1739539800@tcshighschool.org
SUMMARY:Conversation with Mario Armstrong
DESCRIPTION:
URL:https://tcshighschool.org/event/conversation-with-mario-armstrong-3/
CATEGORIES:Conversation
ATTACH;FMTTYPE=image/jpeg:https://tcshighschool.org/wp-content/uploads/2024/11/download-2-2.jpg
END:VEVENT
BEGIN:VEVENT
DTSTART;TZID=America/New_York:20250206T124500
DTEND;TZID=America/New_York:20250206T134500
DTSTAMP:20260423T163239
CREATED:20250124T193609Z
LAST-MODIFIED:20250124T193609Z
UID:47542-1738845900-1738849500@tcshighschool.org
SUMMARY:Conversation with Dylan Low (Part II)
DESCRIPTION:
URL:https://tcshighschool.org/event/conversation-with-dylan-low-part-ii/
CATEGORIES:Conversation
END:VEVENT
BEGIN:VEVENT
DTSTART;TZID=America/New_York:20250131T113000
DTEND;TZID=America/New_York:20250131T130000
DTSTAMP:20260423T163239
CREATED:20241103T210801Z
LAST-MODIFIED:20250123T185348Z
UID:46951-1738323000-1738328400@tcshighschool.org
SUMMARY:Conversation with Mario Armstrong
DESCRIPTION:https://www.marioarmstrong.com/
URL:https://tcshighschool.org/event/conversation-with-mario-armstrong-2/
CATEGORIES:Conversation
ATTACH;FMTTYPE=image/jpeg:https://tcshighschool.org/wp-content/uploads/2024/11/download-2-2.jpg
END:VEVENT
BEGIN:VEVENT
DTSTART;TZID=America/New_York:20250124T121500
DTEND;TZID=America/New_York:20250124T133000
DTSTAMP:20260423T163239
CREATED:20250104T135746Z
LAST-MODIFIED:20250124T193329Z
UID:47357-1737720900-1737725400@tcshighschool.org
SUMMARY:Conversation with Dylan Low (Part I)
DESCRIPTION:
URL:https://tcshighschool.org/event/conversation-with-dylan-low/
CATEGORIES:Conversation
END:VEVENT
BEGIN:VEVENT
DTSTART;TZID=America/New_York:20250117T113000
DTEND;TZID=America/New_York:20250117T130000
DTSTAMP:20260423T163239
CREATED:20241030T214703Z
LAST-MODIFIED:20241208T151456Z
UID:46902-1737113400-1737118800@tcshighschool.org
SUMMARY:Conversation with Carlos Avent
DESCRIPTION:
URL:https://tcshighschool.org/event/conversation-with-carlos-avent/
CATEGORIES:Conversation
ATTACH;FMTTYPE=image/jpeg:https://tcshighschool.org/wp-content/uploads/2024/10/1721448453808.jpg
END:VEVENT
END:VCALENDAR