BEGIN:VCALENDAR
VERSION:2.0
PRODID:-//TCS High School - ECPv6.15.11//NONSGML v1.0//EN
CALSCALE:GREGORIAN
METHOD:PUBLISH
X-ORIGINAL-URL:https://tcshighschool.org
X-WR-CALDESC:Events for TCS High School
REFRESH-INTERVAL;VALUE=DURATION:PT1H
X-Robots-Tag:noindex
X-PUBLISHED-TTL:PT1H
BEGIN:VTIMEZONE
TZID:America/New_York
BEGIN:DAYLIGHT
TZOFFSETFROM:-0500
TZOFFSETTO:-0400
TZNAME:EDT
DTSTART:20230312T070000
END:DAYLIGHT
BEGIN:STANDARD
TZOFFSETFROM:-0400
TZOFFSETTO:-0500
TZNAME:EST
DTSTART:20231105T060000
END:STANDARD
BEGIN:DAYLIGHT
TZOFFSETFROM:-0500
TZOFFSETTO:-0400
TZNAME:EDT
DTSTART:20240310T070000
END:DAYLIGHT
BEGIN:STANDARD
TZOFFSETFROM:-0400
TZOFFSETTO:-0500
TZNAME:EST
DTSTART:20241103T060000
END:STANDARD
BEGIN:DAYLIGHT
TZOFFSETFROM:-0500
TZOFFSETTO:-0400
TZNAME:EDT
DTSTART:20250309T070000
END:DAYLIGHT
BEGIN:STANDARD
TZOFFSETFROM:-0400
TZOFFSETTO:-0500
TZNAME:EST
DTSTART:20251102T060000
END:STANDARD
BEGIN:DAYLIGHT
TZOFFSETFROM:-0500
TZOFFSETTO:-0400
TZNAME:EDT
DTSTART:20260308T070000
END:DAYLIGHT
BEGIN:STANDARD
TZOFFSETFROM:-0400
TZOFFSETTO:-0500
TZNAME:EST
DTSTART:20261101T060000
END:STANDARD
END:VTIMEZONE
BEGIN:VEVENT
DTSTART;TZID=America/New_York:20250318T124500
DTEND;TZID=America/New_York:20250318T140000
DTSTAMP:20260423T190557
CREATED:20250305T133530Z
LAST-MODIFIED:20250305T133530Z
UID:47999-1742301900-1742306400@tcshighschool.org
SUMMARY:Conversation with Dr. Al Scott
DESCRIPTION:
URL:https://tcshighschool.org/event/conversation-with-dr-al-scott-2/
CATEGORIES:Conversation
ATTACH;FMTTYPE=image/jpeg:https://tcshighschool.org/wp-content/uploads/2025/03/download.jpg
END:VEVENT
BEGIN:VEVENT
DTSTART;TZID=America/New_York:20250317T124500
DTEND;TZID=America/New_York:20250317T140000
DTSTAMP:20260423T190557
CREATED:20250121T151602Z
LAST-MODIFIED:20250307T222352Z
UID:47524-1742215500-1742220000@tcshighschool.org
SUMMARY:Conversation with Cheryl Waters-Hassan
DESCRIPTION:
URL:https://tcshighschool.org/event/conversation-with-cheryl-waters-hassan-2/
CATEGORIES:Conversation
ATTACH;FMTTYPE=image/jpeg:https://tcshighschool.org/wp-content/uploads/2024/10/download.jpg
END:VEVENT
BEGIN:VEVENT
DTSTART;TZID=America/New_York:20250307T113000
DTEND;TZID=America/New_York:20250307T130000
DTSTAMP:20260423T190557
CREATED:20250125T020900Z
LAST-MODIFIED:20250224T161425Z
UID:47545-1741347000-1741352400@tcshighschool.org
SUMMARY:Conversation with JHU Center for Social Concern
DESCRIPTION:Associate Directors Ben Belz and Jellema Stewart\,
URL:https://tcshighschool.org/event/conversation-with-jhu-center-for-social-concern-2/
CATEGORIES:Conversation
END:VEVENT
BEGIN:VEVENT
DTSTART;TZID=America/New_York:20250228T113000
DTEND;TZID=America/New_York:20250228T130000
DTSTAMP:20260423T190557
CREATED:20241215T160251Z
LAST-MODIFIED:20250223T141923Z
UID:47263-1740742200-1740747600@tcshighschool.org
SUMMARY:Conversation with Center Stage
DESCRIPTION:
URL:https://tcshighschool.org/event/conversation-with-center-stage-3/
CATEGORIES:Conversation
END:VEVENT
BEGIN:VEVENT
DTSTART;TZID=America/New_York:20250221T113000
DTEND;TZID=America/New_York:20250221T130000
DTSTAMP:20260423T190557
CREATED:20241211T114254Z
LAST-MODIFIED:20250125T051432Z
UID:47240-1740137400-1740142800@tcshighschool.org
SUMMARY:Conversation with Greeyo and LaRae Amoor Studio
DESCRIPTION:
URL:https://tcshighschool.org/event/conversation-with-jhu-center-for-social-concern/
CATEGORIES:Conversation
ATTACH;FMTTYPE=image/jpeg:https://tcshighschool.org/wp-content/uploads/2024/11/download-2.jpg
END:VEVENT
BEGIN:VEVENT
DTSTART;TZID=America/New_York:20250214T120000
DTEND;TZID=America/New_York:20250214T133000
DTSTAMP:20260423T190557
CREATED:20250204T233957Z
LAST-MODIFIED:20250205T221342Z
UID:47651-1739534400-1739539800@tcshighschool.org
SUMMARY:Conversation with Mario Armstrong
DESCRIPTION:
URL:https://tcshighschool.org/event/conversation-with-mario-armstrong-3/
CATEGORIES:Conversation
ATTACH;FMTTYPE=image/jpeg:https://tcshighschool.org/wp-content/uploads/2024/11/download-2-2.jpg
END:VEVENT
BEGIN:VEVENT
DTSTART;TZID=America/New_York:20250206T124500
DTEND;TZID=America/New_York:20250206T134500
DTSTAMP:20260423T190557
CREATED:20250124T193609Z
LAST-MODIFIED:20250124T193609Z
UID:47542-1738845900-1738849500@tcshighschool.org
SUMMARY:Conversation with Dylan Low (Part II)
DESCRIPTION:
URL:https://tcshighschool.org/event/conversation-with-dylan-low-part-ii/
CATEGORIES:Conversation
END:VEVENT
BEGIN:VEVENT
DTSTART;TZID=America/New_York:20250131T113000
DTEND;TZID=America/New_York:20250131T130000
DTSTAMP:20260423T190557
CREATED:20241103T210801Z
LAST-MODIFIED:20250123T185348Z
UID:46951-1738323000-1738328400@tcshighschool.org
SUMMARY:Conversation with Mario Armstrong
DESCRIPTION:https://www.marioarmstrong.com/
URL:https://tcshighschool.org/event/conversation-with-mario-armstrong-2/
CATEGORIES:Conversation
ATTACH;FMTTYPE=image/jpeg:https://tcshighschool.org/wp-content/uploads/2024/11/download-2-2.jpg
END:VEVENT
BEGIN:VEVENT
DTSTART;TZID=America/New_York:20250124T121500
DTEND;TZID=America/New_York:20250124T133000
DTSTAMP:20260423T190557
CREATED:20250104T135746Z
LAST-MODIFIED:20250124T193329Z
UID:47357-1737720900-1737725400@tcshighschool.org
SUMMARY:Conversation with Dylan Low (Part I)
DESCRIPTION:
URL:https://tcshighschool.org/event/conversation-with-dylan-low/
CATEGORIES:Conversation
END:VEVENT
BEGIN:VEVENT
DTSTART;TZID=America/New_York:20250117T113000
DTEND;TZID=America/New_York:20250117T130000
DTSTAMP:20260423T190557
CREATED:20241030T214703Z
LAST-MODIFIED:20241208T151456Z
UID:46902-1737113400-1737118800@tcshighschool.org
SUMMARY:Conversation with Carlos Avent
DESCRIPTION:
URL:https://tcshighschool.org/event/conversation-with-carlos-avent/
CATEGORIES:Conversation
ATTACH;FMTTYPE=image/jpeg:https://tcshighschool.org/wp-content/uploads/2024/10/1721448453808.jpg
END:VEVENT
BEGIN:VEVENT
DTSTART;TZID=America/New_York:20241220T113000
DTEND;TZID=America/New_York:20241220T130000
DTSTAMP:20260423T190557
CREATED:20241014T150349Z
LAST-MODIFIED:20241212T155410Z
UID:46780-1734694200-1734699600@tcshighschool.org
SUMMARY:Conversation with Center Stage
DESCRIPTION:
URL:https://tcshighschool.org/event/conversation-with-center-stage-tentative-4/
CATEGORIES:Conversation
END:VEVENT
BEGIN:VEVENT
DTSTART;TZID=America/New_York:20241213T113000
DTEND;TZID=America/New_York:20241213T130000
DTSTAMP:20260423T190557
CREATED:20241112T161445Z
LAST-MODIFIED:20241115T170723Z
UID:47000-1734089400-1734094800@tcshighschool.org
SUMMARY:Conversation with Bonita Lee
DESCRIPTION:
URL:https://tcshighschool.org/event/conversation-with-bonita-lee/
CATEGORIES:Conversation
ATTACH;FMTTYPE=image/jpeg:https://tcshighschool.org/wp-content/uploads/2024/11/GREENMOUNT1725997297289.jpg
END:VEVENT
BEGIN:VEVENT
DTSTART;TZID=America/New_York:20241206T113000
DTEND;TZID=America/New_York:20241206T130000
DTSTAMP:20260423T190557
CREATED:20241014T162222Z
LAST-MODIFIED:20241014T162524Z
UID:46782-1733484600-1733490000@tcshighschool.org
SUMMARY:Conversation with Kyle Pompey
DESCRIPTION:https://linktr.ee/niceshotkyle
URL:https://tcshighschool.org/event/conversation-with-kyle-pompey/
CATEGORIES:Conversation
ATTACH;FMTTYPE=image/jpeg:https://tcshighschool.org/wp-content/uploads/2024/10/download-1.jpg
END:VEVENT
BEGIN:VEVENT
DTSTART;TZID=America/New_York:20241205T110000
DTEND;TZID=America/New_York:20241205T113000
DTSTAMP:20260423T190557
CREATED:20241212T154658Z
LAST-MODIFIED:20241212T154658Z
UID:47247-1733396400-1733398200@tcshighschool.org
SUMMARY:Conversation with Ebony Love
DESCRIPTION:
URL:https://tcshighschool.org/event/conversation-with-ebony-love/
CATEGORIES:Conversation
END:VEVENT
BEGIN:VEVENT
DTSTART;TZID=America/New_York:20241122T113000
DTEND;TZID=America/New_York:20241122T133000
DTSTAMP:20260423T190557
CREATED:20241101T212557Z
LAST-MODIFIED:20241113T015431Z
UID:46919-1732275000-1732282200@tcshighschool.org
SUMMARY:Conversation & Field Trip with Greeyo & LaRae Amoor Studios
DESCRIPTION:https://laraeamoor.com/
URL:https://tcshighschool.org/event/conversation-field-trip-with-greeyo-larae-amoor-studios/
CATEGORIES:Conversation,Field Trips
ATTACH;FMTTYPE=image/jpeg:https://tcshighschool.org/wp-content/uploads/2024/11/download-2.jpg
END:VEVENT
BEGIN:VEVENT
DTSTART;TZID=America/New_York:20241112T133000
DTEND;TZID=America/New_York:20241112T150000
DTSTAMP:20260423T190557
CREATED:20241024T145602Z
LAST-MODIFIED:20241101T220657Z
UID:46847-1731418200-1731423600@tcshighschool.org
SUMMARY:Conversation with Author Kate Andersen Brower
DESCRIPTION:
URL:https://tcshighschool.org/event/conversation-with-kate-andersen-brower-tentative/
CATEGORIES:Conversation
ATTACH;FMTTYPE=image/png:https://tcshighschool.org/wp-content/uploads/2024/10/Kate-Anderson-Brower.png
END:VEVENT
BEGIN:VEVENT
DTSTART;TZID=America/New_York:20241108T113000
DTEND;TZID=America/New_York:20241108T130000
DTSTAMP:20260423T190557
CREATED:20240930T170827Z
LAST-MODIFIED:20241006T170854Z
UID:46624-1731065400-1731070800@tcshighschool.org
SUMMARY:Conversation with Harold Young/BCYF
DESCRIPTION:
URL:https://tcshighschool.org/event/conversation-with-harold-young-bcyf/
CATEGORIES:Conversation
ATTACH;FMTTYPE=image/jpeg:https://tcshighschool.org/wp-content/uploads/2024/08/download.jpg
END:VEVENT
BEGIN:VEVENT
DTSTART;TZID=America/New_York:20241107T134500
DTEND;TZID=America/New_York:20241107T150000
DTSTAMP:20260423T190557
CREATED:20241102T225823Z
LAST-MODIFIED:20241102T225823Z
UID:46924-1730987100-1730991600@tcshighschool.org
SUMMARY:Conversation with Center Stage
DESCRIPTION:
URL:https://tcshighschool.org/event/conversation-with-center-stage-2/
CATEGORIES:Conversation
END:VEVENT
BEGIN:VEVENT
DTSTART;TZID=America/New_York:20241101T113000
DTEND;TZID=America/New_York:20241101T130000
DTSTAMP:20260423T190557
CREATED:20241013T201134Z
LAST-MODIFIED:20241104T024141Z
UID:46755-1730460600-1730466000@tcshighschool.org
SUMMARY:Conversation with Mr. Tom Part 1
DESCRIPTION:
URL:https://tcshighschool.org/event/conversation-with-center-stage-tentative-3/
CATEGORIES:Conversation
END:VEVENT
BEGIN:VEVENT
DTSTART;TZID=America/New_York:20241025T113000
DTEND;TZID=America/New_York:20241025T133000
DTSTAMP:20260423T190557
CREATED:20241014T114133Z
LAST-MODIFIED:20241016T213831Z
UID:46776-1729855800-1729863000@tcshighschool.org
SUMMARY:Conversation on the Middle East with Marc Steiner & Ali Zagharb
DESCRIPTION:
URL:https://tcshighschool.org/event/conversation-on-thee-middle-east-with-marc-steiner/
CATEGORIES:Conversation
ATTACH;FMTTYPE=image/jpeg:https://tcshighschool.org/wp-content/uploads/2024/02/download.jpg
END:VEVENT
BEGIN:VEVENT
DTSTART;TZID=America/New_York:20241018T113000
DTEND;TZID=America/New_York:20241018T130000
DTSTAMP:20260423T190557
CREATED:20240828T181749Z
LAST-MODIFIED:20241006T170749Z
UID:46387-1729251000-1729256400@tcshighschool.org
SUMMARY:Conversation with Sean Armstrong aka DJ Face
DESCRIPTION:Tour DJ – Rapsody\nRadio DJ – Majic 102.3/92.7 DC Radio One \nhttps://www.djfacemusic.com/albumnew-page
URL:https://tcshighschool.org/event/conversation-with-sean-armstrong/
CATEGORIES:Conversation,Upcoming Events
ATTACH;FMTTYPE=image/jpeg:https://tcshighschool.org/wp-content/uploads/2024/08/69589921_10220224784507264_6175076469476163584_n.jpg
END:VEVENT
BEGIN:VEVENT
DTSTART;TZID=America/New_York:20241011T113000
DTEND;TZID=America/New_York:20241011T130000
DTSTAMP:20260423T190557
CREATED:20240829T133409Z
LAST-MODIFIED:20241006T165709Z
UID:46392-1728646200-1728651600@tcshighschool.org
SUMMARY:Conversation with Air Force 2nd Lt. Jefferson Thomas
DESCRIPTION:
URL:https://tcshighschool.org/event/conversation-with-air-force-2nd-lt-jefferson-thomas-tentative/
CATEGORIES:Conversation
ATTACH;FMTTYPE=image/png:https://tcshighschool.org/wp-content/uploads/2024/08/Shield_of_the_United_States_Air_Force_Reserve_Officer_Training_Corps.svg_.png
END:VEVENT
BEGIN:VEVENT
DTSTART;TZID=America/New_York:20241004T113000
DTEND;TZID=America/New_York:20241004T130000
DTSTAMP:20260423T190557
CREATED:20240831T012722Z
LAST-MODIFIED:20240913T145816Z
UID:46401-1728041400-1728046800@tcshighschool.org
SUMMARY:Conversation with Center Stage
DESCRIPTION:
URL:https://tcshighschool.org/event/conversation-with-center-stage/
CATEGORIES:Conversation,Upcoming Events
ATTACH;FMTTYPE=image/jpeg:https://tcshighschool.org/wp-content/uploads/2024/08/images-2-1.jpg
END:VEVENT
BEGIN:VEVENT
DTSTART;TZID=America/New_York:20240927T113000
DTEND;TZID=America/New_York:20240927T130000
DTSTAMP:20260423T190557
CREATED:20240901T173213Z
LAST-MODIFIED:20240913T145024Z
UID:46405-1727436600-1727442000@tcshighschool.org
SUMMARY:Conversation with Baltimore Beat
DESCRIPTION:
URL:https://tcshighschool.org/event/conversation-with-baltimore-beat-tentative/
CATEGORIES:Conversation,Upcoming Events
ATTACH;FMTTYPE=image/jpeg:https://tcshighschool.org/wp-content/uploads/2024/09/BM-Baltimore-Beat-5866_CMYK-2.jpg
END:VEVENT
BEGIN:VEVENT
DTSTART;TZID=America/New_York:20240920T113000
DTEND;TZID=America/New_York:20240920T130000
DTSTAMP:20260423T190557
CREATED:20240801T214439Z
LAST-MODIFIED:20240906T211337Z
UID:46006-1726831800-1726837200@tcshighschool.org
SUMMARY:Conversation with Alumni Part I
DESCRIPTION:Ronan Guilfoyle\nDyrrell Moon\nOlivia Yates\nJayla Nickens-Gill
URL:https://tcshighschool.org/event/conversation-with-alumni-part-i/
CATEGORIES:Conversation
END:VEVENT
BEGIN:VEVENT
DTSTART;TZID=America/New_York:20240913T113000
DTEND;TZID=America/New_York:20240913T130000
DTSTAMP:20260423T190557
CREATED:20240801T214251Z
LAST-MODIFIED:20240813T153220Z
UID:46002-1726227000-1726232400@tcshighschool.org
SUMMARY:Conversation with Michelle White
DESCRIPTION:Assistant Dean\, Early College and Access Programs\nBaltimore City Community College
URL:https://tcshighschool.org/event/conversation-with-michelle-white-tentative/
CATEGORIES:Conversation
END:VEVENT
BEGIN:VEVENT
DTSTART;TZID=America/New_York:20240906T113000
DTEND;TZID=America/New_York:20240906T130000
DTSTAMP:20260423T190557
CREATED:20240725T145835Z
LAST-MODIFIED:20240725T145835Z
UID:45859-1725622200-1725627600@tcshighschool.org
SUMMARY:Conversation with TCS Trustees
DESCRIPTION:
URL:https://tcshighschool.org/event/conversation-with-tcs-trustees-3/
CATEGORIES:Conversation
END:VEVENT
BEGIN:VEVENT
DTSTART;TZID=America/New_York:20240530T140000
DTEND;TZID=America/New_York:20240530T150000
DTSTAMP:20260423T190557
CREATED:20240505T164103Z
LAST-MODIFIED:20240519T121808Z
UID:45587-1717077600-1717081200@tcshighschool.org
SUMMARY:Conversation with Alysia Lee & Larry Simmons
DESCRIPTION:
URL:https://tcshighschool.org/event/conversation-with-alysia-lee-larry-simmons/
CATEGORIES:Conversation
ATTACH;FMTTYPE=image/jpeg:https://tcshighschool.org/wp-content/uploads/2024/05/Alysia-Lee-headshot-500x500-1.jpg
END:VEVENT
BEGIN:VEVENT
DTSTART;TZID=America/New_York:20240524T113000
DTEND;TZID=America/New_York:20240524T130000
DTSTAMP:20260423T190557
CREATED:20240327T185108Z
LAST-MODIFIED:20240427T163253Z
UID:45407-1716550200-1716555600@tcshighschool.org
SUMMARY:Conversation with Ernest Shaw
DESCRIPTION:https://www.eshawart.com/
URL:https://tcshighschool.org/event/conversation-with-ernest-shaw/
CATEGORIES:Conversation
ATTACH;FMTTYPE=image/jpeg:https://tcshighschool.org/wp-content/uploads/2024/03/AFC30321_37250457-2.jpg
END:VEVENT
BEGIN:VEVENT
DTSTART;TZID=America/New_York:20240514T134500
DTEND;TZID=America/New_York:20240514T150000
DTSTAMP:20260423T190557
CREATED:20240507T161734Z
LAST-MODIFIED:20240507T161835Z
UID:45597-1715694300-1715698800@tcshighschool.org
SUMMARY:Conversation with Joe Manko
DESCRIPTION:
URL:https://tcshighschool.org/event/conversation-with-joe-manko-3/
CATEGORIES:Conversation
END:VEVENT
END:VCALENDAR