BEGIN:VCALENDAR
VERSION:2.0
PRODID:-//TCS High School - ECPv6.15.11//NONSGML v1.0//EN
CALSCALE:GREGORIAN
METHOD:PUBLISH
X-ORIGINAL-URL:https://tcshighschool.org
X-WR-CALDESC:Events for TCS High School
REFRESH-INTERVAL;VALUE=DURATION:PT1H
X-Robots-Tag:noindex
X-PUBLISHED-TTL:PT1H
BEGIN:VTIMEZONE
TZID:America/New_York
BEGIN:DAYLIGHT
TZOFFSETFROM:-0500
TZOFFSETTO:-0400
TZNAME:EDT
DTSTART:20220313T070000
END:DAYLIGHT
BEGIN:STANDARD
TZOFFSETFROM:-0400
TZOFFSETTO:-0500
TZNAME:EST
DTSTART:20221106T060000
END:STANDARD
BEGIN:DAYLIGHT
TZOFFSETFROM:-0500
TZOFFSETTO:-0400
TZNAME:EDT
DTSTART:20230312T070000
END:DAYLIGHT
BEGIN:STANDARD
TZOFFSETFROM:-0400
TZOFFSETTO:-0500
TZNAME:EST
DTSTART:20231105T060000
END:STANDARD
BEGIN:DAYLIGHT
TZOFFSETFROM:-0500
TZOFFSETTO:-0400
TZNAME:EDT
DTSTART:20240310T070000
END:DAYLIGHT
BEGIN:STANDARD
TZOFFSETFROM:-0400
TZOFFSETTO:-0500
TZNAME:EST
DTSTART:20241103T060000
END:STANDARD
END:VTIMEZONE
BEGIN:VEVENT
DTSTART;TZID=America/New_York:20230914T121500
DTEND;TZID=America/New_York:20230914T151500
DTSTAMP:20260425T114525
CREATED:20230814T215215Z
LAST-MODIFIED:20230821T154843Z
UID:42984-1694693700-1694704500@tcshighschool.org
SUMMARY:Theatre with The Lyric
DESCRIPTION:
URL:https://tcshighschool.org/event/theatre-with-the-lyric/
CATEGORIES:Field Trips
END:VEVENT
BEGIN:VEVENT
DTSTART;TZID=America/New_York:20230920T124500
DTEND;TZID=America/New_York:20230920T140000
DTSTAMP:20260425T114525
CREATED:20230822T142109Z
LAST-MODIFIED:20230916T175921Z
UID:43678-1695213900-1695218400@tcshighschool.org
SUMMARY:Mary Magenta Art Show
DESCRIPTION:
URL:https://tcshighschool.org/event/mary-magenta-art-show-tentative/
CATEGORIES:Field Trips
ATTACH;FMTTYPE=image/jpeg:https://tcshighschool.org/wp-content/uploads/2023/08/c-PersonalMARYMAGENTA__MMlutherville_1675716752674-620x600-1.jpg
END:VEVENT
BEGIN:VEVENT
DTSTART;TZID=America/New_York:20230928T100000
DTEND;TZID=America/New_York:20230928T123000
DTSTAMP:20260425T114525
CREATED:20230714T175757Z
LAST-MODIFIED:20230916T174628Z
UID:42817-1695895200-1695904200@tcshighschool.org
SUMMARY:Last Day at Emerson's Bar and Grill at Center Stage
DESCRIPTION:
URL:https://tcshighschool.org/event/last-day-at-emersons-bar-and-grill-at-center-stage/
CATEGORIES:Field Trips
ATTACH;FMTTYPE=image/jpeg:https://tcshighschool.org/wp-content/uploads/2023/07/Screenshot-2023-09-16-at-1.39.30-PM.jpeg
END:VEVENT
END:VCALENDAR