BEGIN:VCALENDAR
VERSION:2.0
PRODID:-//TCS High School - ECPv6.15.11//NONSGML v1.0//EN
CALSCALE:GREGORIAN
METHOD:PUBLISH
X-WR-CALNAME:TCS High School
X-ORIGINAL-URL:https://tcshighschool.org
X-WR-CALDESC:Events for TCS High School
REFRESH-INTERVAL;VALUE=DURATION:PT1H
X-Robots-Tag:noindex
X-PUBLISHED-TTL:PT1H
BEGIN:VTIMEZONE
TZID:America/New_York
BEGIN:DAYLIGHT
TZOFFSETFROM:-0500
TZOFFSETTO:-0400
TZNAME:EDT
DTSTART:20230312T070000
END:DAYLIGHT
BEGIN:STANDARD
TZOFFSETFROM:-0400
TZOFFSETTO:-0500
TZNAME:EST
DTSTART:20231105T060000
END:STANDARD
BEGIN:DAYLIGHT
TZOFFSETFROM:-0500
TZOFFSETTO:-0400
TZNAME:EDT
DTSTART:20240310T070000
END:DAYLIGHT
BEGIN:STANDARD
TZOFFSETFROM:-0400
TZOFFSETTO:-0500
TZNAME:EST
DTSTART:20241103T060000
END:STANDARD
BEGIN:DAYLIGHT
TZOFFSETFROM:-0500
TZOFFSETTO:-0400
TZNAME:EDT
DTSTART:20250309T070000
END:DAYLIGHT
BEGIN:STANDARD
TZOFFSETFROM:-0400
TZOFFSETTO:-0500
TZNAME:EST
DTSTART:20251102T060000
END:STANDARD
END:VTIMEZONE
BEGIN:VEVENT
DTSTART;TZID=America/New_York:20241106T120000
DTEND;TZID=America/New_York:20241106T143000
DTSTAMP:20260424T123248
CREATED:20240813T151321Z
LAST-MODIFIED:20241102T225502Z
UID:46051-1730894400-1730903400@tcshighschool.org
SUMMARY:Center Stage - "Pride and Prejudice"
DESCRIPTION:
URL:https://tcshighschool.org/event/center-stage-pride-and-prejudice/
CATEGORIES:Field Trips
END:VEVENT
BEGIN:VEVENT
DTSTART;TZID=America/New_York:20241114T120000
DTEND;TZID=America/New_York:20241114T140000
DTSTAMP:20260424T123248
CREATED:20240723T163952Z
LAST-MODIFIED:20240801T215148Z
UID:45801-1731585600-1731592800@tcshighschool.org
SUMMARY:Theatre with The Lyric
DESCRIPTION:
URL:https://tcshighschool.org/event/theatre-with-the-lyric-4/2024-11-14/
CATEGORIES:Field Trips
END:VEVENT
BEGIN:VEVENT
DTSTART;TZID=America/New_York:20241122T113000
DTEND;TZID=America/New_York:20241122T133000
DTSTAMP:20260424T123248
CREATED:20241101T212557Z
LAST-MODIFIED:20241113T015431Z
UID:46919-1732275000-1732282200@tcshighschool.org
SUMMARY:Conversation & Field Trip with Greeyo & LaRae Amoor Studios
DESCRIPTION:https://laraeamoor.com/
URL:https://tcshighschool.org/event/conversation-field-trip-with-greeyo-larae-amoor-studios/
CATEGORIES:Conversation,Field Trips
ATTACH;FMTTYPE=image/jpeg:https://tcshighschool.org/wp-content/uploads/2024/11/download-2.jpg
END:VEVENT
END:VCALENDAR