BEGIN:VCALENDAR
VERSION:2.0
PRODID:-//TCS High School - ECPv6.15.11//NONSGML v1.0//EN
CALSCALE:GREGORIAN
METHOD:PUBLISH
X-ORIGINAL-URL:https://tcshighschool.org
X-WR-CALDESC:Events for TCS High School
REFRESH-INTERVAL;VALUE=DURATION:PT1H
X-Robots-Tag:noindex
X-PUBLISHED-TTL:PT1H
BEGIN:VTIMEZONE
TZID:America/New_York
BEGIN:DAYLIGHT
TZOFFSETFROM:-0500
TZOFFSETTO:-0400
TZNAME:EDT
DTSTART:20220313T070000
END:DAYLIGHT
BEGIN:STANDARD
TZOFFSETFROM:-0400
TZOFFSETTO:-0500
TZNAME:EST
DTSTART:20221106T060000
END:STANDARD
BEGIN:DAYLIGHT
TZOFFSETFROM:-0500
TZOFFSETTO:-0400
TZNAME:EDT
DTSTART:20230312T070000
END:DAYLIGHT
BEGIN:STANDARD
TZOFFSETFROM:-0400
TZOFFSETTO:-0500
TZNAME:EST
DTSTART:20231105T060000
END:STANDARD
BEGIN:DAYLIGHT
TZOFFSETFROM:-0500
TZOFFSETTO:-0400
TZNAME:EDT
DTSTART:20240310T070000
END:DAYLIGHT
BEGIN:STANDARD
TZOFFSETFROM:-0400
TZOFFSETTO:-0500
TZNAME:EST
DTSTART:20241103T060000
END:STANDARD
END:VTIMEZONE
BEGIN:VEVENT
DTSTART;TZID=America/New_York:20231204T100000
DTEND;TZID=America/New_York:20231204T130000
DTSTAMP:20260425T074045
CREATED:20230817T183839Z
LAST-MODIFIED:20231009T110942Z
UID:43527-1701684000-1701694800@tcshighschool.org
SUMMARY:Pipeline: Play at The Lyric
DESCRIPTION:Pipeline is the work of acclaimed playwright and actor Dominique Morisseau\, who has written numerous plays including Skeleton Crew\, Paradise Blue\, Detroit ’67\, and more. Morisseau received a Tony Award nomination as the book writer on the new Broadway musical Ain’t Too Proud – The Life and Times of the Temptations\, and she recently served as Co-Producer on the Showtime series Shameless.  Ms. Morisseau development of the play was inspired by Michelle Alexander’s acclaimed book The New Jim Crow\, which focuses on the alarming numbers of young African American youth mass incarcerated in the United States\, and how that process often begins in the public school system.
URL:https://tcshighschool.org/event/pipeline-play-at-the-lyric/
CATEGORIES:Field Trips
END:VEVENT
END:VCALENDAR