BEGIN:VCALENDAR
VERSION:2.0
PRODID:-//TCS High School - ECPv6.15.11//NONSGML v1.0//EN
CALSCALE:GREGORIAN
METHOD:PUBLISH
X-ORIGINAL-URL:https://tcshighschool.org
X-WR-CALDESC:Events for TCS High School
REFRESH-INTERVAL;VALUE=DURATION:PT1H
X-Robots-Tag:noindex
X-PUBLISHED-TTL:PT1H
BEGIN:VTIMEZONE
TZID:America/New_York
BEGIN:DAYLIGHT
TZOFFSETFROM:-0500
TZOFFSETTO:-0400
TZNAME:EDT
DTSTART:20140309T070000
END:DAYLIGHT
BEGIN:STANDARD
TZOFFSETFROM:-0400
TZOFFSETTO:-0500
TZNAME:EST
DTSTART:20141102T060000
END:STANDARD
BEGIN:DAYLIGHT
TZOFFSETFROM:-0500
TZOFFSETTO:-0400
TZNAME:EDT
DTSTART:20150308T070000
END:DAYLIGHT
BEGIN:STANDARD
TZOFFSETFROM:-0400
TZOFFSETTO:-0500
TZNAME:EST
DTSTART:20151101T060000
END:STANDARD
BEGIN:DAYLIGHT
TZOFFSETFROM:-0500
TZOFFSETTO:-0400
TZNAME:EDT
DTSTART:20160313T070000
END:DAYLIGHT
BEGIN:STANDARD
TZOFFSETFROM:-0400
TZOFFSETTO:-0500
TZNAME:EST
DTSTART:20161106T060000
END:STANDARD
BEGIN:DAYLIGHT
TZOFFSETFROM:-0500
TZOFFSETTO:-0400
TZNAME:EDT
DTSTART:20170312T070000
END:DAYLIGHT
BEGIN:STANDARD
TZOFFSETFROM:-0400
TZOFFSETTO:-0500
TZNAME:EST
DTSTART:20171105T060000
END:STANDARD
BEGIN:DAYLIGHT
TZOFFSETFROM:-0500
TZOFFSETTO:-0400
TZNAME:EDT
DTSTART:20180311T070000
END:DAYLIGHT
BEGIN:STANDARD
TZOFFSETFROM:-0400
TZOFFSETTO:-0500
TZNAME:EST
DTSTART:20181104T060000
END:STANDARD
BEGIN:DAYLIGHT
TZOFFSETFROM:-0500
TZOFFSETTO:-0400
TZNAME:EDT
DTSTART:20190310T070000
END:DAYLIGHT
BEGIN:STANDARD
TZOFFSETFROM:-0400
TZOFFSETTO:-0500
TZNAME:EST
DTSTART:20191103T060000
END:STANDARD
BEGIN:DAYLIGHT
TZOFFSETFROM:-0500
TZOFFSETTO:-0400
TZNAME:EDT
DTSTART:20200308T070000
END:DAYLIGHT
BEGIN:STANDARD
TZOFFSETFROM:-0400
TZOFFSETTO:-0500
TZNAME:EST
DTSTART:20201101T060000
END:STANDARD
BEGIN:DAYLIGHT
TZOFFSETFROM:-0500
TZOFFSETTO:-0400
TZNAME:EDT
DTSTART:20210314T070000
END:DAYLIGHT
BEGIN:STANDARD
TZOFFSETFROM:-0400
TZOFFSETTO:-0500
TZNAME:EST
DTSTART:20211107T060000
END:STANDARD
BEGIN:DAYLIGHT
TZOFFSETFROM:-0500
TZOFFSETTO:-0400
TZNAME:EDT
DTSTART:20220313T070000
END:DAYLIGHT
BEGIN:STANDARD
TZOFFSETFROM:-0400
TZOFFSETTO:-0500
TZNAME:EST
DTSTART:20221106T060000
END:STANDARD
END:VTIMEZONE
BEGIN:VTIMEZONE
TZID:UTC
BEGIN:STANDARD
TZOFFSETFROM:+0000
TZOFFSETTO:+0000
TZNAME:UTC
DTSTART:20170101T000000
END:STANDARD
END:VTIMEZONE
BEGIN:VEVENT
DTSTART;VALUE=DATE:20210327
DTEND;VALUE=DATE:20210405
DTSTAMP:20260423T160204
CREATED:20200903T125314Z
LAST-MODIFIED:20200903T125314Z
UID:34878-1616803200-1617580799@tcshighschool.org
SUMMARY:Spring Break
DESCRIPTION:
URL:https://tcshighschool.org/event/spring-break-8/
CATEGORIES:Holidays
END:VEVENT
BEGIN:VEVENT
DTSTART;VALUE=DATE:20201223
DTEND;VALUE=DATE:20210104
DTSTAMP:20260423T160204
CREATED:20200903T125146Z
LAST-MODIFIED:20200903T125146Z
UID:34874-1608681600-1609718399@tcshighschool.org
SUMMARY:Winter Break
DESCRIPTION:
URL:https://tcshighschool.org/event/winter-break-7/
CATEGORIES:Holidays
END:VEVENT
BEGIN:VEVENT
DTSTART;VALUE=DATE:20201126
DTEND;VALUE=DATE:20201128
DTSTAMP:20260423T160204
CREATED:20200903T124935Z
LAST-MODIFIED:20200903T124935Z
UID:34868-1606348800-1606521599@tcshighschool.org
SUMMARY:Thanksgiving Holiday
DESCRIPTION:
URL:https://tcshighschool.org/event/thanksgiving-holiday-6/
CATEGORIES:Holidays
END:VEVENT
BEGIN:VEVENT
DTSTART;VALUE=DATE:20200525
DTEND;VALUE=DATE:20200526
DTSTAMP:20260423T160204
CREATED:20200217T001854Z
LAST-MODIFIED:20200217T001854Z
UID:34442-1590364800-1590451199@tcshighschool.org
SUMMARY:Memorial Day Holiday
DESCRIPTION:
URL:https://tcshighschool.org/event/memorial-day-holiday-6/
CATEGORIES:Holidays
END:VEVENT
BEGIN:VEVENT
DTSTART;VALUE=DATE:20200404
DTEND;VALUE=DATE:20200413
DTSTAMP:20260423T160204
CREATED:20190619T191721Z
LAST-MODIFIED:20190619T191721Z
UID:32583-1585958400-1586735999@tcshighschool.org
SUMMARY:Spring Break
DESCRIPTION:
URL:https://tcshighschool.org/event/spring-break-7/
CATEGORIES:Holidays
END:VEVENT
BEGIN:VEVENT
DTSTART;VALUE=DATE:20200217
DTEND;VALUE=DATE:20200218
DTSTAMP:20260423T160204
CREATED:20190619T191822Z
LAST-MODIFIED:20190619T191822Z
UID:32585-1581897600-1581983999@tcshighschool.org
SUMMARY:Admin Day
DESCRIPTION:
URL:https://tcshighschool.org/event/admin-day-3/
CATEGORIES:Holidays
END:VEVENT
BEGIN:VEVENT
DTSTART;VALUE=DATE:20191221
DTEND;VALUE=DATE:20200102
DTSTAMP:20260423T160204
CREATED:20190619T191612Z
LAST-MODIFIED:20190619T191612Z
UID:32581-1576886400-1577923199@tcshighschool.org
SUMMARY:Winter Break
DESCRIPTION:
URL:https://tcshighschool.org/event/winter-break-6/
CATEGORIES:Holidays
END:VEVENT
BEGIN:VEVENT
DTSTART;VALUE=DATE:20191128
DTEND;VALUE=DATE:20191130
DTSTAMP:20260423T160204
CREATED:20190619T191355Z
LAST-MODIFIED:20190619T191513Z
UID:32579-1574899200-1575071999@tcshighschool.org
SUMMARY:Thanksgiving Holiday
DESCRIPTION:
URL:https://tcshighschool.org/event/thanksgiving-holiday-5/
CATEGORIES:Holidays
END:VEVENT
BEGIN:VEVENT
DTSTART;VALUE=DATE:20190704
DTEND;VALUE=DATE:20190706
DTSTAMP:20260423T160204
CREATED:20190619T192226Z
LAST-MODIFIED:20190619T192226Z
UID:32587-1562198400-1562371199@tcshighschool.org
SUMMARY:School Closed
DESCRIPTION:
URL:https://tcshighschool.org/event/school-closed/
CATEGORIES:Holidays
END:VEVENT
BEGIN:VEVENT
DTSTART;TZID=America/New_York:20190527T080000
DTEND;TZID=America/New_York:20190527T170000
DTSTAMP:20260423T160204
CREATED:20190428T132254Z
LAST-MODIFIED:20190428T132254Z
UID:32044-1558944000-1558976400@tcshighschool.org
SUMMARY:Memorial Day Holiday
DESCRIPTION:
URL:https://tcshighschool.org/event/memorial-day-holiday-5/
CATEGORIES:Holidays
END:VEVENT
BEGIN:VEVENT
DTSTART;VALUE=DATE:20190413
DTEND;VALUE=DATE:20190422
DTSTAMP:20260423T160204
CREATED:20190221T223900Z
LAST-MODIFIED:20190221T223900Z
UID:31700-1555113600-1555891199@tcshighschool.org
SUMMARY:Spring Break
DESCRIPTION:
URL:https://tcshighschool.org/event/spring-break-6/
CATEGORIES:Holidays
END:VEVENT
BEGIN:VEVENT
DTSTART;VALUE=DATE:20181222
DTEND;VALUE=DATE:20190102
DTSTAMP:20260423T160204
CREATED:20181201T223637Z
LAST-MODIFIED:20181201T223637Z
UID:31286-1545436800-1546387199@tcshighschool.org
SUMMARY:Winter Break
DESCRIPTION:
URL:https://tcshighschool.org/event/winter-break-5/
CATEGORIES:Holidays
END:VEVENT
BEGIN:VEVENT
DTSTART;VALUE=DATE:20181122
DTEND;VALUE=DATE:20181124
DTSTAMP:20260423T160204
CREATED:20181006T231646Z
LAST-MODIFIED:20181006T231646Z
UID:31062-1542844800-1543017599@tcshighschool.org
SUMMARY:Thanksgiving Holiday
DESCRIPTION:
URL:https://tcshighschool.org/event/thanksgiving-holiday-4/
CATEGORIES:Holidays
END:VEVENT
BEGIN:VEVENT
DTSTART;VALUE=DATE:20180324
DTEND;VALUE=DATE:20180402
DTSTAMP:20260423T160204
CREATED:20180131T172757Z
LAST-MODIFIED:20180312T110955Z
UID:29332-1521849600-1522627199@tcshighschool.org
SUMMARY:Spring Break
DESCRIPTION:
URL:https://tcshighschool.org/event/spring-break-5/
CATEGORIES:Holidays
ATTACH;FMTTYPE=image/png:https://tcshighschool.org/wp-content/uploads/2018/01/images.png
END:VEVENT
BEGIN:VEVENT
DTSTART;VALUE=DATE:20171223
DTEND;VALUE=DATE:20180103
DTSTAMP:20260423T160204
CREATED:20170906T000523Z
LAST-MODIFIED:20170906T000523Z
UID:4478-1513987200-1514937599@tcshighschool.org
SUMMARY:Winter Break
DESCRIPTION:
URL:https://tcshighschool.org/event/winter-break-4-2/
CATEGORIES:Holidays
END:VEVENT
BEGIN:VEVENT
DTSTART;VALUE=DATE:20171123
DTEND;VALUE=DATE:20171125
DTSTAMP:20260423T160204
CREATED:20170906T000441Z
LAST-MODIFIED:20170906T000441Z
UID:4477-1511395200-1511567999@tcshighschool.org
SUMMARY:Thanksgiving Holiday
DESCRIPTION:
URL:https://tcshighschool.org/event/thanksgiving-holiday-3-2/
CATEGORIES:Holidays
END:VEVENT
BEGIN:VEVENT
DTSTART;VALUE=DATE:20170529
DTEND;VALUE=DATE:20170530
DTSTAMP:20260423T160204
CREATED:20160925T132938Z
LAST-MODIFIED:20160925T132938Z
UID:3959-1496016000-1496102399@tcshighschool.org
SUMMARY:Memorial Day Holiday
DESCRIPTION:
URL:https://tcshighschool.org/event/memorial-day-holiday-2/
CATEGORIES:Holidays
END:VEVENT
BEGIN:VEVENT
DTSTART;VALUE=DATE:20170408
DTEND;VALUE=DATE:20170417
DTSTAMP:20260423T160204
CREATED:20160925T132836Z
LAST-MODIFIED:20160925T132836Z
UID:3957-1491609600-1492387199@tcshighschool.org
SUMMARY:Spring Break
DESCRIPTION:
URL:https://tcshighschool.org/event/spring-break-3/
CATEGORIES:Holidays
END:VEVENT
BEGIN:VEVENT
DTSTART;VALUE=DATE:20161223
DTEND;VALUE=DATE:20170103
DTSTAMP:20260423T160204
CREATED:20160925T132725Z
LAST-MODIFIED:20160925T132725Z
UID:3955-1482451200-1483401599@tcshighschool.org
SUMMARY:Winter Break
DESCRIPTION:
URL:https://tcshighschool.org/event/winter-break-3/
CATEGORIES:Holidays
END:VEVENT
BEGIN:VEVENT
DTSTART;VALUE=DATE:20161124
DTEND;VALUE=DATE:20161126
DTSTAMP:20260423T160204
CREATED:20160925T132622Z
LAST-MODIFIED:20160925T132622Z
UID:3953-1479945600-1480118399@tcshighschool.org
SUMMARY:Thanksgiving Holiday
DESCRIPTION:
URL:https://tcshighschool.org/event/thanksgiving-holiday-2/
CATEGORIES:Holidays
END:VEVENT
BEGIN:VEVENT
DTSTART;VALUE=DATE:20160530
DTEND;VALUE=DATE:20160531
DTSTAMP:20260423T160204
CREATED:20150815T233535Z
LAST-MODIFIED:20150815T233535Z
UID:2667-1464566400-1464652799@tcshighschool.org
SUMMARY:Memorial Day Holiday
DESCRIPTION:
URL:https://tcshighschool.org/event/memorial-day-holiday/
CATEGORIES:Holidays
END:VEVENT
BEGIN:VEVENT
DTSTART;VALUE=DATE:20160530
DTEND;VALUE=DATE:20160531
DTSTAMP:20260423T160204
CREATED:20150815T233535Z
LAST-MODIFIED:20150815T233535Z
UID:27869-1464566400-1464652799@tcshighschool.org
SUMMARY:Memorial Day Holiday
DESCRIPTION:
URL:https://tcshighschool.org/event/memorial-day-holiday-3/
CATEGORIES:Holidays
END:VEVENT
BEGIN:VEVENT
DTSTART;VALUE=DATE:20160326
DTEND;VALUE=DATE:20160404
DTSTAMP:20260423T160204
CREATED:20150815T233209Z
LAST-MODIFIED:20150815T233209Z
UID:2663-1458950400-1459727999@tcshighschool.org
SUMMARY:Spring Break
DESCRIPTION:
URL:https://tcshighschool.org/event/spring-break-2/
CATEGORIES:Holidays
END:VEVENT
BEGIN:VEVENT
DTSTART;VALUE=DATE:20160326
DTEND;VALUE=DATE:20160404
DTSTAMP:20260423T160204
CREATED:20150815T233209Z
LAST-MODIFIED:20150815T233209Z
UID:27866-1458950400-1459727999@tcshighschool.org
SUMMARY:Spring Break
DESCRIPTION:
URL:https://tcshighschool.org/event/spring-break-2-2/
CATEGORIES:Holidays
END:VEVENT
BEGIN:VEVENT
DTSTART;VALUE=DATE:20160219
DTEND;VALUE=DATE:20160220
DTSTAMP:20260423T160204
CREATED:20150815T233507Z
LAST-MODIFIED:20150815T233507Z
UID:2666-1455840000-1455926399@tcshighschool.org
SUMMARY:Admin Day - No Class
DESCRIPTION:
URL:https://tcshighschool.org/event/admin-day-no-class-2/
CATEGORIES:Holidays
END:VEVENT
BEGIN:VEVENT
DTSTART;VALUE=DATE:20160219
DTEND;VALUE=DATE:20160220
DTSTAMP:20260423T160204
CREATED:20150815T233507Z
LAST-MODIFIED:20150815T233507Z
UID:27868-1455840000-1455926399@tcshighschool.org
SUMMARY:Admin Day - No Class
DESCRIPTION:
URL:https://tcshighschool.org/event/admin-day-no-class-2-2/
CATEGORIES:Holidays
END:VEVENT
BEGIN:VEVENT
DTSTART;VALUE=DATE:20151223
DTEND;VALUE=DATE:20160104
DTSTAMP:20260423T160204
CREATED:20150815T232938Z
LAST-MODIFIED:20150815T232938Z
UID:27863-1450828800-1451865599@tcshighschool.org
SUMMARY:Winter Break
DESCRIPTION:
URL:https://tcshighschool.org/event/winter-break-2-2/
CATEGORIES:Holidays
END:VEVENT
BEGIN:VEVENT
DTSTART;VALUE=DATE:20151223
DTEND;VALUE=DATE:20160104
DTSTAMP:20260423T160204
CREATED:20150815T232938Z
LAST-MODIFIED:20150815T232938Z
UID:2660-1450828800-1451865599@tcshighschool.org
SUMMARY:Winter Break
DESCRIPTION:
URL:https://tcshighschool.org/event/winter-break-2/
CATEGORIES:Holidays
END:VEVENT
BEGIN:VEVENT
DTSTART;VALUE=DATE:20151126
DTEND;VALUE=DATE:20151128
DTSTAMP:20260423T160204
CREATED:20150815T232814Z
LAST-MODIFIED:20150815T232814Z
UID:2658-1448496000-1448668799@tcshighschool.org
SUMMARY:Thanksgiving Holiday
DESCRIPTION:
URL:https://tcshighschool.org/event/thanksgiving-holiday/
CATEGORIES:Holidays
END:VEVENT
BEGIN:VEVENT
DTSTART;VALUE=DATE:20151126
DTEND;VALUE=DATE:20151128
DTSTAMP:20260423T160204
CREATED:20150815T232814Z
LAST-MODIFIED:20150815T232814Z
UID:27861-1448496000-1448668799@tcshighschool.org
SUMMARY:Thanksgiving Holiday
DESCRIPTION:
URL:https://tcshighschool.org/event/thanksgiving-holiday-3/
CATEGORIES:Holidays
END:VEVENT
END:VCALENDAR