BEGIN:VCALENDAR
VERSION:2.0
PRODID:-//TCS High School - ECPv6.15.11//NONSGML v1.0//EN
CALSCALE:GREGORIAN
METHOD:PUBLISH
X-ORIGINAL-URL:https://tcshighschool.org
X-WR-CALDESC:Events for TCS High School
REFRESH-INTERVAL;VALUE=DURATION:PT1H
X-Robots-Tag:noindex
X-PUBLISHED-TTL:PT1H
BEGIN:VTIMEZONE
TZID:America/New_York
BEGIN:DAYLIGHT
TZOFFSETFROM:-0500
TZOFFSETTO:-0400
TZNAME:EDT
DTSTART:20230312T070000
END:DAYLIGHT
BEGIN:STANDARD
TZOFFSETFROM:-0400
TZOFFSETTO:-0500
TZNAME:EST
DTSTART:20231105T060000
END:STANDARD
BEGIN:DAYLIGHT
TZOFFSETFROM:-0500
TZOFFSETTO:-0400
TZNAME:EDT
DTSTART:20240310T070000
END:DAYLIGHT
BEGIN:STANDARD
TZOFFSETFROM:-0400
TZOFFSETTO:-0500
TZNAME:EST
DTSTART:20241103T060000
END:STANDARD
BEGIN:DAYLIGHT
TZOFFSETFROM:-0500
TZOFFSETTO:-0400
TZNAME:EDT
DTSTART:20250309T070000
END:DAYLIGHT
BEGIN:STANDARD
TZOFFSETFROM:-0400
TZOFFSETTO:-0500
TZNAME:EST
DTSTART:20251102T060000
END:STANDARD
END:VTIMEZONE
BEGIN:VEVENT
DTSTART;TZID=America/New_York:20240102T121500
DTEND;TZID=America/New_York:20240102T124500
DTSTAMP:20260425T195227
CREATED:20231227T183834Z
LAST-MODIFIED:20231227T183834Z
UID:44851-1704197700-1704199500@tcshighschool.org
SUMMARY:Lunch: Ms. Peg
DESCRIPTION:
URL:https://tcshighschool.org/event/lunch-ms-peg-61/
CATEGORIES:Lunch
END:VEVENT
BEGIN:VEVENT
DTSTART;TZID=America/New_York:20240103T121500
DTEND;TZID=America/New_York:20240103T124500
DTSTAMP:20260425T195227
CREATED:20231212T154953Z
LAST-MODIFIED:20240102T155746Z
UID:44684-1704284100-1704285900@tcshighschool.org
SUMMARY:Lunch: Ms. Linda (Madison's Mom)
DESCRIPTION:Turkey or ham sandwiches\, caesar salad\, chips
URL:https://tcshighschool.org/event/lunch-ms-linda-madisons-mom-19/
CATEGORIES:Lunch
END:VEVENT
BEGIN:VEVENT
DTSTART;TZID=America/New_York:20240104T121500
DTEND;TZID=America/New_York:20240104T123000
DTSTAMP:20260425T195227
CREATED:20230810T202317Z
LAST-MODIFIED:20230816T185939Z
UID:42889-1704370500-1704371400@tcshighschool.org
SUMMARY:Lunch: The Lyric
DESCRIPTION:
URL:https://tcshighschool.org/event/lunchlyric-4/
CATEGORIES:Lunch
END:VEVENT
BEGIN:VEVENT
DTSTART;TZID=America/New_York:20240105T110000
DTEND;TZID=America/New_York:20240105T113000
DTSTAMP:20260425T195227
CREATED:20231215T120749Z
LAST-MODIFIED:20231215T120749Z
UID:44713-1704452400-1704454200@tcshighschool.org
SUMMARY:Lunch: Ms. Linda (Ethan's Sponsor)
DESCRIPTION:
URL:https://tcshighschool.org/event/lunch-ms-linda-ethans-sponsor-2/
CATEGORIES:Lunch
END:VEVENT
BEGIN:VEVENT
DTSTART;TZID=America/New_York:20240108T121500
DTEND;TZID=America/New_York:20240108T124500
DTSTAMP:20260425T195227
CREATED:20230904T143931Z
LAST-MODIFIED:20240114T143454Z
UID:43810-1704716100-1704717900@tcshighschool.org
SUMMARY:Lunch: Ms. Carol
DESCRIPTION:spaghetti & meatballs\, garlic bread & salad
URL:https://tcshighschool.org/event/lunch-ms-carol-87/
CATEGORIES:Lunch
END:VEVENT
BEGIN:VEVENT
DTSTART;TZID=America/New_York:20240109T121500
DTEND;TZID=America/New_York:20240109T124500
DTSTAMP:20260425T195227
CREATED:20230810T201746Z
LAST-MODIFIED:20240107T022540Z
UID:42862-1704802500-1704804300@tcshighschool.org
SUMMARY:Lunch: Ms. Peggy
DESCRIPTION:Chicken Bake/Salad/Fruit/Dessert
URL:https://tcshighschool.org/event/lunch-ms-peggy-3-2024-01-09/
CATEGORIES:Lunch
END:VEVENT
BEGIN:VEVENT
DTSTART;TZID=America/New_York:20240110T121500
DTEND;TZID=America/New_York:20240110T124500
DTSTAMP:20260425T195227
CREATED:20231215T120916Z
LAST-MODIFIED:20240114T143604Z
UID:44715-1704888900-1704890700@tcshighschool.org
SUMMARY:Lunch: Ms. Carla (Karla & Ruth's Mom)
DESCRIPTION:pupusas
URL:https://tcshighschool.org/event/lunch-ms-carla-karla-ruths-mom-2/
CATEGORIES:Lunch
END:VEVENT
BEGIN:VEVENT
DTSTART;TZID=America/New_York:20240111T121500
DTEND;TZID=America/New_York:20240111T124500
DTSTAMP:20260425T195227
CREATED:20231215T121007Z
LAST-MODIFIED:20240114T143228Z
UID:44717-1704975300-1704977100@tcshighschool.org
SUMMARY:Lunch: Ms. Miriam (Mohamed's Mom)
DESCRIPTION:Hip Hop Chicken & Fries
URL:https://tcshighschool.org/event/lunch-ms-miriam-mohameds-mom-2/
CATEGORIES:Lunch
END:VEVENT
BEGIN:VEVENT
DTSTART;TZID=America/New_York:20240112T110000
DTEND;TZID=America/New_York:20240112T113000
DTSTAMP:20260425T195227
CREATED:20231215T121055Z
LAST-MODIFIED:20240114T143353Z
UID:44719-1705057200-1705059000@tcshighschool.org
SUMMARY:Lunch: Ms. Lisa Knickmeyer
DESCRIPTION:pizza & desserts
URL:https://tcshighschool.org/event/lunch-ms-lisa-knickmeyer-8/
CATEGORIES:Lunch
END:VEVENT
BEGIN:VEVENT
DTSTART;TZID=America/New_York:20240115T121500
DTEND;TZID=America/New_York:20240115T124500
DTSTAMP:20260425T195227
CREATED:20231215T121155Z
LAST-MODIFIED:20240114T142934Z
UID:44721-1705320900-1705322700@tcshighschool.org
SUMMARY:Lunch: Ms. Jenae (Rhys & Quinn's Mom)
DESCRIPTION:Penne Primavera with Chicken
URL:https://tcshighschool.org/event/lunch-ms-jenae-rhys-quinns-mom-8/
CATEGORIES:Lunch
END:VEVENT
BEGIN:VEVENT
DTSTART;TZID=America/New_York:20240117T121500
DTEND;TZID=America/New_York:20240117T124500
DTSTAMP:20260425T195227
CREATED:20231215T121257Z
LAST-MODIFIED:20231215T121257Z
UID:44723-1705493700-1705495500@tcshighschool.org
SUMMARY:Lunch: Ms. Kevin (Sam's Dad)
DESCRIPTION:
URL:https://tcshighschool.org/event/lunch-ms-kevin-sams-dad/
CATEGORIES:Lunch
END:VEVENT
BEGIN:VEVENT
DTSTART;TZID=America/New_York:20240118T121500
DTEND;TZID=America/New_York:20240118T124500
DTSTAMP:20260425T195227
CREATED:20230904T143251Z
LAST-MODIFIED:20240114T143056Z
UID:43794-1705580100-1705581900@tcshighschool.org
SUMMARY:Lunch: Ms. Mary Louise
DESCRIPTION:Italian Cold Cut
URL:https://tcshighschool.org/event/lunch-ms-mary-louise-17/
CATEGORIES:Lunch
END:VEVENT
BEGIN:VEVENT
DTSTART;TZID=America/New_York:20240122T121500
DTEND;TZID=America/New_York:20240122T124500
DTSTAMP:20260425T195227
CREATED:20230817T155911Z
LAST-MODIFIED:20240121T190507Z
UID:43489-1705925700-1705927500@tcshighschool.org
SUMMARY:Lunch: Berman McAleer
DESCRIPTION:Sandwiches
URL:https://tcshighschool.org/event/lunch-berman-mcaleer-15-2024-01-15/
CATEGORIES:Lunch
END:VEVENT
BEGIN:VEVENT
DTSTART;TZID=America/New_York:20240123T121500
DTEND;TZID=America/New_York:20240123T124500
DTSTAMP:20260425T195227
CREATED:20230810T201746Z
LAST-MODIFIED:20240116T132603Z
UID:42864-1706012100-1706013900@tcshighschool.org
SUMMARY:Lunch: Ms. Peggy
DESCRIPTION:Grilled Cheese & Turkey Bacon Sandwich/Soup/Fruit/Dessert
URL:https://tcshighschool.org/event/lunch-ms-peggy-3-2024-01-23/
CATEGORIES:Lunch
END:VEVENT
BEGIN:VEVENT
DTSTART;TZID=America/New_York:20240124T121500
DTEND;TZID=America/New_York:20240124T124500
DTSTAMP:20260425T195227
CREATED:20230904T210736Z
LAST-MODIFIED:20230904T210736Z
UID:43853-1706098500-1706100300@tcshighschool.org
SUMMARY:Lunch: Mr. Ken & Ms. Paulette
DESCRIPTION:
URL:https://tcshighschool.org/event/lunch-mr-ken-ms-paulette-12/
CATEGORIES:Lunch
END:VEVENT
BEGIN:VEVENT
DTSTART;TZID=America/New_York:20240125T121500
DTEND;TZID=America/New_York:20240125T124500
DTSTAMP:20260425T195227
CREATED:20231215T121359Z
LAST-MODIFIED:20231215T121359Z
UID:44725-1706184900-1706186700@tcshighschool.org
SUMMARY:Lunch: Ms. Miriam (Mohamed's Mom)
DESCRIPTION:
URL:https://tcshighschool.org/event/lunch-ms-miriam-mohameds-mom-3/
CATEGORIES:Lunch
END:VEVENT
BEGIN:VEVENT
DTSTART;TZID=America/New_York:20240126T110000
DTEND;TZID=America/New_York:20240126T113000
DTSTAMP:20260425T195227
CREATED:20231215T121451Z
LAST-MODIFIED:20231215T121451Z
UID:44727-1706266800-1706268600@tcshighschool.org
SUMMARY:Lunch: Ms. Neyvy (Fatima's Mom)
DESCRIPTION:
URL:https://tcshighschool.org/event/lunch-ms-neyvy-fatimas-mom-5/
CATEGORIES:Lunch
END:VEVENT
BEGIN:VEVENT
DTSTART;TZID=America/New_York:20240129T121500
DTEND;TZID=America/New_York:20240129T124500
DTSTAMP:20260425T195227
CREATED:20231215T121641Z
LAST-MODIFIED:20240126T194303Z
UID:44729-1706530500-1706532300@tcshighschool.org
SUMMARY:Lunch: Ms. Leslie (Kennedy's Mom)
DESCRIPTION:Spaghetti
URL:https://tcshighschool.org/event/lunch-ms-leslie-kennedys-mom-15/
CATEGORIES:Lunch
END:VEVENT
BEGIN:VEVENT
DTSTART;TZID=America/New_York:20240130T121500
DTEND;TZID=America/New_York:20240130T124500
DTSTAMP:20260425T195227
CREATED:20231215T121726Z
LAST-MODIFIED:20231215T121726Z
UID:44731-1706616900-1706618700@tcshighschool.org
SUMMARY:Lunch: Mr. Kevin (Sam's Dad)
DESCRIPTION:
URL:https://tcshighschool.org/event/lunch-mr-kevin-sams-dad-2/
CATEGORIES:Lunch
END:VEVENT
END:VCALENDAR