BEGIN:VCALENDAR
VERSION:2.0
PRODID:-//TCS High School - ECPv6.15.11//NONSGML v1.0//EN
CALSCALE:GREGORIAN
METHOD:PUBLISH
X-WR-CALNAME:TCS High School
X-ORIGINAL-URL:https://tcshighschool.org
X-WR-CALDESC:Events for TCS High School
REFRESH-INTERVAL;VALUE=DURATION:PT1H
X-Robots-Tag:noindex
X-PUBLISHED-TTL:PT1H
BEGIN:VTIMEZONE
TZID:America/New_York
BEGIN:DAYLIGHT
TZOFFSETFROM:-0500
TZOFFSETTO:-0400
TZNAME:EDT
DTSTART:20230312T070000
END:DAYLIGHT
BEGIN:STANDARD
TZOFFSETFROM:-0400
TZOFFSETTO:-0500
TZNAME:EST
DTSTART:20231105T060000
END:STANDARD
BEGIN:DAYLIGHT
TZOFFSETFROM:-0500
TZOFFSETTO:-0400
TZNAME:EDT
DTSTART:20240310T070000
END:DAYLIGHT
BEGIN:STANDARD
TZOFFSETFROM:-0400
TZOFFSETTO:-0500
TZNAME:EST
DTSTART:20241103T060000
END:STANDARD
BEGIN:DAYLIGHT
TZOFFSETFROM:-0500
TZOFFSETTO:-0400
TZNAME:EDT
DTSTART:20250309T070000
END:DAYLIGHT
BEGIN:STANDARD
TZOFFSETFROM:-0400
TZOFFSETTO:-0500
TZNAME:EST
DTSTART:20251102T060000
END:STANDARD
END:VTIMEZONE
BEGIN:VEVENT
DTSTART;TZID=America/New_York:20240514T121500
DTEND;TZID=America/New_York:20240514T124500
DTSTAMP:20260425T161351
CREATED:20230810T201746Z
LAST-MODIFIED:20240316T184703Z
UID:42880-1715688900-1715690700@tcshighschool.org
SUMMARY:Lunch: Ms. Peggy
DESCRIPTION:chicken pot pie/fruit
URL:https://tcshighschool.org/event/lunch-ms-peggy-3-2024-05-14/
CATEGORIES:Lunch
END:VEVENT
BEGIN:VEVENT
DTSTART;TZID=America/New_York:20240515T121500
DTEND;TZID=America/New_York:20240515T124500
DTSTAMP:20260425T161351
CREATED:20240515T104734Z
LAST-MODIFIED:20240515T104734Z
UID:45615-1715775300-1715777100@tcshighschool.org
SUMMARY:Lunch: Ms. Linda (Madison's Mom)
DESCRIPTION:
URL:https://tcshighschool.org/event/lunch-ms-linda-madisons-mom-23/
CATEGORIES:Lunch
END:VEVENT
BEGIN:VEVENT
DTSTART;TZID=America/New_York:20240516T130000
DTEND;TZID=America/New_York:20240516T133000
DTSTAMP:20260425T161351
CREATED:20240515T104825Z
LAST-MODIFIED:20240515T104825Z
UID:45617-1715864400-1715866200@tcshighschool.org
SUMMARY:Lunch: Mr. Dave Bayer
DESCRIPTION:
URL:https://tcshighschool.org/event/lunch-mr-dave-bayer/
CATEGORIES:Lunch
END:VEVENT
BEGIN:VEVENT
DTSTART;TZID=America/New_York:20240517T110000
DTEND;TZID=America/New_York:20240517T113000
DTSTAMP:20260425T161351
CREATED:20240308T123906Z
LAST-MODIFIED:20240516T185401Z
UID:45284-1715943600-1715945400@tcshighschool.org
SUMMARY:Lunch: Ms. Knickmeyer
DESCRIPTION:Chik’n* Nuggets \nMac & Cheese \nCole slaw \nDessert – not sure what.
URL:https://tcshighschool.org/event/lunch-ms-knickmeyer-2/
CATEGORIES:Lunch
END:VEVENT
BEGIN:VEVENT
DTSTART;TZID=America/New_York:20240520T120000
DTEND;TZID=America/New_York:20240520T123000
DTSTAMP:20260425T161351
CREATED:20230817T180029Z
LAST-MODIFIED:20240409T233834Z
UID:43510-1716206400-1716208200@tcshighschool.org
SUMMARY:Lunch: Berman McAleer
DESCRIPTION:
URL:https://tcshighschool.org/event/lunch-berman-mcaleer-16/
CATEGORIES:Lunch
END:VEVENT
BEGIN:VEVENT
DTSTART;TZID=America/New_York:20240521T121500
DTEND;TZID=America/New_York:20240521T124500
DTSTAMP:20260425T161351
CREATED:20230810T201746Z
LAST-MODIFIED:20240316T184732Z
UID:42881-1716293700-1716295500@tcshighschool.org
SUMMARY:Lunch: Ms. Peggy
DESCRIPTION:hot turkey sandwiches/salad/fruit
URL:https://tcshighschool.org/event/lunch-ms-peggy-3-2024-05-21/
CATEGORIES:Lunch
END:VEVENT
BEGIN:VEVENT
DTSTART;TZID=America/New_York:20240522T121500
DTEND;TZID=America/New_York:20240522T124500
DTSTAMP:20260425T161351
CREATED:20230904T143539Z
LAST-MODIFIED:20240427T145704Z
UID:43802-1716380100-1716381900@tcshighschool.org
SUMMARY:Lunch: Ms. Mary Louise
DESCRIPTION:
URL:https://tcshighschool.org/event/lunch-ms-mary-louise-21/
CATEGORIES:Lunch
END:VEVENT
BEGIN:VEVENT
DTSTART;TZID=America/New_York:20240523T121500
DTEND;TZID=America/New_York:20240523T124500
DTSTAMP:20260425T161351
CREATED:20240308T122938Z
LAST-MODIFIED:20240308T122938Z
UID:45276-1716466500-1716468300@tcshighschool.org
SUMMARY:Lunch: Mr. Anderson (Sam's Brother)
DESCRIPTION:
URL:https://tcshighschool.org/event/lunch-mr-anderson-sams-brother/
CATEGORIES:Lunch
END:VEVENT
BEGIN:VEVENT
DTSTART;TZID=America/New_York:20240524T110000
DTEND;TZID=America/New_York:20240524T113000
DTSTAMP:20260425T161351
CREATED:20240308T120304Z
LAST-MODIFIED:20240308T120304Z
UID:45261-1716548400-1716550200@tcshighschool.org
SUMMARY:Lunch: Ms. Carla (Karla & Ruth's Mom)
DESCRIPTION:
URL:https://tcshighschool.org/event/lunch-ms-carla-karla-ruths-mom-5/
CATEGORIES:Lunch
END:VEVENT
BEGIN:VEVENT
DTSTART;TZID=America/New_York:20240528T121500
DTEND;TZID=America/New_York:20240528T124500
DTSTAMP:20260425T161351
CREATED:20230810T201746Z
LAST-MODIFIED:20240316T184809Z
UID:42882-1716898500-1716900300@tcshighschool.org
SUMMARY:Lunch: Ms. Peggy
DESCRIPTION:Quesadillas/salad/fruit
URL:https://tcshighschool.org/event/lunch-ms-peggy-3-2024-05-28/
CATEGORIES:Lunch
END:VEVENT
BEGIN:VEVENT
DTSTART;TZID=America/New_York:20240529T121500
DTEND;TZID=America/New_York:20240529T124500
DTSTAMP:20260425T161351
CREATED:20240308T123052Z
LAST-MODIFIED:20240528T191845Z
UID:45278-1716984900-1716986700@tcshighschool.org
SUMMARY:Lunch: Ms. Kate (Madison's Sponsor)
DESCRIPTION:pizza
URL:https://tcshighschool.org/event/lunch-ms-kate-madisons-sponsor-4/
CATEGORIES:Lunch
END:VEVENT
BEGIN:VEVENT
DTSTART;TZID=America/New_York:20240530T121500
DTEND;TZID=America/New_York:20240530T124500
DTSTAMP:20260425T161351
CREATED:20240308T123655Z
LAST-MODIFIED:20240308T123655Z
UID:45280-1717071300-1717073100@tcshighschool.org
SUMMARY:Lunch: (Mr. Kevin & Ms. Leah) Sam's Parents
DESCRIPTION:
URL:https://tcshighschool.org/event/lunch-mr-kevin-ms-leah-sams-parents/
CATEGORIES:Lunch
END:VEVENT
BEGIN:VEVENT
DTSTART;TZID=America/New_York:20240531T121500
DTEND;TZID=America/New_York:20240531T124500
DTSTAMP:20260425T161351
CREATED:20240308T123738Z
LAST-MODIFIED:20240528T183708Z
UID:45282-1717157700-1717159500@tcshighschool.org
SUMMARY:Lunch: Ms. Rita (Ethan's Mom)
DESCRIPTION:Shake Shack
URL:https://tcshighschool.org/event/lunch-ms-rita-ethans-mom-13/
CATEGORIES:Lunch
END:VEVENT
BEGIN:VEVENT
DTSTART;TZID=America/New_York:20240904T121500
DTEND;TZID=America/New_York:20240904T124500
DTSTAMP:20260425T161351
CREATED:20240816T161625Z
LAST-MODIFIED:20240901T123616Z
UID:46244-1725452100-1725453900@tcshighschool.org
SUMMARY:Lunch: Ms. Jenae (Rhys & Quinn's Mom)
DESCRIPTION:TACOS
URL:https://tcshighschool.org/event/lunch-ms-jenae-rhys-quinns-mom-18/
CATEGORIES:Lunch
END:VEVENT
BEGIN:VEVENT
DTSTART;TZID=America/New_York:20240905T121500
DTEND;TZID=America/New_York:20240905T124500
DTSTAMP:20260425T161351
CREATED:20240828T000649Z
LAST-MODIFIED:20240903T153116Z
UID:46323-1725538500-1725540300@tcshighschool.org
SUMMARY:Lunch: Ms. Rachel (Quinn & Rhys's Sponsor)
DESCRIPTION:turkey & cheese or ham & cheese subs. I will send shredded lettuce\, sliced tomato\, mayo and mustard that can be added by the students.   I am also sending along a loaf of bread with peanut butter and jelly in the event a student does not care for lunchmeat.  Chips\, fruit cups (mandarin oranges oranges and diced peaches)\, and cookies for dessert will also be coming.
URL:https://tcshighschool.org/event/lunch-ms-rachel-quinn-rhyss-sponsor/
CATEGORIES:Lunch
END:VEVENT
BEGIN:VEVENT
DTSTART;TZID=America/New_York:20240906T110000
DTEND;TZID=America/New_York:20240906T113000
DTSTAMP:20260425T161351
CREATED:20240801T214343Z
LAST-MODIFIED:20240902T170204Z
UID:46004-1725620400-1725622200@tcshighschool.org
SUMMARY:Lunch: Trustees
DESCRIPTION:Fried Chicken & Sides
URL:https://tcshighschool.org/event/lunch-trustees-2/
CATEGORIES:Lunch
END:VEVENT
BEGIN:VEVENT
DTSTART;TZID=America/New_York:20240909T121500
DTEND;TZID=America/New_York:20240909T124500
DTSTAMP:20260425T161351
CREATED:20240828T000802Z
LAST-MODIFIED:20240909T105114Z
UID:46325-1725884100-1725885900@tcshighschool.org
SUMMARY:Lunch: Ms. Leslie (Kennedy's Mom)
DESCRIPTION:Spaghetti
URL:https://tcshighschool.org/event/lunch-ms-leslie-kennedys-mom-20/
CATEGORIES:Lunch
END:VEVENT
BEGIN:VEVENT
DTSTART;TZID=America/New_York:20240910T121500
DTEND;TZID=America/New_York:20240910T124500
DTSTAMP:20260425T161351
CREATED:20240801T213118Z
LAST-MODIFIED:20240801T213354Z
UID:45941-1725970500-1725972300@tcshighschool.org
SUMMARY:Lunch: Ms. Peg
DESCRIPTION:
URL:https://tcshighschool.org/event/lunch-ms-peg-62/
CATEGORIES:Lunch
END:VEVENT
BEGIN:VEVENT
DTSTART;TZID=America/New_York:20240911T121500
DTEND;TZID=America/New_York:20240911T124500
DTSTAMP:20260425T161351
CREATED:20240801T211855Z
LAST-MODIFIED:20240910T155328Z
UID:45929-1726056900-1726058700@tcshighschool.org
SUMMARY:Lunch: Ms. Linda (Madison's Mom)
DESCRIPTION:sandwiches and Mac and cheese
URL:https://tcshighschool.org/event/lunch-ms-linda-madisons-mom-24/
CATEGORIES:Lunch
END:VEVENT
BEGIN:VEVENT
DTSTART;TZID=America/New_York:20240912T121500
DTEND;TZID=America/New_York:20240912T124500
DTSTAMP:20260425T161351
CREATED:20240827T235823Z
LAST-MODIFIED:20240910T200739Z
UID:46320-1726143300-1726145100@tcshighschool.org
SUMMARY:Lunch: Ms. Leslie (Jordan's Mom)
DESCRIPTION:Rotisserie chicken and rolls
URL:https://tcshighschool.org/event/lunch-ms-leslie-kennedys-mom-17/
CATEGORIES:Lunch
END:VEVENT
BEGIN:VEVENT
DTSTART;TZID=America/New_York:20240913T110000
DTEND;TZID=America/New_York:20240913T113000
DTSTAMP:20260425T161351
CREATED:20240815T010636Z
LAST-MODIFIED:20240912T172519Z
UID:46200-1726225200-1726227000@tcshighschool.org
SUMMARY:Lunch: Ms. Rita (Ethan's Mom)
DESCRIPTION:chik fil a.
URL:https://tcshighschool.org/event/lunch-ms-rita-ethans-mom-17/
CATEGORIES:Lunch
END:VEVENT
BEGIN:VEVENT
DTSTART;TZID=America/New_York:20240916T121500
DTEND;TZID=America/New_York:20240916T124500
DTSTAMP:20260425T161351
CREATED:20240815T125947Z
LAST-MODIFIED:20240915T181212Z
UID:46224-1726488900-1726490700@tcshighschool.org
SUMMARY:Lunch: Ms. Shakiara (Khori's Mom)
DESCRIPTION:chicken and broccoli alfredo
URL:https://tcshighschool.org/event/lunch-ms-shakiara-khoris-mom/
CATEGORIES:Lunch
END:VEVENT
BEGIN:VEVENT
DTSTART;TZID=America/New_York:20240917T121500
DTEND;TZID=America/New_York:20240917T124500
DTSTAMP:20260425T161351
CREATED:20240801T213118Z
LAST-MODIFIED:20240917T000027Z
UID:45953-1726575300-1726577100@tcshighschool.org
SUMMARY:Lunch: Ms. Peg
DESCRIPTION:Chicken pot pie/fruit
URL:https://tcshighschool.org/event/lunch-ms-peg-62-2024-09-17/
CATEGORIES:Lunch
END:VEVENT
BEGIN:VEVENT
DTSTART;TZID=America/New_York:20240918T121500
DTEND;TZID=America/New_York:20240918T124500
DTSTAMP:20260425T161351
CREATED:20240814T175415Z
LAST-MODIFIED:20240914T220827Z
UID:46182-1726661700-1726663500@tcshighschool.org
SUMMARY:Lunch: Linda J (Ethan's Sponsor)
DESCRIPTION:tortillas\, spicy beef\, veggies in case students don’t want beef\, and fixings for the kids to make their own soft tacos (salsa\, cheese\, sour cream).
URL:https://tcshighschool.org/event/lunch-linda-j-ethans-sponsor/
CATEGORIES:Lunch
END:VEVENT
BEGIN:VEVENT
DTSTART;TZID=America/New_York:20240919T121500
DTEND;TZID=America/New_York:20240919T124500
DTSTAMP:20260425T161351
CREATED:20240813T134928Z
LAST-MODIFIED:20240813T134928Z
UID:46029-1726748100-1726749900@tcshighschool.org
SUMMARY:Lunch: Berman McAleer
DESCRIPTION:
URL:https://tcshighschool.org/event/lunch-berman-mcaleer-17/
CATEGORIES:Lunch
END:VEVENT
BEGIN:VEVENT
DTSTART;TZID=America/New_York:20240920T110000
DTEND;TZID=America/New_York:20240920T113000
DTSTAMP:20260425T161351
CREATED:20240916T111332Z
LAST-MODIFIED:20240918T213008Z
UID:46481-1726830000-1726831800@tcshighschool.org
SUMMARY:Lunch: Ruth Wickless (Jordan's Sponsor)
DESCRIPTION:chili and fixings as well as cornbread and apple crisp for dessert.
URL:https://tcshighschool.org/event/lunch-ruth-wickless-jordans-sponsor/
CATEGORIES:Lunch
END:VEVENT
BEGIN:VEVENT
DTSTART;TZID=America/New_York:20240923T121500
DTEND;TZID=America/New_York:20240923T124500
DTSTAMP:20260425T161351
CREATED:20240916T124257Z
LAST-MODIFIED:20240921T205838Z
UID:46483-1727093700-1727095500@tcshighschool.org
SUMMARY:Lunch: Ms. Kyna (Danny's Mom)
DESCRIPTION:Pizza\, sodas and fruit
URL:https://tcshighschool.org/event/lunch-ms-kyna-dannys-mom-5/
CATEGORIES:Lunch
END:VEVENT
BEGIN:VEVENT
DTSTART;TZID=America/New_York:20240924T121500
DTEND;TZID=America/New_York:20240924T124500
DTSTAMP:20260425T161351
CREATED:20240801T213118Z
LAST-MODIFIED:20240917T000117Z
UID:45954-1727180100-1727181900@tcshighschool.org
SUMMARY:Lunch: Ms. Peg
DESCRIPTION:Tortellini & sausage/salad/fruit
URL:https://tcshighschool.org/event/lunch-ms-peg-62-2024-09-24/
CATEGORIES:Lunch
END:VEVENT
BEGIN:VEVENT
DTSTART;TZID=America/New_York:20240925T121500
DTEND;TZID=America/New_York:20240925T124500
DTSTAMP:20260425T161351
CREATED:20240814T175512Z
LAST-MODIFIED:20240922T221116Z
UID:46184-1727266500-1727268300@tcshighschool.org
SUMMARY:Lunch: The Bancrofts
DESCRIPTION:Chick fil a wraps
URL:https://tcshighschool.org/event/lunch-the-bancrofts/
CATEGORIES:Lunch
END:VEVENT
BEGIN:VEVENT
DTSTART;TZID=America/New_York:20240926T121500
DTEND;TZID=America/New_York:20240926T124500
DTSTAMP:20260425T161351
CREATED:20240813T210303Z
LAST-MODIFIED:20240921T210013Z
UID:46060-1727352900-1727354700@tcshighschool.org
SUMMARY:Lunch: Ms. Mary Louise
DESCRIPTION:Italian Subs
URL:https://tcshighschool.org/event/lunch-ms-mary-louise-22/
CATEGORIES:Lunch
END:VEVENT
END:VCALENDAR