BEGIN:VCALENDAR
VERSION:2.0
PRODID:-//TCS High School - ECPv6.15.11//NONSGML v1.0//EN
CALSCALE:GREGORIAN
METHOD:PUBLISH
X-ORIGINAL-URL:https://tcshighschool.org
X-WR-CALDESC:Events for TCS High School
REFRESH-INTERVAL;VALUE=DURATION:PT1H
X-Robots-Tag:noindex
X-PUBLISHED-TTL:PT1H
BEGIN:VTIMEZONE
TZID:America/New_York
BEGIN:DAYLIGHT
TZOFFSETFROM:-0500
TZOFFSETTO:-0400
TZNAME:EDT
DTSTART:20230312T070000
END:DAYLIGHT
BEGIN:STANDARD
TZOFFSETFROM:-0400
TZOFFSETTO:-0500
TZNAME:EST
DTSTART:20231105T060000
END:STANDARD
BEGIN:DAYLIGHT
TZOFFSETFROM:-0500
TZOFFSETTO:-0400
TZNAME:EDT
DTSTART:20240310T070000
END:DAYLIGHT
BEGIN:STANDARD
TZOFFSETFROM:-0400
TZOFFSETTO:-0500
TZNAME:EST
DTSTART:20241103T060000
END:STANDARD
BEGIN:DAYLIGHT
TZOFFSETFROM:-0500
TZOFFSETTO:-0400
TZNAME:EDT
DTSTART:20250309T070000
END:DAYLIGHT
BEGIN:STANDARD
TZOFFSETFROM:-0400
TZOFFSETTO:-0500
TZNAME:EST
DTSTART:20251102T060000
END:STANDARD
END:VTIMEZONE
BEGIN:VEVENT
DTSTART;TZID=America/New_York:20240924T121500
DTEND;TZID=America/New_York:20240924T124500
DTSTAMP:20260425T063203
CREATED:20240801T213118Z
LAST-MODIFIED:20240917T000117Z
UID:45954-1727180100-1727181900@tcshighschool.org
SUMMARY:Lunch: Ms. Peg
DESCRIPTION:Tortellini & sausage/salad/fruit
URL:https://tcshighschool.org/event/lunch-ms-peg-62-2024-09-24/
CATEGORIES:Lunch
END:VEVENT
BEGIN:VEVENT
DTSTART;TZID=America/New_York:20240925T121500
DTEND;TZID=America/New_York:20240925T124500
DTSTAMP:20260425T063203
CREATED:20240814T175512Z
LAST-MODIFIED:20240922T221116Z
UID:46184-1727266500-1727268300@tcshighschool.org
SUMMARY:Lunch: The Bancrofts
DESCRIPTION:Chick fil a wraps
URL:https://tcshighschool.org/event/lunch-the-bancrofts/
CATEGORIES:Lunch
END:VEVENT
BEGIN:VEVENT
DTSTART;TZID=America/New_York:20240926T121500
DTEND;TZID=America/New_York:20240926T124500
DTSTAMP:20260425T063204
CREATED:20240813T210303Z
LAST-MODIFIED:20240921T210013Z
UID:46060-1727352900-1727354700@tcshighschool.org
SUMMARY:Lunch: Ms. Mary Louise
DESCRIPTION:Italian Subs
URL:https://tcshighschool.org/event/lunch-ms-mary-louise-22/
CATEGORIES:Lunch
END:VEVENT
BEGIN:VEVENT
DTSTART;TZID=America/New_York:20240927T110000
DTEND;TZID=America/New_York:20240927T113000
DTSTAMP:20260425T063204
CREATED:20240920T103853Z
LAST-MODIFIED:20240920T103853Z
UID:46504-1727434800-1727436600@tcshighschool.org
SUMMARY:Lunch: Ms. Rachel (Rhys & Quinn's Sponsor)
DESCRIPTION:
URL:https://tcshighschool.org/event/lunch-ms-rachel-rhys-quinns-sponsor/
CATEGORIES:Lunch
END:VEVENT
BEGIN:VEVENT
DTSTART;TZID=America/New_York:20240930T121500
DTEND;TZID=America/New_York:20240930T124500
DTSTAMP:20260425T063204
CREATED:20240922T221453Z
LAST-MODIFIED:20240922T221716Z
UID:46526-1727698500-1727700300@tcshighschool.org
SUMMARY:Lunch: Ms. Rosalind (Quinton's Grandmother)
DESCRIPTION:
URL:https://tcshighschool.org/event/lunch-rosalind-green-quintons-grandmother/
CATEGORIES:Lunch
END:VEVENT
BEGIN:VEVENT
DTSTART;TZID=America/New_York:20241001T121500
DTEND;TZID=America/New_York:20241001T124500
DTSTAMP:20260425T063204
CREATED:20240927T184132Z
LAST-MODIFIED:20240927T184132Z
UID:46591-1727784900-1727786700@tcshighschool.org
SUMMARY:Lunch: Ms. Shawn (Kendall's Aunt)
DESCRIPTION:
URL:https://tcshighschool.org/event/lunch-ms-shawn-kendalls-aunt-8/
CATEGORIES:Lunch
END:VEVENT
BEGIN:VEVENT
DTSTART;TZID=America/New_York:20241002T124500
DTEND;TZID=America/New_York:20241002T134500
DTSTAMP:20260425T063204
CREATED:20240927T150442Z
LAST-MODIFIED:20240927T184400Z
UID:46587-1727873100-1727876700@tcshighschool.org
SUMMARY:Lunch: Ms. Linda (Madison's Mom)
DESCRIPTION:
URL:https://tcshighschool.org/event/lunch-ms-linda-madisons-mom-29/
CATEGORIES:Lunch
END:VEVENT
BEGIN:VEVENT
DTSTART;TZID=America/New_York:20241003T121500
DTEND;TZID=America/New_York:20241003T124500
DTSTAMP:20260425T063204
CREATED:20240927T190033Z
LAST-MODIFIED:20240927T190033Z
UID:46606-1727957700-1727959500@tcshighschool.org
SUMMARY:Lunch: Ms. Jenae (Rhys & Quinn's Sponsor)
DESCRIPTION:
URL:https://tcshighschool.org/event/lunch-ms-jenae-rhys-quinns-sponsor/
CATEGORIES:Lunch
END:VEVENT
BEGIN:VEVENT
DTSTART;TZID=America/New_York:20241004T110000
DTEND;TZID=America/New_York:20241004T113000
DTSTAMP:20260425T063204
CREATED:20240927T144617Z
LAST-MODIFIED:20240927T144617Z
UID:46583-1728039600-1728041400@tcshighschool.org
SUMMARY:Lunch: Ms. Rita (Ethan's Mom)
DESCRIPTION:
URL:https://tcshighschool.org/event/lunch-ms-rita-ethans-mom-26/
CATEGORIES:Lunch
END:VEVENT
BEGIN:VEVENT
DTSTART;TZID=America/New_York:20241007T121500
DTEND;TZID=America/New_York:20241007T124500
DTSTAMP:20260425T063204
CREATED:20240828T000907Z
LAST-MODIFIED:20241006T184720Z
UID:46327-1728303300-1728305100@tcshighschool.org
SUMMARY:Lunch: Ms. Leslie (Kennedy's Mom)
DESCRIPTION:tacos
URL:https://tcshighschool.org/event/lunch-ms-leslie-kennedys-mom-21/
CATEGORIES:Lunch
END:VEVENT
BEGIN:VEVENT
DTSTART;TZID=America/New_York:20241008T121500
DTEND;TZID=America/New_York:20241008T124500
DTSTAMP:20260425T063204
CREATED:20240801T213118Z
LAST-MODIFIED:20240929T173539Z
UID:45956-1728389700-1728391500@tcshighschool.org
SUMMARY:Lunch: Ms. Peg
DESCRIPTION:Hot turkey Sandwiches; veggie straws fruit
URL:https://tcshighschool.org/event/lunch-ms-peg-62-2024-10-08/
CATEGORIES:Lunch
END:VEVENT
BEGIN:VEVENT
DTSTART;TZID=America/New_York:20241009T121500
DTEND;TZID=America/New_York:20241009T124500
DTSTAMP:20260425T063204
CREATED:20240814T175851Z
LAST-MODIFIED:20240907T162047Z
UID:46188-1728476100-1728477900@tcshighschool.org
SUMMARY:Lunch: The Bancrofts
DESCRIPTION:
URL:https://tcshighschool.org/event/lunch-the-bancrofts-2/
CATEGORIES:Lunch
END:VEVENT
BEGIN:VEVENT
DTSTART;TZID=America/New_York:20241010T120000
DTEND;TZID=America/New_York:20241010T123000
DTSTAMP:20260425T063204
CREATED:20240801T210708Z
LAST-MODIFIED:20240801T210708Z
UID:45917-1728561600-1728563400@tcshighschool.org
SUMMARY:Lunch: The Lyric
DESCRIPTION:
URL:https://tcshighschool.org/event/lunch-the-lyric-3/
CATEGORIES:Lunch
END:VEVENT
BEGIN:VEVENT
DTSTART;TZID=America/New_York:20241011T110000
DTEND;TZID=America/New_York:20241011T113000
DTSTAMP:20260425T063204
CREATED:20240922T222014Z
LAST-MODIFIED:20241010T210054Z
UID:46532-1728644400-1728646200@tcshighschool.org
SUMMARY:Lunch: Ms. Shawn (Kendall's Aunt)
DESCRIPTION:chili tomorrow for lunch. It will be accompanied with cheese\, rice n chips on the side
URL:https://tcshighschool.org/event/lunch-ms-shawn-kendalls-aunt-6/
CATEGORIES:Lunch
END:VEVENT
BEGIN:VEVENT
DTSTART;TZID=America/New_York:20241014T121500
DTEND;TZID=America/New_York:20241014T124500
DTSTAMP:20260425T063204
CREATED:20240801T212014Z
LAST-MODIFIED:20241010T142509Z
UID:45931-1728908100-1728909900@tcshighschool.org
SUMMARY:Lunch: Ms. Jenae (Rhys & Quinn's Mom)
DESCRIPTION:pasta primavera with chicken.
URL:https://tcshighschool.org/event/lunch-ms-jenae-rhys-quinns-mom-13/
CATEGORIES:Lunch
END:VEVENT
BEGIN:VEVENT
DTSTART;TZID=America/New_York:20241015T121500
DTEND;TZID=America/New_York:20241015T124500
DTSTAMP:20260425T063204
CREATED:20240801T213118Z
LAST-MODIFIED:20240929T174102Z
UID:45957-1728994500-1728996300@tcshighschool.org
SUMMARY:Lunch: Ms. Peg
DESCRIPTION:egg/cheese & sausage casserole + tater tots  + fruit
URL:https://tcshighschool.org/event/lunch-ms-peg-62-2024-10-15/
CATEGORIES:Lunch
END:VEVENT
BEGIN:VEVENT
DTSTART;TZID=America/New_York:20241016T121500
DTEND;TZID=America/New_York:20241016T124500
DTSTAMP:20260425T063204
CREATED:20240814T175622Z
LAST-MODIFIED:20241015T162024Z
UID:46186-1729080900-1729082700@tcshighschool.org
SUMMARY:Lunch: Linda N (Madison's Mom)
DESCRIPTION:Hamburgers\, Sausages\, Mac & Cheese\, and cookies
URL:https://tcshighschool.org/event/lunch-linda-n-madisons-mom/
CATEGORIES:Lunch
END:VEVENT
BEGIN:VEVENT
DTSTART;TZID=America/New_York:20241017T121500
DTEND;TZID=America/New_York:20241017T124500
DTSTAMP:20260425T063204
CREATED:20240813T134928Z
LAST-MODIFIED:20240813T134928Z
UID:46030-1729167300-1729169100@tcshighschool.org
SUMMARY:Lunch: Berman McAleer
DESCRIPTION:
URL:https://tcshighschool.org/event/lunch-berman-mcaleer-17/2024-10-17/
CATEGORIES:Lunch
END:VEVENT
BEGIN:VEVENT
DTSTART;TZID=America/New_York:20241018T110000
DTEND;TZID=America/New_York:20241018T113000
DTSTAMP:20260425T063204
CREATED:20240927T185427Z
LAST-MODIFIED:20241017T183544Z
UID:46604-1729249200-1729251000@tcshighschool.org
SUMMARY:Lunch: Ms. Kia (Jordan's Sponsor)
DESCRIPTION:a selection of sandwiches and various chips
URL:https://tcshighschool.org/event/lunch-ms-kia-jordans-sponsor/
CATEGORIES:Lunch
END:VEVENT
BEGIN:VEVENT
DTSTART;TZID=America/New_York:20241021T121500
DTEND;TZID=America/New_York:20241021T124500
DTSTAMP:20260425T063204
CREATED:20240815T130041Z
LAST-MODIFIED:20240815T130041Z
UID:46226-1729512900-1729514700@tcshighschool.org
SUMMARY:Lunch: Ms. Shakiara (Khori's Mom)
DESCRIPTION:
URL:https://tcshighschool.org/event/lunch-ms-shakiara-khoris-mom-2/
CATEGORIES:Lunch
END:VEVENT
BEGIN:VEVENT
DTSTART;TZID=America/New_York:20241022T121500
DTEND;TZID=America/New_York:20241022T124500
DTSTAMP:20260425T063204
CREATED:20240801T213118Z
LAST-MODIFIED:20240929T174913Z
UID:45958-1729599300-1729601100@tcshighschool.org
SUMMARY:Lunch: Ms. Peg
DESCRIPTION:Chicken bakes + Salad + fruit
URL:https://tcshighschool.org/event/lunch-ms-peg-62-2024-10-22/
CATEGORIES:Lunch
END:VEVENT
BEGIN:VEVENT
DTSTART;TZID=America/New_York:20241023T121500
DTEND;TZID=America/New_York:20241023T124500
DTSTAMP:20260425T063204
CREATED:20240814T172239Z
LAST-MODIFIED:20241018T183108Z
UID:46150-1729685700-1729687500@tcshighschool.org
SUMMARY:Lunch: The Avents (Lyric's Family)
DESCRIPTION:Chicken flavored rice w/ground beef & King Hawaiian rolls
URL:https://tcshighschool.org/event/lunch-the-avents-lyrics-family/
CATEGORIES:Lunch
END:VEVENT
BEGIN:VEVENT
DTSTART;TZID=America/New_York:20241024T121500
DTEND;TZID=America/New_York:20241024T124500
DTSTAMP:20260425T063204
CREATED:20240813T210434Z
LAST-MODIFIED:20240813T210434Z
UID:46063-1729772100-1729773900@tcshighschool.org
SUMMARY:Lunch: Ms. Mary Louise
DESCRIPTION:
URL:https://tcshighschool.org/event/lunch-ms-mary-louise-23/
CATEGORIES:Lunch
END:VEVENT
BEGIN:VEVENT
DTSTART;TZID=America/New_York:20241025T110000
DTEND;TZID=America/New_York:20241025T113000
DTSTAMP:20260425T063204
CREATED:20240815T010735Z
LAST-MODIFIED:20241024T204928Z
UID:46202-1729854000-1729855800@tcshighschool.org
SUMMARY:Lunch: Ms. Rita (Ethan's Mom)
DESCRIPTION:lunch meats\, bread and all condiments
URL:https://tcshighschool.org/event/lunch-ms-rita-ethans-mom-18/
CATEGORIES:Lunch
END:VEVENT
BEGIN:VEVENT
DTSTART;TZID=America/New_York:20241028T121500
DTEND;TZID=America/New_York:20241028T124500
DTSTAMP:20260425T063204
CREATED:20240822T183446Z
LAST-MODIFIED:20241028T125619Z
UID:46287-1730117700-1730119500@tcshighschool.org
SUMMARY:Lunch: Ms. Jaqueline (Khori's Grandmother)
DESCRIPTION:Bar-B-Que chicken\, yellow rice\, and mixed vegetables.
URL:https://tcshighschool.org/event/lunch-ms-jaqueline-khoris-grandmother/
CATEGORIES:Lunch
END:VEVENT
BEGIN:VEVENT
DTSTART;TZID=America/New_York:20241029T121500
DTEND;TZID=America/New_York:20241029T124500
DTSTAMP:20260425T063204
CREATED:20240801T213118Z
LAST-MODIFIED:20240929T175307Z
UID:45959-1730204100-1730205900@tcshighschool.org
SUMMARY:Lunch: Ms. Peg
DESCRIPTION:Quesadillas + salad + fruit
URL:https://tcshighschool.org/event/lunch-ms-peg-62-2024-10-29/
CATEGORIES:Lunch
END:VEVENT
BEGIN:VEVENT
DTSTART;TZID=America/New_York:20241030T124500
DTEND;TZID=America/New_York:20241030T131500
DTSTAMP:20260425T063204
CREATED:20240927T184026Z
LAST-MODIFIED:20241025T183831Z
UID:46589-1730292300-1730294100@tcshighschool.org
SUMMARY:Lunch: Ms. Leslie (Kennedy's Mom)
DESCRIPTION:turkey chili.
URL:https://tcshighschool.org/event/lunch-ms-leslie-kennedys-mom-26/
CATEGORIES:Lunch
END:VEVENT
BEGIN:VEVENT
DTSTART;TZID=America/New_York:20241031T080000
DTEND;TZID=America/New_York:20241031T170000
DTSTAMP:20260425T063204
CREATED:20241102T230349Z
LAST-MODIFIED:20241102T230349Z
UID:46926-1730361600-1730394000@tcshighschool.org
SUMMARY:Lunch: Bring your Own
DESCRIPTION:
URL:https://tcshighschool.org/event/lunch-bring-your-own-2/
CATEGORIES:Lunch
END:VEVENT
BEGIN:VEVENT
DTSTART;TZID=America/New_York:20241101T110000
DTEND;TZID=America/New_York:20241101T113000
DTSTAMP:20260425T063204
CREATED:20241001T132910Z
LAST-MODIFIED:20241028T125707Z
UID:46627-1730458800-1730460600@tcshighschool.org
SUMMARY:Lunch: Dr. Moss
DESCRIPTION:Pizza
URL:https://tcshighschool.org/event/lunch-dr-moss/
CATEGORIES:Lunch
END:VEVENT
BEGIN:VEVENT
DTSTART;TZID=America/New_York:20241104T121500
DTEND;TZID=America/New_York:20241104T124500
DTSTAMP:20260425T063204
CREATED:20240828T001001Z
LAST-MODIFIED:20241101T204506Z
UID:46329-1730722500-1730724300@tcshighschool.org
SUMMARY:Lunch: Ms. Leslie (Kennedy's Mom)
DESCRIPTION:chili
URL:https://tcshighschool.org/event/lunch-ms-leslie-kennedys-mom-22/
CATEGORIES:Lunch
END:VEVENT
END:VCALENDAR