BEGIN:VCALENDAR
VERSION:2.0
PRODID:-//TCS High School - ECPv6.15.11//NONSGML v1.0//EN
CALSCALE:GREGORIAN
METHOD:PUBLISH
X-ORIGINAL-URL:https://tcshighschool.org
X-WR-CALDESC:Events for TCS High School
REFRESH-INTERVAL;VALUE=DURATION:PT1H
X-Robots-Tag:noindex
X-PUBLISHED-TTL:PT1H
BEGIN:VTIMEZONE
TZID:America/New_York
BEGIN:DAYLIGHT
TZOFFSETFROM:-0500
TZOFFSETTO:-0400
TZNAME:EDT
DTSTART:20230312T070000
END:DAYLIGHT
BEGIN:STANDARD
TZOFFSETFROM:-0400
TZOFFSETTO:-0500
TZNAME:EST
DTSTART:20231105T060000
END:STANDARD
BEGIN:DAYLIGHT
TZOFFSETFROM:-0500
TZOFFSETTO:-0400
TZNAME:EDT
DTSTART:20240310T070000
END:DAYLIGHT
BEGIN:STANDARD
TZOFFSETFROM:-0400
TZOFFSETTO:-0500
TZNAME:EST
DTSTART:20241103T060000
END:STANDARD
BEGIN:DAYLIGHT
TZOFFSETFROM:-0500
TZOFFSETTO:-0400
TZNAME:EDT
DTSTART:20250309T070000
END:DAYLIGHT
BEGIN:STANDARD
TZOFFSETFROM:-0400
TZOFFSETTO:-0500
TZNAME:EST
DTSTART:20251102T060000
END:STANDARD
END:VTIMEZONE
BEGIN:VEVENT
DTSTART;TZID=America/New_York:20241105T121500
DTEND;TZID=America/New_York:20241105T124500
DTSTAMP:20260425T103434
CREATED:20240801T213118Z
LAST-MODIFIED:20240929T174232Z
UID:45960-1730808900-1730810700@tcshighschool.org
SUMMARY:Lunch: Ms. Peg
DESCRIPTION:
URL:https://tcshighschool.org/event/lunch-ms-peg-62-2024-11-05/2024-11-05/
CATEGORIES:Lunch
END:VEVENT
BEGIN:VEVENT
DTSTART;VALUE=DATE:20241106
DTEND;VALUE=DATE:20241107
DTSTAMP:20260425T103434
CREATED:20241031T203232Z
LAST-MODIFIED:20241031T203232Z
UID:46906-1730851200-1730937599@tcshighschool.org
SUMMARY:Lunch: Bring Your Own
DESCRIPTION:
URL:https://tcshighschool.org/event/lunch-bring-your-own/
CATEGORIES:Lunch
END:VEVENT
BEGIN:VEVENT
DTSTART;TZID=America/New_York:20241107T121500
DTEND;TZID=America/New_York:20241107T124500
DTSTAMP:20260425T103434
CREATED:20240813T210559Z
LAST-MODIFIED:20241101T204608Z
UID:46065-1730981700-1730983500@tcshighschool.org
SUMMARY:Lunch: Ms. Mary Louise
DESCRIPTION:Italian Cold Cut Sandwiches
URL:https://tcshighschool.org/event/lunch-ms-mary-louise-24/
CATEGORIES:Lunch
END:VEVENT
BEGIN:VEVENT
DTSTART;TZID=America/New_York:20241108T110000
DTEND;TZID=America/New_York:20241108T113000
DTSTAMP:20260425T103434
CREATED:20241023T193252Z
LAST-MODIFIED:20241107T115302Z
UID:46844-1731063600-1731065400@tcshighschool.org
SUMMARY:Lunch: Ms. Lisa K (Karla\, Hector\, Danny & Ruth's Sponsor)
DESCRIPTION:Tuna salad wraps\, chips\, cookies\, fruit.
URL:https://tcshighschool.org/event/lunch-ms-lisa-k-karla-hector-danny-ruths-sponsor/
CATEGORIES:Lunch
END:VEVENT
BEGIN:VEVENT
DTSTART;TZID=America/New_York:20241111T121500
DTEND;TZID=America/New_York:20241111T124500
DTSTAMP:20260425T103434
CREATED:20240815T130140Z
LAST-MODIFIED:20241110T150710Z
UID:46228-1731327300-1731329100@tcshighschool.org
SUMMARY:Lunch: Ms. Shakiara (Khori's Mom)
DESCRIPTION:pizza
URL:https://tcshighschool.org/event/lunch-ms-shakiara-khoris-mom-3/
CATEGORIES:Lunch
END:VEVENT
BEGIN:VEVENT
DTSTART;TZID=America/New_York:20241112T121500
DTEND;TZID=America/New_York:20241112T124500
DTSTAMP:20260425T103434
CREATED:20240922T222338Z
LAST-MODIFIED:20241113T162543Z
UID:46536-1731413700-1731415500@tcshighschool.org
SUMMARY:Lunch: Ms. Kate (Madison's Sponsor)
DESCRIPTION:chik fil’a\, watermelon\, salad\, potato salad
URL:https://tcshighschool.org/event/lunch-ms-kate-madisons-sponsor-5/
CATEGORIES:Lunch
END:VEVENT
BEGIN:VEVENT
DTSTART;TZID=America/New_York:20241113T121500
DTEND;TZID=America/New_York:20241113T124500
DTSTAMP:20260425T103434
CREATED:20240922T222453Z
LAST-MODIFIED:20241111T141313Z
UID:46538-1731500100-1731501900@tcshighschool.org
SUMMARY:Lunch: Ms. Linda (Madison's Mom)
DESCRIPTION:Baked Ziti and salad
URL:https://tcshighschool.org/event/lunch-ms-linda-madisons-mom-25/
CATEGORIES:Lunch
END:VEVENT
BEGIN:VEVENT
DTSTART;TZID=America/New_York:20241114T120000
DTEND;TZID=America/New_York:20241114T123000
DTSTAMP:20260425T103434
CREATED:20240801T210848Z
LAST-MODIFIED:20240801T210848Z
UID:45919-1731585600-1731587400@tcshighschool.org
SUMMARY:Lunch: The Lyric
DESCRIPTION:
URL:https://tcshighschool.org/event/lunch-the-lyric-4/
CATEGORIES:Lunch
END:VEVENT
BEGIN:VEVENT
DTSTART;TZID=America/New_York:20241115T110000
DTEND;TZID=America/New_York:20241115T113000
DTSTAMP:20260425T103434
CREATED:20241030T001158Z
LAST-MODIFIED:20241030T001158Z
UID:46898-1731668400-1731670200@tcshighschool.org
SUMMARY:Lunch: Ms. Ruth (Jordan's Sponsor)
DESCRIPTION:
URL:https://tcshighschool.org/event/lunch-ms-ruth-jordans-sponsor/
CATEGORIES:Lunch
END:VEVENT
BEGIN:VEVENT
DTSTART;TZID=America/New_York:20241118T121500
DTEND;TZID=America/New_York:20241118T124500
DTSTAMP:20260425T103434
CREATED:20240822T183643Z
LAST-MODIFIED:20241116T171313Z
UID:46289-1731932100-1731933900@tcshighschool.org
SUMMARY:Lunch: Ms. Jaqueline (Khori's Grandmother)
DESCRIPTION:turkey sloppy joe\, hamburger rolls\, mashed potatoes\, and mixed vegetables.
URL:https://tcshighschool.org/event/lunch-ms-jaqueline-khoris-grandmother-2/
CATEGORIES:Lunch
END:VEVENT
BEGIN:VEVENT
DTSTART;TZID=America/New_York:20241119T121500
DTEND;TZID=America/New_York:20241119T124500
DTSTAMP:20260425T103434
CREATED:20240801T213118Z
LAST-MODIFIED:20241115T185726Z
UID:45962-1732018500-1732020300@tcshighschool.org
SUMMARY:Lunch: Ms. Peg
DESCRIPTION:Shepherds pie\, blueberries\, dessert
URL:https://tcshighschool.org/event/lunch-ms-peg-62-2024-11-19/
CATEGORIES:Lunch
END:VEVENT
BEGIN:VEVENT
DTSTART;TZID=America/New_York:20241120T121500
DTEND;TZID=America/New_York:20241120T124500
DTSTAMP:20260425T103434
CREATED:20241018T183350Z
LAST-MODIFIED:20241031T203145Z
UID:46821-1732104900-1732106700@tcshighschool.org
SUMMARY:Lunch: Ms. Miriam (Mohamed's Mom)
DESCRIPTION:
URL:https://tcshighschool.org/event/lunch-ms-miriam-mohameds-mom-4/
CATEGORIES:Lunch
END:VEVENT
BEGIN:VEVENT
DTSTART;TZID=America/New_York:20241121T121500
DTEND;TZID=America/New_York:20241121T124500
DTSTAMP:20260425T103434
CREATED:20240813T134928Z
LAST-MODIFIED:20240813T134928Z
UID:46031-1732191300-1732193100@tcshighschool.org
SUMMARY:Lunch: Berman McAleer
DESCRIPTION:
URL:https://tcshighschool.org/event/lunch-berman-mcaleer-17/2024-11-21/
CATEGORIES:Lunch
END:VEVENT
BEGIN:VEVENT
DTSTART;TZID=America/New_York:20241122T110000
DTEND;TZID=America/New_York:20241122T113000
DTSTAMP:20260425T103434
CREATED:20240815T010822Z
LAST-MODIFIED:20241122T115817Z
UID:46204-1732273200-1732275000@tcshighschool.org
SUMMARY:Lunch: Ms. Rita (Ethan's Mom)
DESCRIPTION:tacos\, beef and chicken. With some side fixings… rice\, beans corn\, pico\, lettuce\, lime\, cheese and sour cream.
URL:https://tcshighschool.org/event/lunch-ms-rita-ethans-mom-19/
CATEGORIES:Lunch
END:VEVENT
BEGIN:VEVENT
DTSTART;TZID=America/New_York:20241126T121500
DTEND;TZID=America/New_York:20241126T124500
DTSTAMP:20260425T103434
CREATED:20240801T213118Z
LAST-MODIFIED:20241115T185835Z
UID:45963-1732623300-1732625100@tcshighschool.org
SUMMARY:Lunch: Ms. Peg
DESCRIPTION:Thanksgiving turkey club\, sweet potato fries\, dessert
URL:https://tcshighschool.org/event/lunch-ms-peg-62-2024-11-26/
CATEGORIES:Lunch
END:VEVENT
BEGIN:VEVENT
DTSTART;TZID=America/New_York:20241127T121500
DTEND;TZID=America/New_York:20241127T124500
DTSTAMP:20260425T103434
CREATED:20240801T212316Z
LAST-MODIFIED:20241121T205501Z
UID:45933-1732709700-1732711500@tcshighschool.org
SUMMARY:Lunch: Ms. Jenae (Rhys & Quinn's Mom)
DESCRIPTION:lemon chicken penne
URL:https://tcshighschool.org/event/lunch-ms-jenae-rhys-quinns-mom-14/
CATEGORIES:Lunch
END:VEVENT
BEGIN:VEVENT
DTSTART;TZID=America/New_York:20241202T121500
DTEND;TZID=America/New_York:20241202T124500
DTSTAMP:20260425T103434
CREATED:20240822T183834Z
LAST-MODIFIED:20241130T235335Z
UID:46291-1733141700-1733143500@tcshighschool.org
SUMMARY:Lunch: Ms. Jaqueline (Khori's Grandmother)
DESCRIPTION:pizza
URL:https://tcshighschool.org/event/lunch-ms-jaqueline-khoris-grandmother-3/
CATEGORIES:Lunch
END:VEVENT
BEGIN:VEVENT
DTSTART;TZID=America/New_York:20241203T121500
DTEND;TZID=America/New_York:20241203T124500
DTSTAMP:20260425T103434
CREATED:20240801T213118Z
LAST-MODIFIED:20241115T190052Z
UID:45964-1733228100-1733229900@tcshighschool.org
SUMMARY:Lunch: Ms. Peg
DESCRIPTION:chicken bakes\, fruit salad\, dessert
URL:https://tcshighschool.org/event/lunch-ms-peg-62-2024-12-03/
CATEGORIES:Lunch
END:VEVENT
BEGIN:VEVENT
DTSTART;TZID=America/New_York:20241204T121500
DTEND;TZID=America/New_York:20241204T124500
DTSTAMP:20260425T103434
CREATED:20240922T222710Z
LAST-MODIFIED:20241130T235442Z
UID:46542-1733314500-1733316300@tcshighschool.org
SUMMARY:Lunch: Ms. Linda (Madison's Mom)
DESCRIPTION:pizza
URL:https://tcshighschool.org/event/lunch-ms-linda-madisons-mom-26/
CATEGORIES:Lunch
END:VEVENT
BEGIN:VEVENT
DTSTART;TZID=America/New_York:20241205T121500
DTEND;TZID=America/New_York:20241205T124500
DTSTAMP:20260425T103434
CREATED:20241130T235624Z
LAST-MODIFIED:20241130T235624Z
UID:47158-1733400900-1733402700@tcshighschool.org
SUMMARY:Lunch: Mr. Ken & Ms. Paulette
DESCRIPTION:
URL:https://tcshighschool.org/event/lunch-mr-ken-ms-paulette-14/
CATEGORIES:Lunch
END:VEVENT
BEGIN:VEVENT
DTSTART;TZID=America/New_York:20241206T110000
DTEND;TZID=America/New_York:20241206T113000
DTSTAMP:20260425T103434
CREATED:20240815T010921Z
LAST-MODIFIED:20240815T010921Z
UID:46206-1733482800-1733484600@tcshighschool.org
SUMMARY:Lunch: Ms. Rita (Ethan's Mom)
DESCRIPTION:
URL:https://tcshighschool.org/event/lunch-ms-rita-ethans-mom-20/
CATEGORIES:Lunch
END:VEVENT
BEGIN:VEVENT
DTSTART;TZID=America/New_York:20241209T121500
DTEND;TZID=America/New_York:20241209T124500
DTSTAMP:20260425T103434
CREATED:20240815T130255Z
LAST-MODIFIED:20241208T210904Z
UID:46230-1733746500-1733748300@tcshighschool.org
SUMMARY:Lunch: Ms. Shakiara (Khori's Mom)
DESCRIPTION:Wings and salad
URL:https://tcshighschool.org/event/lunch-ms-shakiara-khoris-mom-4/
CATEGORIES:Lunch
END:VEVENT
BEGIN:VEVENT
DTSTART;TZID=America/New_York:20241210T121500
DTEND;TZID=America/New_York:20241210T124500
DTSTAMP:20260425T103434
CREATED:20240801T213118Z
LAST-MODIFIED:20241115T190202Z
UID:45965-1733832900-1733834700@tcshighschool.org
SUMMARY:Lunch: Ms. Peg
DESCRIPTION:Hot roast beef sandwiches\, broccoli cheese soup\, dessert
URL:https://tcshighschool.org/event/lunch-ms-peg-62-2024-12-10/
CATEGORIES:Lunch
END:VEVENT
BEGIN:VEVENT
DTSTART;TZID=America/New_York:20241211T121500
DTEND;TZID=America/New_York:20241211T124500
DTSTAMP:20260425T103434
CREATED:20240814T172328Z
LAST-MODIFIED:20241211T194537Z
UID:46152-1733919300-1733921100@tcshighschool.org
SUMMARY:Lunch: The Avents (Lyric's Family)
DESCRIPTION:macaroni casserole and rolls
URL:https://tcshighschool.org/event/lunch-the-avents-lyrics-family-2/
CATEGORIES:Lunch
END:VEVENT
BEGIN:VEVENT
DTSTART;TZID=America/New_York:20241212T121500
DTEND;TZID=America/New_York:20241212T124500
DTSTAMP:20260425T103434
CREATED:20241015T144407Z
LAST-MODIFIED:20241211T194442Z
UID:46789-1734005700-1734007500@tcshighschool.org
SUMMARY:Lunch: The Stahl's (Rhys & Quinn's Sponsors)
DESCRIPTION:tuffed pasta shells or cheese ravioli on spinach\, with green salad\, garlic bread and chocolate chip cookies/clementines
URL:https://tcshighschool.org/event/lunch-the-stahls-rhys-quinns-sponsors-2/
CATEGORIES:Lunch
END:VEVENT
BEGIN:VEVENT
DTSTART;TZID=America/New_York:20241213T110000
DTEND;TZID=America/New_York:20241213T113000
DTSTAMP:20260425T103434
CREATED:20240828T001116Z
LAST-MODIFIED:20240828T001116Z
UID:46331-1734087600-1734089400@tcshighschool.org
SUMMARY:Lunch: Ms. Leslie (Kennedy's Mom)
DESCRIPTION:
URL:https://tcshighschool.org/event/lunch-ms-leslie-kennedys-mom-23/
CATEGORIES:Lunch
END:VEVENT
BEGIN:VEVENT
DTSTART;TZID=America/New_York:20241216T121500
DTEND;TZID=America/New_York:20241216T124500
DTSTAMP:20260425T103434
CREATED:20240813T210652Z
LAST-MODIFIED:20240813T210652Z
UID:46067-1734351300-1734353100@tcshighschool.org
SUMMARY:Lunch: Ms. Mary Louise
DESCRIPTION:
URL:https://tcshighschool.org/event/lunch-ms-mary-louise-25/
CATEGORIES:Lunch
END:VEVENT
BEGIN:VEVENT
DTSTART;TZID=America/New_York:20241217T121500
DTEND;TZID=America/New_York:20241217T124500
DTSTAMP:20260425T103434
CREATED:20240801T213118Z
LAST-MODIFIED:20241115T190307Z
UID:45966-1734437700-1734439500@tcshighschool.org
SUMMARY:Lunch: Ms. Peg
DESCRIPTION:Holiday Turkey\, stuffing\, mashed potatoes\, green beans and pie.
URL:https://tcshighschool.org/event/lunch-ms-peg-62-2024-12-17/
CATEGORIES:Lunch
END:VEVENT
BEGIN:VEVENT
DTSTART;TZID=America/New_York:20241218T121500
DTEND;TZID=America/New_York:20241218T124500
DTSTAMP:20260425T103434
CREATED:20241206T124614Z
LAST-MODIFIED:20241206T124614Z
UID:47194-1734524100-1734525900@tcshighschool.org
SUMMARY:Lunch: Ms. Rachel (Rhys & Quinn's Sponsor)
DESCRIPTION:
URL:https://tcshighschool.org/event/lunch-ms-rachel-rhys-quinns-sponsor-2/
CATEGORIES:Lunch
END:VEVENT
BEGIN:VEVENT
DTSTART;TZID=America/New_York:20241219T121500
DTEND;TZID=America/New_York:20241219T124500
DTSTAMP:20260425T103434
CREATED:20240813T134928Z
LAST-MODIFIED:20240813T134928Z
UID:46032-1734610500-1734612300@tcshighschool.org
SUMMARY:Lunch: Berman McAleer
DESCRIPTION:
URL:https://tcshighschool.org/event/lunch-berman-mcaleer-17/2024-12-19/
CATEGORIES:Lunch
END:VEVENT
END:VCALENDAR