BEGIN:VCALENDAR
VERSION:2.0
PRODID:-//TCS High School - ECPv6.15.11//NONSGML v1.0//EN
CALSCALE:GREGORIAN
METHOD:PUBLISH
X-WR-CALNAME:TCS High School
X-ORIGINAL-URL:https://tcshighschool.org
X-WR-CALDESC:Events for TCS High School
REFRESH-INTERVAL;VALUE=DURATION:PT1H
X-Robots-Tag:noindex
X-PUBLISHED-TTL:PT1H
BEGIN:VTIMEZONE
TZID:America/New_York
BEGIN:DAYLIGHT
TZOFFSETFROM:-0500
TZOFFSETTO:-0400
TZNAME:EDT
DTSTART:20250309T070000
END:DAYLIGHT
BEGIN:STANDARD
TZOFFSETFROM:-0400
TZOFFSETTO:-0500
TZNAME:EST
DTSTART:20251102T060000
END:STANDARD
BEGIN:DAYLIGHT
TZOFFSETFROM:-0500
TZOFFSETTO:-0400
TZNAME:EDT
DTSTART:20260308T070000
END:DAYLIGHT
BEGIN:STANDARD
TZOFFSETFROM:-0400
TZOFFSETTO:-0500
TZNAME:EST
DTSTART:20261101T060000
END:STANDARD
BEGIN:DAYLIGHT
TZOFFSETFROM:-0500
TZOFFSETTO:-0400
TZNAME:EDT
DTSTART:20270314T070000
END:DAYLIGHT
BEGIN:STANDARD
TZOFFSETFROM:-0400
TZOFFSETTO:-0500
TZNAME:EST
DTSTART:20271107T060000
END:STANDARD
END:VTIMEZONE
BEGIN:VEVENT
DTSTART;TZID=America/New_York:20260319T121500
DTEND;TZID=America/New_York:20260319T124500
DTSTAMP:20260423T160106
CREATED:20250830T012133Z
LAST-MODIFIED:20250830T012133Z
UID:49232-1773922500-1773924300@tcshighschool.org
SUMMARY:Lunch: Ms. Jacqueline (Khori's Grandmother)
DESCRIPTION:
URL:https://tcshighschool.org/event/lunch-ms-jacqueline-khoris-grandmother-6/
CATEGORIES:Lunch
END:VEVENT
BEGIN:VEVENT
DTSTART;TZID=America/New_York:20260318T121500
DTEND;TZID=America/New_York:20260318T124500
DTSTAMP:20260423T160106
CREATED:20260306T123303Z
LAST-MODIFIED:20260315T204249Z
UID:50515-1773836100-1773837900@tcshighschool.org
SUMMARY:Lunch: Ms. Rita (Ethan's Mom)
DESCRIPTION:chicken dumpling soup
URL:https://tcshighschool.org/event/lunch-ms-rita-ethans-mom-35/
CATEGORIES:Lunch
END:VEVENT
BEGIN:VEVENT
DTSTART;TZID=America/New_York:20260317T121500
DTEND;TZID=America/New_York:20260317T124500
DTSTAMP:20260423T160106
CREATED:20251229T184417Z
LAST-MODIFIED:20260318T112106Z
UID:49999-1773749700-1773751500@tcshighschool.org
SUMMARY:Lunch: Ms. Rina (Hector's Mom)
DESCRIPTION:pane con pollo
URL:https://tcshighschool.org/event/lunch-ms-alisha-mr-scott/
CATEGORIES:Lunch
END:VEVENT
BEGIN:VEVENT
DTSTART;TZID=America/New_York:20260316T121500
DTEND;TZID=America/New_York:20260316T124500
DTSTAMP:20260423T160106
CREATED:20251020T115729Z
LAST-MODIFIED:20260316T104451Z
UID:49712-1773663300-1773665100@tcshighschool.org
SUMMARY:Lunch: Ms. Shereai (Madisyn's Mom)
DESCRIPTION:Honey turkey sandwiches salad and fruit.
URL:https://tcshighschool.org/event/lunch-ms-shereai-madisyns-mom/
CATEGORIES:Lunch
END:VEVENT
BEGIN:VEVENT
DTSTART;TZID=America/New_York:20260313T110000
DTEND;TZID=America/New_York:20260313T113000
DTSTAMP:20260423T160106
CREATED:20250814T175521Z
LAST-MODIFIED:20250814T175521Z
UID:48911-1773399600-1773401400@tcshighschool.org
SUMMARY:Lunch: Ms. Miriam (Mohamed's Mom)
DESCRIPTION:
URL:https://tcshighschool.org/event/lunch-ms-miriam-mohameds-mom-14/
CATEGORIES:Lunch
END:VEVENT
BEGIN:VEVENT
DTSTART;TZID=America/New_York:20260312T121500
DTEND;TZID=America/New_York:20260312T124500
DTSTAMP:20260423T160106
CREATED:20250815T144138Z
LAST-MODIFIED:20250815T144138Z
UID:48949-1773317700-1773319500@tcshighschool.org
SUMMARY:Lunch: Berman McAleer
DESCRIPTION:
URL:https://tcshighschool.org/event/lunch-berman-mcaleer-25/
CATEGORIES:Lunch
END:VEVENT
BEGIN:VEVENT
DTSTART;TZID=America/New_York:20260311T231500
DTEND;TZID=America/New_York:20260311T234500
DTSTAMP:20260423T160106
CREATED:20251229T212624Z
LAST-MODIFIED:20260309T125928Z
UID:50046-1773270900-1773272700@tcshighschool.org
SUMMARY:Lunch: Ms. Lisa K (Sponsor to Many)
DESCRIPTION:Fried rice dish
URL:https://tcshighschool.org/event/lunch-ms-lisa-k-sponsor-to-many/
CATEGORIES:Lunch
END:VEVENT
BEGIN:VEVENT
DTSTART;TZID=America/New_York:20260310T121500
DTEND;TZID=America/New_York:20260310T124500
DTSTAMP:20260423T160106
CREATED:20250824T145601Z
LAST-MODIFIED:20260309T110543Z
UID:49106-1773144900-1773146700@tcshighschool.org
SUMMARY:Lunch: Ms. Peg
DESCRIPTION:Quesidillas
URL:https://tcshighschool.org/event/lunch-ms-peg-74/
CATEGORIES:Lunch
END:VEVENT
BEGIN:VEVENT
DTSTART;TZID=America/New_York:20260309T121500
DTEND;TZID=America/New_York:20260309T124500
DTSTAMP:20260423T160106
CREATED:20250822T130314Z
LAST-MODIFIED:20260304T005330Z
UID:49056-1773058500-1773060300@tcshighschool.org
SUMMARY:Lunch: Mr. John (Mingo's Dad)
DESCRIPTION:Stuffed peppers (beef\, cheese\, rice\, tomatos)\nbaguette\nsalad\nbanana bread (with and without chocolate)
URL:https://tcshighschool.org/event/lunch-john-kelly-cord-mingos-parents-7/
CATEGORIES:Lunch
END:VEVENT
BEGIN:VEVENT
DTSTART;TZID=America/New_York:20260306T110000
DTEND;TZID=America/New_York:20260306T113000
DTSTAMP:20260423T160106
CREATED:20250830T121321Z
LAST-MODIFIED:20260305T124844Z
UID:49248-1772794800-1772796600@tcshighschool.org
SUMMARY:Lunch: Ms. Rita (Ethan's Mom)
DESCRIPTION:lunch meat\, with lettuce\, cucumbers\, tomatoes\, and bread
URL:https://tcshighschool.org/event/lunch-ms-rita-ethans-mom-32/
CATEGORIES:Lunch
END:VEVENT
BEGIN:VEVENT
DTSTART;TZID=America/New_York:20260305T121500
DTEND;TZID=America/New_York:20260305T124500
DTSTAMP:20260423T160106
CREATED:20260116T114414Z
LAST-MODIFIED:20260305T124932Z
UID:50204-1772712900-1772714700@tcshighschool.org
SUMMARY:Lunch: Ms. Charlotte (Rylee's Mom)
DESCRIPTION:spaghetti
URL:https://tcshighschool.org/event/lunch-ms-charlotte-rylees-mom-7/
CATEGORIES:Lunch
END:VEVENT
BEGIN:VEVENT
DTSTART;TZID=America/New_York:20260304T121500
DTEND;TZID=America/New_York:20260304T124500
DTSTAMP:20260423T160106
CREATED:20260227T190730Z
LAST-MODIFIED:20260302T190849Z
UID:50458-1772626500-1772628300@tcshighschool.org
SUMMARY:Lunch: Ms. Leslie (Jordan's Mom)
DESCRIPTION:chicken nuggets & Fries
URL:https://tcshighschool.org/event/lunch-ms-leslie-jordans-mom-3/
CATEGORIES:Lunch
END:VEVENT
BEGIN:VEVENT
DTSTART;TZID=America/New_York:20260302T121500
DTEND;TZID=America/New_York:20260302T124500
DTSTAMP:20260423T160106
CREATED:20251208T123750Z
LAST-MODIFIED:20260302T191022Z
UID:49934-1772453700-1772455500@tcshighschool.org
SUMMARY:Lunch: Ms. Carla (Karla & Ruth's Mom)
DESCRIPTION:panes con pollo
URL:https://tcshighschool.org/event/lunch-ms-carla-karla-ruths-mom-14/
CATEGORIES:Lunch
END:VEVENT
BEGIN:VEVENT
DTSTART;TZID=America/New_York:20260227T110000
DTEND;TZID=America/New_York:20260227T113000
DTSTAMP:20260423T160106
CREATED:20251229T212441Z
LAST-MODIFIED:20260224T113536Z
UID:50044-1772190000-1772191800@tcshighschool.org
SUMMARY:Lunch: Ms. Alisha (Judah's Mom)
DESCRIPTION:chicken and rice dish\, along with salad and gluten free cookies
URL:https://tcshighschool.org/event/lunch-ms-alisha-judahs-mom-4/
CATEGORIES:Lunch
END:VEVENT
BEGIN:VEVENT
DTSTART;TZID=America/New_York:20260226T121500
DTEND;TZID=America/New_York:20260226T124500
DTSTAMP:20260423T160106
CREATED:20251229T184237Z
LAST-MODIFIED:20260223T194013Z
UID:49997-1772108100-1772109900@tcshighschool.org
SUMMARY:Lunch: Ms. Lisa B (Jason's Mom)
DESCRIPTION:beef stew and bread
URL:https://tcshighschool.org/event/lunch-ms-lisa-b/
CATEGORIES:Lunch
END:VEVENT
BEGIN:VEVENT
DTSTART;TZID=America/New_York:20260225T123000
DTEND;TZID=America/New_York:20260225T130000
DTSTAMP:20260423T160106
CREATED:20250828T205134Z
LAST-MODIFIED:20260207T173405Z
UID:49184-1772022600-1772024400@tcshighschool.org
SUMMARY:Lunch: Ms. Kyna (Danny's Mom)
DESCRIPTION:
URL:https://tcshighschool.org/event/lunch-ms-kyna-dannys-mom-13/
CATEGORIES:Lunch
END:VEVENT
BEGIN:VEVENT
DTSTART;TZID=America/New_York:20260224T121500
DTEND;TZID=America/New_York:20260224T124500
DTSTAMP:20260423T160106
CREATED:20250830T012041Z
LAST-MODIFIED:20260223T193852Z
UID:49230-1771935300-1771937100@tcshighschool.org
SUMMARY:Lunch: Ms. Jacqueline (Khori's Grandmother)
DESCRIPTION:pizza
URL:https://tcshighschool.org/event/lunch-ms-jacqueline-khoris-grandmother-5/
CATEGORIES:Lunch
END:VEVENT
BEGIN:VEVENT
DTSTART;TZID=America/New_York:20260223T121500
DTEND;TZID=America/New_York:20260223T124500
DTSTAMP:20260423T160106
CREATED:20250829T164033Z
LAST-MODIFIED:20260221T004526Z
UID:49213-1771848900-1771850700@tcshighschool.org
SUMMARY:Lunch: Ms. Shakiara (Khori's Mom)
DESCRIPTION:Rotisserie chicken and salad.
URL:https://tcshighschool.org/event/lunch-ms-shakiara-khoris-mom-14/
CATEGORIES:Lunch
END:VEVENT
BEGIN:VEVENT
DTSTART;TZID=America/New_York:20260220T110000
DTEND;TZID=America/New_York:20260220T113000
DTSTAMP:20260423T160106
CREATED:20250822T130205Z
LAST-MODIFIED:20260216T133224Z
UID:49054-1771585200-1771587000@tcshighschool.org
SUMMARY:Lunch: Mr. John (Mingo's Dad)
DESCRIPTION:Baked Ziti\nSalad\nBaguette\nChocolate chip cookies
URL:https://tcshighschool.org/event/lunch-john-kelly-cord-mingos-parents-6/
CATEGORIES:Lunch
END:VEVENT
BEGIN:VEVENT
DTSTART;TZID=America/New_York:20260219T123000
DTEND;TZID=America/New_York:20260219T130000
DTSTAMP:20260423T160106
CREATED:20250813T140135Z
LAST-MODIFIED:20250813T140135Z
UID:48893-1771504200-1771506000@tcshighschool.org
SUMMARY:Lunch: The Lyric
DESCRIPTION:
URL:https://tcshighschool.org/event/lunch-the-lyric-14/
CATEGORIES:Lunch
END:VEVENT
BEGIN:VEVENT
DTSTART;TZID=America/New_York:20260218T121500
DTEND;TZID=America/New_York:20260218T124500
DTSTAMP:20260423T160106
CREATED:20260116T114334Z
LAST-MODIFIED:20260216T011514Z
UID:50202-1771416900-1771418700@tcshighschool.org
SUMMARY:Lunch: Ms. Charlotte (Rylee's Mom)
DESCRIPTION:cheese steak sliders
URL:https://tcshighschool.org/event/lunch-ms-charlotte-rylees-mom-6/
CATEGORIES:Lunch
END:VEVENT
BEGIN:VEVENT
DTSTART;TZID=America/New_York:20260217T121500
DTEND;TZID=America/New_York:20260217T124500
DTSTAMP:20260423T160106
CREATED:20260102T175744Z
LAST-MODIFIED:20260216T133521Z
UID:50082-1771330500-1771332300@tcshighschool.org
SUMMARY:Lunch: Ms. Ruth (Jordan's Sponsor)
DESCRIPTION:heesy beef pockets\, fresh fruit and valentines sweets \n 
URL:https://tcshighschool.org/event/lunch-ms-ruth-jordans-sponsor-5/
CATEGORIES:Lunch
END:VEVENT
BEGIN:VEVENT
DTSTART;TZID=America/New_York:20260216T121500
DTEND;TZID=America/New_York:20260216T124500
DTSTAMP:20260423T160106
CREATED:20251020T114618Z
LAST-MODIFIED:20260216T011559Z
UID:49710-1771244100-1771245900@tcshighschool.org
SUMMARY:Lunch: Ms. Shereia (Madisyn's Mom)
DESCRIPTION:turkey sandwiches fruit apple bananas and salad
URL:https://tcshighschool.org/event/lunch-ms-shereia-madisyns-mom-6/
CATEGORIES:Lunch
END:VEVENT
BEGIN:VEVENT
DTSTART;TZID=America/New_York:20260213T110000
DTEND;TZID=America/New_York:20260213T113000
DTSTAMP:20260423T160106
CREATED:20250814T175406Z
LAST-MODIFIED:20260212T121253Z
UID:48909-1770980400-1770982200@tcshighschool.org
SUMMARY:Lunch: Ms. Miriam (Mohamed's Mom)
DESCRIPTION:pizza and dessert
URL:https://tcshighschool.org/event/lunch-ms-miriam-mohameds-mom-13/
CATEGORIES:Lunch
END:VEVENT
BEGIN:VEVENT
DTSTART;TZID=America/New_York:20260212T121500
DTEND;TZID=America/New_York:20260212T124500
DTSTAMP:20260423T160106
CREATED:20250815T144049Z
LAST-MODIFIED:20260211T205324Z
UID:48947-1770898500-1770900300@tcshighschool.org
SUMMARY:Lunch: Berman McAleer
DESCRIPTION:ChickFilA\, mac/cheese\, salad\, and some type of Valentine’s dessert
URL:https://tcshighschool.org/event/lunch-berman-mcaleer-24/
CATEGORIES:Lunch
END:VEVENT
BEGIN:VEVENT
DTSTART;TZID=America/New_York:20260211T121500
DTEND;TZID=America/New_York:20260211T124500
DTSTAMP:20260423T160106
CREATED:20260204T160434Z
LAST-MODIFIED:20260209T205556Z
UID:50332-1770812100-1770813900@tcshighschool.org
SUMMARY:Lunch: Ms. Leslie (Jordan's Mom)
DESCRIPTION:Blacken Chicken Alfredo Pasta with spinach.
URL:https://tcshighschool.org/event/lunch-ms-leslie-jordans-mom-2/
CATEGORIES:Lunch
END:VEVENT
BEGIN:VEVENT
DTSTART;TZID=America/New_York:20260210T121500
DTEND;TZID=America/New_York:20260210T124500
DTSTAMP:20260423T160106
CREATED:20251229T184049Z
LAST-MODIFIED:20260211T165059Z
UID:49995-1770725700-1770727500@tcshighschool.org
SUMMARY:Lunch: Ms. Lisa K
DESCRIPTION:tuna & veggie wraps plus pineapple
URL:https://tcshighschool.org/event/lunch-ms-lisa-k/
CATEGORIES:Lunch
END:VEVENT
BEGIN:VEVENT
DTSTART;TZID=America/New_York:20260209T121500
DTEND;TZID=America/New_York:20260209T124500
DTSTAMP:20260423T160106
CREATED:20251208T123628Z
LAST-MODIFIED:20260208T220836Z
UID:49932-1770639300-1770641100@tcshighschool.org
SUMMARY:Lunch: Ms. Carla (Karla & Ruth's Mom)
DESCRIPTION:panes con pollo
URL:https://tcshighschool.org/event/lunch-ms-carla-karla-ruths-mom-13/
CATEGORIES:Lunch
END:VEVENT
BEGIN:VEVENT
DTSTART;TZID=America/New_York:20260206T110000
DTEND;TZID=America/New_York:20260206T113000
DTSTAMP:20260423T160106
CREATED:20260116T114251Z
LAST-MODIFIED:20260205T123448Z
UID:50200-1770375600-1770377400@tcshighschool.org
SUMMARY:Lunch: Ms. Charlotte (Rylee's Mom)
DESCRIPTION:baked chicken and pasta.
URL:https://tcshighschool.org/event/lunch-ms-charlotte-rylees-mom-5/
CATEGORIES:Lunch
END:VEVENT
BEGIN:VEVENT
DTSTART;TZID=America/New_York:20260204T121500
DTEND;TZID=America/New_York:20260204T124500
DTSTAMP:20260423T160106
CREATED:20250830T121234Z
LAST-MODIFIED:20250830T121234Z
UID:49246-1770207300-1770209100@tcshighschool.org
SUMMARY:Lunch: Ms. Rita (Ethan's Mom)
DESCRIPTION:
URL:https://tcshighschool.org/event/lunch-ms-rita-ethans-mom-31/
CATEGORIES:Lunch
END:VEVENT
END:VCALENDAR