BEGIN:VCALENDAR
VERSION:2.0
PRODID:-//TCS High School - ECPv6.15.11//NONSGML v1.0//EN
CALSCALE:GREGORIAN
METHOD:PUBLISH
X-ORIGINAL-URL:https://tcshighschool.org
X-WR-CALDESC:Events for TCS High School
REFRESH-INTERVAL;VALUE=DURATION:PT1H
X-Robots-Tag:noindex
X-PUBLISHED-TTL:PT1H
BEGIN:VTIMEZONE
TZID:America/New_York
BEGIN:DAYLIGHT
TZOFFSETFROM:-0500
TZOFFSETTO:-0400
TZNAME:EDT
DTSTART:20230312T070000
END:DAYLIGHT
BEGIN:STANDARD
TZOFFSETFROM:-0400
TZOFFSETTO:-0500
TZNAME:EST
DTSTART:20231105T060000
END:STANDARD
BEGIN:DAYLIGHT
TZOFFSETFROM:-0500
TZOFFSETTO:-0400
TZNAME:EDT
DTSTART:20240310T070000
END:DAYLIGHT
BEGIN:STANDARD
TZOFFSETFROM:-0400
TZOFFSETTO:-0500
TZNAME:EST
DTSTART:20241103T060000
END:STANDARD
BEGIN:DAYLIGHT
TZOFFSETFROM:-0500
TZOFFSETTO:-0400
TZNAME:EDT
DTSTART:20250309T070000
END:DAYLIGHT
BEGIN:STANDARD
TZOFFSETFROM:-0400
TZOFFSETTO:-0500
TZNAME:EST
DTSTART:20251102T060000
END:STANDARD
END:VTIMEZONE
BEGIN:VEVENT
DTSTART;TZID=America/New_York:20240212T121500
DTEND;TZID=America/New_York:20240212T124500
DTSTAMP:20260426T002941
CREATED:20231215T122113Z
LAST-MODIFIED:20240211T203947Z
UID:44741-1707740100-1707741900@tcshighschool.org
SUMMARY:Lunch: Ms. Jenae (Rhys & Quinn's Mom)
DESCRIPTION:chicken rigatoni with spinach and sun dried tomatoes.
URL:https://tcshighschool.org/event/lunch-ms-jenae-rhys-quinns-mom-9/
CATEGORIES:Lunch
END:VEVENT
BEGIN:VEVENT
DTSTART;TZID=America/New_York:20240213T121500
DTEND;TZID=America/New_York:20240213T124500
DTSTAMP:20260426T002941
CREATED:20230810T201746Z
LAST-MODIFIED:20240207T115003Z
UID:42867-1707826500-1707828300@tcshighschool.org
SUMMARY:Lunch: Ms. Peggy
DESCRIPTION:pasta with shrimp with butter & Parmesan \, bread\, salad\, dessert
URL:https://tcshighschool.org/event/lunch-ms-peggy-3-2024-02-13/
CATEGORIES:Lunch
END:VEVENT
BEGIN:VEVENT
DTSTART;TZID=America/New_York:20240214T121500
DTEND;TZID=America/New_York:20240214T124500
DTSTAMP:20260426T002941
CREATED:20231215T122201Z
LAST-MODIFIED:20240213T180615Z
UID:44743-1707912900-1707914700@tcshighschool.org
SUMMARY:Lunch: Mr. Kevin (Sam's Dad)
DESCRIPTION:chicken\, mixed vegetables\, and stuffing casserole
URL:https://tcshighschool.org/event/lunch-mr-kevin-sams-dad-3/
CATEGORIES:Lunch
END:VEVENT
BEGIN:VEVENT
DTSTART;TZID=America/New_York:20240215T121500
DTEND;TZID=America/New_York:20240215T124500
DTSTAMP:20260426T002941
CREATED:20230904T143332Z
LAST-MODIFIED:20240210T221940Z
UID:43796-1707999300-1708001100@tcshighschool.org
SUMMARY:Lunch: Ms. Mary Louise
DESCRIPTION:Italian cold cut subs
URL:https://tcshighschool.org/event/lunch-ms-mary-louise-18/
CATEGORIES:Lunch
END:VEVENT
BEGIN:VEVENT
DTSTART;TZID=America/New_York:20240216T110000
DTEND;TZID=America/New_York:20240216T113000
DTSTAMP:20260426T002941
CREATED:20231215T122242Z
LAST-MODIFIED:20231215T122242Z
UID:44745-1708081200-1708083000@tcshighschool.org
SUMMARY:Lunch: Ms. Kyna (Danny's Mom)
DESCRIPTION:
URL:https://tcshighschool.org/event/lunch-ms-kyna-dannys-mom-2/
CATEGORIES:Lunch
END:VEVENT
BEGIN:VEVENT
DTSTART;TZID=America/New_York:20240219T121500
DTEND;TZID=America/New_York:20240219T124500
DTSTAMP:20260426T002941
CREATED:20231215T122512Z
LAST-MODIFIED:20240131T183042Z
UID:44751-1708344900-1708346700@tcshighschool.org
SUMMARY:Lunch: Ms. Miriam (Mohamed's Mom)
DESCRIPTION:
URL:https://tcshighschool.org/event/lunch-ms-miriam-mohameds-mom-5/
CATEGORIES:Lunch
END:VEVENT
BEGIN:VEVENT
DTSTART;TZID=America/New_York:20240220T121500
DTEND;TZID=America/New_York:20240220T124500
DTSTAMP:20260426T002941
CREATED:20230810T201746Z
LAST-MODIFIED:20240107T125741Z
UID:42868-1708431300-1708433100@tcshighschool.org
SUMMARY:Lunch: Ms. Peggy
DESCRIPTION:Quesadillas/salad/fruit/ dessert
URL:https://tcshighschool.org/event/lunch-ms-peggy-3-2024-02-20/
CATEGORIES:Lunch
END:VEVENT
BEGIN:VEVENT
DTSTART;TZID=America/New_York:20240221T121500
DTEND;TZID=America/New_York:20240221T124500
DTSTAMP:20260426T002941
CREATED:20231215T122428Z
LAST-MODIFIED:20240218T222116Z
UID:44749-1708517700-1708519500@tcshighschool.org
SUMMARY:Lunch: Ms. Kate (Madison's Sponsor)
DESCRIPTION:hot dogs\, and a side dish
URL:https://tcshighschool.org/event/lunch-ms-kate-madisons-sponsor-3/
CATEGORIES:Lunch
END:VEVENT
BEGIN:VEVENT
DTSTART;TZID=America/New_York:20240222T113000
DTEND;TZID=America/New_York:20240222T120000
DTSTAMP:20260426T002941
CREATED:20240131T183059Z
LAST-MODIFIED:20240131T183156Z
UID:45020-1708601400-1708603200@tcshighschool.org
SUMMARY:Lunch: SBLC
DESCRIPTION:
URL:https://tcshighschool.org/event/lunch-sblc/
CATEGORIES:Lunch
END:VEVENT
BEGIN:VEVENT
DTSTART;TZID=America/New_York:20240223T110000
DTEND;TZID=America/New_York:20240223T113000
DTSTAMP:20260426T002941
CREATED:20231215T122551Z
LAST-MODIFIED:20231215T122551Z
UID:44753-1708686000-1708687800@tcshighschool.org
SUMMARY:Lunch: Ms. Lisa Knickmeyer
DESCRIPTION:
URL:https://tcshighschool.org/event/lunch-ms-lisa-knickmeyer-10/
CATEGORIES:Lunch
END:VEVENT
BEGIN:VEVENT
DTSTART;TZID=America/New_York:20240226T121500
DTEND;TZID=America/New_York:20240226T124500
DTSTAMP:20260426T002941
CREATED:20230817T155911Z
LAST-MODIFIED:20240225T203050Z
UID:43490-1708949700-1708951500@tcshighschool.org
SUMMARY:Lunch: Berman McAleer
DESCRIPTION:baked ziti and bringing salad and brownies
URL:https://tcshighschool.org/event/lunch-berman-mcaleer-15-2024-02-12/
CATEGORIES:Lunch
END:VEVENT
BEGIN:VEVENT
DTSTART;TZID=America/New_York:20240227T121500
DTEND;TZID=America/New_York:20240227T124500
DTSTAMP:20260426T002941
CREATED:20230810T201746Z
LAST-MODIFIED:20240107T125841Z
UID:42869-1709036100-1709037900@tcshighschool.org
SUMMARY:Lunch: Ms. Peggy
DESCRIPTION:Egg/cheese/turkey sausage casserole/ tater tot/ dessert
URL:https://tcshighschool.org/event/lunch-ms-peggy-3-2024-02-27/
CATEGORIES:Lunch
END:VEVENT
BEGIN:VEVENT
DTSTART;TZID=America/New_York:20240228T121500
DTEND;TZID=America/New_York:20240228T124500
DTSTAMP:20260426T002941
CREATED:20231215T122639Z
LAST-MODIFIED:20240227T215620Z
UID:44755-1709122500-1709124300@tcshighschool.org
SUMMARY:Lunch: Mr. Kevin (Sam's Dad)
DESCRIPTION:chicken casserole
URL:https://tcshighschool.org/event/lunch-mr-kevin-sams-dad-4/
CATEGORIES:Lunch
END:VEVENT
BEGIN:VEVENT
DTSTART;TZID=America/New_York:20240229T121500
DTEND;TZID=America/New_York:20240229T124500
DTSTAMP:20260426T002941
CREATED:20230818T192549Z
LAST-MODIFIED:20230818T192549Z
UID:43529-1709208900-1709210700@tcshighschool.org
SUMMARY:Lunch: The Lyric
DESCRIPTION:
URL:https://tcshighschool.org/event/lunch-the-lyric-2/
CATEGORIES:Lunch
END:VEVENT
BEGIN:VEVENT
DTSTART;TZID=America/New_York:20240301T110000
DTEND;TZID=America/New_York:20240301T113000
DTSTAMP:20260426T002941
CREATED:20231215T122744Z
LAST-MODIFIED:20231215T122748Z
UID:44757-1709290800-1709292600@tcshighschool.org
SUMMARY:Lunch: Ms. Miriam (Mohamed's Mom)
DESCRIPTION:
URL:https://tcshighschool.org/event/lunch-ms-miriam-mohameds-mom-6/
CATEGORIES:Lunch
END:VEVENT
BEGIN:VEVENT
DTSTART;TZID=America/New_York:20240304T121500
DTEND;TZID=America/New_York:20240304T124500
DTSTAMP:20260426T002941
CREATED:20230904T144036Z
LAST-MODIFIED:20230904T144036Z
UID:43814-1709554500-1709556300@tcshighschool.org
SUMMARY:Lunch: Ms. Carol
DESCRIPTION:
URL:https://tcshighschool.org/event/lunch-ms-carol-89/
CATEGORIES:Lunch
END:VEVENT
BEGIN:VEVENT
DTSTART;TZID=America/New_York:20240305T121500
DTEND;TZID=America/New_York:20240305T124500
DTSTAMP:20260426T002941
CREATED:20240227T012546Z
LAST-MODIFIED:20240227T012546Z
UID:45186-1709640900-1709642700@tcshighschool.org
SUMMARY:Lunch: Ms. Peggy
DESCRIPTION:
URL:https://tcshighschool.org/event/lunch-ms-peggy-4/
CATEGORIES:Lunch
END:VEVENT
BEGIN:VEVENT
DTSTART;TZID=America/New_York:20240306T121500
DTEND;TZID=America/New_York:20240306T124500
DTSTAMP:20260426T002941
CREATED:20231215T122918Z
LAST-MODIFIED:20231215T122918Z
UID:44761-1709727300-1709729100@tcshighschool.org
SUMMARY:Lunch: Ms. Linda (Madison's Mom)
DESCRIPTION:
URL:https://tcshighschool.org/event/lunch-ms-linda-madisons-mom-21/
CATEGORIES:Lunch
END:VEVENT
BEGIN:VEVENT
DTSTART;TZID=America/New_York:20240307T121500
DTEND;TZID=America/New_York:20240307T124500
DTSTAMP:20260426T002941
CREATED:20231215T123017Z
LAST-MODIFIED:20231215T123017Z
UID:44763-1709813700-1709815500@tcshighschool.org
SUMMARY:Lunch: Ms. Rita (Ethan's Mom)
DESCRIPTION:
URL:https://tcshighschool.org/event/lunch-ms-rita-ethans-mom-15/
CATEGORIES:Lunch
END:VEVENT
BEGIN:VEVENT
DTSTART;TZID=America/New_York:20240308T110000
DTEND;TZID=America/New_York:20240308T113000
DTSTAMP:20260426T002941
CREATED:20231215T123057Z
LAST-MODIFIED:20240309T202006Z
UID:44765-1709895600-1709897400@tcshighschool.org
SUMMARY:Lunch: Ms. Leslie (Kennedy's Mom)
DESCRIPTION:
URL:https://tcshighschool.org/event/lunch-ms-leslie-kennedys-mom-18/
CATEGORIES:Lunch
END:VEVENT
BEGIN:VEVENT
DTSTART;TZID=America/New_York:20240311T121500
DTEND;TZID=America/New_York:20240311T124500
DTSTAMP:20260426T002941
CREATED:20231215T123255Z
LAST-MODIFIED:20231215T123414Z
UID:44767-1710159300-1710161100@tcshighschool.org
SUMMARY:Lunch: Ms. Jenae (Rhys & Quinn's Mom)
DESCRIPTION:
URL:https://tcshighschool.org/event/lunch-ms-jenae-rhys-quinns-mom-10/
CATEGORIES:Lunch
END:VEVENT
BEGIN:VEVENT
DTSTART;TZID=America/New_York:20240312T121500
DTEND;TZID=America/New_York:20240312T124500
DTSTAMP:20260426T002941
CREATED:20230810T201746Z
LAST-MODIFIED:20240225T144522Z
UID:42871-1710245700-1710247500@tcshighschool.org
SUMMARY:Lunch: Ms. Peggy
DESCRIPTION:corned beef/potatoes/green beans/soda bread
URL:https://tcshighschool.org/event/lunch-ms-peggy-3-2024-03-12/
CATEGORIES:Lunch
END:VEVENT
BEGIN:VEVENT
DTSTART;TZID=America/New_York:20240313T121500
DTEND;TZID=America/New_York:20240313T124500
DTSTAMP:20260426T002941
CREATED:20231215T123841Z
LAST-MODIFIED:20240314T163451Z
UID:44769-1710332100-1710333900@tcshighschool.org
SUMMARY:Lunch: Ms. Leah (Sam's Sponsor)
DESCRIPTION:
URL:https://tcshighschool.org/event/lunch-msr-kevin-sams-dad/
CATEGORIES:Lunch
END:VEVENT
BEGIN:VEVENT
DTSTART;TZID=America/New_York:20240314T121500
DTEND;TZID=America/New_York:20240314T124500
DTSTAMP:20260426T002941
CREATED:20231215T123922Z
LAST-MODIFIED:20231215T123922Z
UID:44771-1710418500-1710420300@tcshighschool.org
SUMMARY:Lunch: Ms. Miriam (Mohamed's Mom)
DESCRIPTION:
URL:https://tcshighschool.org/event/lunch-ms-miriam-mohameds-mom-7/
CATEGORIES:Lunch
END:VEVENT
BEGIN:VEVENT
DTSTART;TZID=America/New_York:20240315T110000
DTEND;TZID=America/New_York:20240315T113000
DTSTAMP:20260426T002941
CREATED:20231215T124147Z
LAST-MODIFIED:20240309T201927Z
UID:44773-1710500400-1710502200@tcshighschool.org
SUMMARY:Lunch: Ms. Ms. Lisa Knickmeyer
DESCRIPTION:
URL:https://tcshighschool.org/event/lunch-ms-ms-lisa-knickmeyer/
CATEGORIES:Lunch
END:VEVENT
BEGIN:VEVENT
DTSTART;TZID=America/New_York:20240318T121500
DTEND;TZID=America/New_York:20240318T124500
DTSTAMP:20260426T002941
CREATED:20230817T155911Z
LAST-MODIFIED:20230817T175759Z
UID:43491-1710764100-1710765900@tcshighschool.org
SUMMARY:Lunch: Berman McAleer
DESCRIPTION:
URL:https://tcshighschool.org/event/lunch-berman-mcaleer-15-2024-03-11/
CATEGORIES:Lunch
END:VEVENT
BEGIN:VEVENT
DTSTART;TZID=America/New_York:20240319T121500
DTEND;TZID=America/New_York:20240319T124500
DTSTAMP:20260426T002941
CREATED:20230810T201746Z
LAST-MODIFIED:20240317T170333Z
UID:42872-1710850500-1710852300@tcshighschool.org
SUMMARY:Lunch: Ms. Peggy
DESCRIPTION:Shepherds pies/ salad/fruit/dessert
URL:https://tcshighschool.org/event/lunch-ms-peggy-3-2024-03-19/
CATEGORIES:Lunch
END:VEVENT
BEGIN:VEVENT
DTSTART;TZID=America/New_York:20240320T121500
DTEND;TZID=America/New_York:20240320T124500
DTSTAMP:20260426T002941
CREATED:20231215T124248Z
LAST-MODIFIED:20231215T124248Z
UID:44775-1710936900-1710938700@tcshighschool.org
SUMMARY:Lunch: Ms. Kyna (Danny's Mom)
DESCRIPTION:
URL:https://tcshighschool.org/event/lunch-ms-kyna-dannys-mom-3/
CATEGORIES:Lunch
END:VEVENT
BEGIN:VEVENT
DTSTART;TZID=America/New_York:20240321T121500
DTEND;TZID=America/New_York:20240321T124500
DTSTAMP:20260426T002941
CREATED:20230904T143413Z
LAST-MODIFIED:20230904T143413Z
UID:43798-1711023300-1711025100@tcshighschool.org
SUMMARY:Lunch: Ms. Mary Louise
DESCRIPTION:
URL:https://tcshighschool.org/event/lunch-ms-mary-louise-19/
CATEGORIES:Lunch
END:VEVENT
BEGIN:VEVENT
DTSTART;TZID=America/New_York:20240322T104500
DTEND;TZID=America/New_York:20240322T111500
DTSTAMP:20260426T002941
CREATED:20231215T124339Z
LAST-MODIFIED:20240319T122027Z
UID:44777-1711104300-1711106100@tcshighschool.org
SUMMARY:Lunch: Mr. Kevin (Sam's Dad)
DESCRIPTION:
URL:https://tcshighschool.org/event/lunch-mr-kevin-sams-dad-5/
CATEGORIES:Lunch
END:VEVENT
END:VCALENDAR