BEGIN:VCALENDAR
VERSION:2.0
PRODID:-//TCS High School - ECPv6.15.11//NONSGML v1.0//EN
CALSCALE:GREGORIAN
METHOD:PUBLISH
X-WR-CALNAME:TCS High School
X-ORIGINAL-URL:https://tcshighschool.org
X-WR-CALDESC:Events for TCS High School
REFRESH-INTERVAL;VALUE=DURATION:PT1H
X-Robots-Tag:noindex
X-PUBLISHED-TTL:PT1H
BEGIN:VTIMEZONE
TZID:America/New_York
BEGIN:DAYLIGHT
TZOFFSETFROM:-0500
TZOFFSETTO:-0400
TZNAME:EDT
DTSTART:20240310T070000
END:DAYLIGHT
BEGIN:STANDARD
TZOFFSETFROM:-0400
TZOFFSETTO:-0500
TZNAME:EST
DTSTART:20241103T060000
END:STANDARD
BEGIN:DAYLIGHT
TZOFFSETFROM:-0500
TZOFFSETTO:-0400
TZNAME:EDT
DTSTART:20250309T070000
END:DAYLIGHT
BEGIN:STANDARD
TZOFFSETFROM:-0400
TZOFFSETTO:-0500
TZNAME:EST
DTSTART:20251102T060000
END:STANDARD
BEGIN:DAYLIGHT
TZOFFSETFROM:-0500
TZOFFSETTO:-0400
TZNAME:EDT
DTSTART:20260308T070000
END:DAYLIGHT
BEGIN:STANDARD
TZOFFSETFROM:-0400
TZOFFSETTO:-0500
TZNAME:EST
DTSTART:20261101T060000
END:STANDARD
END:VTIMEZONE
BEGIN:VEVENT
DTSTART;TZID=America/New_York:20250410T120000
DTEND;TZID=America/New_York:20250410T123000
DTSTAMP:20260425T112002
CREATED:20240801T211319Z
LAST-MODIFIED:20240801T211319Z
UID:45927-1744286400-1744288200@tcshighschool.org
SUMMARY:Lunch: The Lyric
DESCRIPTION:
URL:https://tcshighschool.org/event/lunch-the-lyric-8/
CATEGORIES:Lunch
END:VEVENT
BEGIN:VEVENT
DTSTART;TZID=America/New_York:20250411T110000
DTEND;TZID=America/New_York:20250411T113000
DTSTAMP:20260425T112002
CREATED:20240815T011241Z
LAST-MODIFIED:20250407T155325Z
UID:46214-1744369200-1744371000@tcshighschool.org
SUMMARY:Lunch: Ms. Rita (Ethan's Mom)
DESCRIPTION:sandwiches
URL:https://tcshighschool.org/event/lunch-ms-rita-ethans-mom-24/
CATEGORIES:Lunch
END:VEVENT
BEGIN:VEVENT
DTSTART;TZID=America/New_York:20250421T121500
DTEND;TZID=America/New_York:20250421T124500
DTSTAMP:20260425T112002
CREATED:20240815T130634Z
LAST-MODIFIED:20250423T104406Z
UID:46238-1745237700-1745239500@tcshighschool.org
SUMMARY:Lunch: Ms. Shakiara (Khori's Mom)
DESCRIPTION:pizza
URL:https://tcshighschool.org/event/lunch-ms-shakiara-khoris-mom-8/
CATEGORIES:Lunch
END:VEVENT
BEGIN:VEVENT
DTSTART;TZID=America/New_York:20250422T121500
DTEND;TZID=America/New_York:20250422T124500
DTSTAMP:20260425T112002
CREATED:20240801T213118Z
LAST-MODIFIED:20250405T223405Z
UID:45981-1745324100-1745325900@tcshighschool.org
SUMMARY:Lunch: Ms. Peg
DESCRIPTION:Beef Stew\, bread\, fruit\, dessert
URL:https://tcshighschool.org/event/lunch-ms-peg-62-2025-04-01/
CATEGORIES:Lunch
END:VEVENT
BEGIN:VEVENT
DTSTART;TZID=America/New_York:20250423T121500
DTEND;TZID=America/New_York:20250423T124500
DTSTAMP:20260425T112002
CREATED:20240814T002243Z
LAST-MODIFIED:20240814T002243Z
UID:46132-1745410500-1745412300@tcshighschool.org
SUMMARY:Lunch: Mary Louise Preis
DESCRIPTION:
URL:https://tcshighschool.org/event/lunch-mary-louise-preis/
CATEGORIES:Lunch
END:VEVENT
BEGIN:VEVENT
DTSTART;TZID=America/New_York:20250424T113000
DTEND;TZID=America/New_York:20250424T120000
DTSTAMP:20260425T112002
CREATED:20240813T134928Z
LAST-MODIFIED:20250423T104448Z
UID:46036-1745494200-1745496000@tcshighschool.org
SUMMARY:Lunch: Berman McAleer
DESCRIPTION:pizza
URL:https://tcshighschool.org/event/lunch-berman-mcaleer-17-2025-04-17/
CATEGORIES:Lunch
END:VEVENT
BEGIN:VEVENT
DTSTART;TZID=America/New_York:20250425T110000
DTEND;TZID=America/New_York:20250425T113000
DTSTAMP:20260425T112002
CREATED:20240922T223844Z
LAST-MODIFIED:20250425T143146Z
UID:46562-1745578800-1745580600@tcshighschool.org
SUMMARY:Lunch: Ms. Shawn (Kendall's Aunt)
DESCRIPTION:sandwiches
URL:https://tcshighschool.org/event/lunch-ms-shawn-kendalls-aunt-7/
CATEGORIES:Lunch
END:VEVENT
BEGIN:VEVENT
DTSTART;TZID=America/New_York:20250428T121500
DTEND;TZID=America/New_York:20250428T124500
DTSTAMP:20260425T112002
CREATED:20240822T184209Z
LAST-MODIFIED:20250427T233748Z
UID:46299-1745842500-1745844300@tcshighschool.org
SUMMARY:Lunch: Ms. Jaqueline (Khori's Grandmother)
DESCRIPTION:chicken and salad
URL:https://tcshighschool.org/event/lunch-ms-jaqueline-khoris-grandmother-7/
CATEGORIES:Lunch
END:VEVENT
BEGIN:VEVENT
DTSTART;TZID=America/New_York:20250429T121500
DTEND;TZID=America/New_York:20250429T124500
DTSTAMP:20260425T112002
CREATED:20240801T213118Z
LAST-MODIFIED:20250405T223550Z
UID:45985-1745928900-1745930700@tcshighschool.org
SUMMARY:Lunch: Ms. Peg
DESCRIPTION:Chicken Bakes\, fruit salad\, dessert
URL:https://tcshighschool.org/event/lunch-ms-peg-62-2025-04-29/
CATEGORIES:Lunch
END:VEVENT
BEGIN:VEVENT
DTSTART;TZID=America/New_York:20250430T121500
DTEND;TZID=America/New_York:20250430T124500
DTSTAMP:20260425T112002
CREATED:20240814T180257Z
LAST-MODIFIED:20240930T001520Z
UID:46196-1746015300-1746017100@tcshighschool.org
SUMMARY:Lunch: The Bancrofts
DESCRIPTION:
URL:https://tcshighschool.org/event/lunch-the-bancrofts-6/
CATEGORIES:Lunch
END:VEVENT
BEGIN:VEVENT
DTSTART;TZID=America/New_York:20250501T124500
DTEND;TZID=America/New_York:20250501T134500
DTSTAMP:20260425T112002
CREATED:20250307T121501Z
LAST-MODIFIED:20250307T121501Z
UID:48020-1746103500-1746107100@tcshighschool.org
SUMMARY:Lunch: Ms. Carla (Karla & Ruth's mom)
DESCRIPTION:
URL:https://tcshighschool.org/event/lunch-ms-carla-karla-ruths-mom-9/
CATEGORIES:Lunch
END:VEVENT
BEGIN:VEVENT
DTSTART;TZID=America/New_York:20250502T110000
DTEND;TZID=America/New_York:20250502T113000
DTSTAMP:20260425T112002
CREATED:20250307T121603Z
LAST-MODIFIED:20250307T121603Z
UID:48022-1746183600-1746185400@tcshighschool.org
SUMMARY:Lunch: Ms. Ruth (Jordan's Sponsor)
DESCRIPTION:
URL:https://tcshighschool.org/event/lunch-ms-ruth-jordans-sponsor-2/
CATEGORIES:Lunch
END:VEVENT
BEGIN:VEVENT
DTSTART;TZID=America/New_York:20250505T121500
DTEND;TZID=America/New_York:20250505T124500
DTSTAMP:20260425T112002
CREATED:20240828T001639Z
LAST-MODIFIED:20250503T161955Z
UID:46337-1746447300-1746449100@tcshighschool.org
SUMMARY:Lunch: Ms. Jenae (Rhys & Quinn's Mom)
DESCRIPTION:cold cut subs with fixins
URL:https://tcshighschool.org/event/lunch-ms-jenae-rhys-quinns-mom-21/
CATEGORIES:Lunch
END:VEVENT
BEGIN:VEVENT
DTSTART;TZID=America/New_York:20250506T121500
DTEND;TZID=America/New_York:20250506T124500
DTSTAMP:20260425T112002
CREATED:20240801T213118Z
LAST-MODIFIED:20250405T223911Z
UID:45986-1746533700-1746535500@tcshighschool.org
SUMMARY:Lunch: Ms. Peg
DESCRIPTION:pasta/sausage\, salad\, fruit\, dessert
URL:https://tcshighschool.org/event/lunch-ms-peg-62-2025-05-06/
CATEGORIES:Lunch
END:VEVENT
BEGIN:VEVENT
DTSTART;TZID=America/New_York:20250507T121500
DTEND;TZID=America/New_York:20250507T124500
DTSTAMP:20260425T112002
CREATED:20240813T211158Z
LAST-MODIFIED:20250422T105545Z
UID:46076-1746620100-1746621900@tcshighschool.org
SUMMARY:Lunch: Ms. Mary Louise
DESCRIPTION:
URL:https://tcshighschool.org/event/lunch-ms-mary-louise-29/
CATEGORIES:Lunch
END:VEVENT
BEGIN:VEVENT
DTSTART;TZID=America/New_York:20250508T121500
DTEND;TZID=America/New_York:20250508T124500
DTSTAMP:20260425T112002
CREATED:20250307T121732Z
LAST-MODIFIED:20250506T112951Z
UID:48024-1746706500-1746708300@tcshighschool.org
SUMMARY:Lunch: Ms. Linda (Madison's Mom)
DESCRIPTION:Chik-fil-a
URL:https://tcshighschool.org/event/lunch-ms-linda-madisons-mom-31/
CATEGORIES:Lunch
END:VEVENT
BEGIN:VEVENT
DTSTART;TZID=America/New_York:20250509T110000
DTEND;TZID=America/New_York:20250509T113000
DTSTAMP:20260425T112002
CREATED:20250505T160420Z
LAST-MODIFIED:20250506T172538Z
UID:48516-1746788400-1746790200@tcshighschool.org
SUMMARY:Lunch: Ms. Lisa
DESCRIPTION:Ricotta/spinach ravioli\, garlic bread\, watermelon and dessert (probably frozen treat of some sort)
URL:https://tcshighschool.org/event/lunch-ms-lisa-6/
CATEGORIES:Lunch
END:VEVENT
BEGIN:VEVENT
DTSTART;TZID=America/New_York:20250512T121500
DTEND;TZID=America/New_York:20250512T124500
DTSTAMP:20260425T112002
CREATED:20240822T184257Z
LAST-MODIFIED:20250511T174307Z
UID:46301-1747052100-1747053900@tcshighschool.org
SUMMARY:Lunch: Ms. Jaqueline (Khori's Grandmother)
DESCRIPTION:pizza
URL:https://tcshighschool.org/event/lunch-ms-jaqueline-khoris-grandmother-8/
CATEGORIES:Lunch
END:VEVENT
BEGIN:VEVENT
DTSTART;TZID=America/New_York:20250513T121500
DTEND;TZID=America/New_York:20250513T124500
DTSTAMP:20260425T112002
CREATED:20240801T213118Z
LAST-MODIFIED:20240801T213118Z
UID:45987-1747138500-1747140300@tcshighschool.org
SUMMARY:Lunch: Ms. Peg
DESCRIPTION:
URL:https://tcshighschool.org/event/lunch-ms-peg-62/2025-05-13/
CATEGORIES:Lunch
END:VEVENT
BEGIN:VEVENT
DTSTART;TZID=America/New_York:20250514T121500
DTEND;TZID=America/New_York:20250514T124500
DTSTAMP:20260425T112002
CREATED:20240814T180359Z
LAST-MODIFIED:20240814T180359Z
UID:46198-1747224900-1747226700@tcshighschool.org
SUMMARY:Lunch: The Bancrofts
DESCRIPTION:
URL:https://tcshighschool.org/event/lunch-the-bancrofts-7/
CATEGORIES:Lunch
END:VEVENT
BEGIN:VEVENT
DTSTART;TZID=America/New_York:20250516T110000
DTEND;TZID=America/New_York:20250516T113000
DTSTAMP:20260425T112002
CREATED:20250307T123346Z
LAST-MODIFIED:20250515T112007Z
UID:48034-1747393200-1747395000@tcshighschool.org
SUMMARY:Lunch: Ms. Kyna (Danny's Mom)
DESCRIPTION:chicken tacos
URL:https://tcshighschool.org/event/lunch-ms-kyna-dannys-mom-7/
CATEGORIES:Lunch
END:VEVENT
BEGIN:VEVENT
DTSTART;TZID=America/New_York:20250519T120000
DTEND;TZID=America/New_York:20250519T123000
DTSTAMP:20260425T112002
CREATED:20250504T212738Z
LAST-MODIFIED:20250504T212738Z
UID:48512-1747656000-1747657800@tcshighschool.org
SUMMARY:Lunch: Berman McAleer
DESCRIPTION:
URL:https://tcshighschool.org/event/lunch-berman-mcaleer-18/
CATEGORIES:Lunch
END:VEVENT
BEGIN:VEVENT
DTSTART;TZID=America/New_York:20250520T121500
DTEND;TZID=America/New_York:20250520T124500
DTSTAMP:20260425T112002
CREATED:20240801T213118Z
LAST-MODIFIED:20240801T213118Z
UID:45988-1747743300-1747745100@tcshighschool.org
SUMMARY:Lunch: Ms. Peg
DESCRIPTION:
URL:https://tcshighschool.org/event/lunch-ms-peg-62/2025-05-20/
CATEGORIES:Lunch
END:VEVENT
BEGIN:VEVENT
DTSTART;TZID=America/New_York:20250521T121500
DTEND;TZID=America/New_York:20250521T124500
DTSTAMP:20260425T112002
CREATED:20240814T172556Z
LAST-MODIFIED:20250520T234306Z
UID:46158-1747829700-1747831500@tcshighschool.org
SUMMARY:Lunch: The Avents (Lyric's Family)
DESCRIPTION:sandwiches
URL:https://tcshighschool.org/event/lunch-the-avents-lyrics-family-5/
CATEGORIES:Lunch
END:VEVENT
BEGIN:VEVENT
DTSTART;TZID=America/New_York:20250522T121500
DTEND;TZID=America/New_York:20250522T124500
DTSTAMP:20260425T112002
CREATED:20250307T122929Z
LAST-MODIFIED:20250307T122929Z
UID:48030-1747916100-1747917900@tcshighschool.org
SUMMARY:Lunch: Ms. Jackie (Khori's Grandmother)
DESCRIPTION:
URL:https://tcshighschool.org/event/lunch-ms-jackie-khoris-grandmother/
CATEGORIES:Lunch
END:VEVENT
BEGIN:VEVENT
DTSTART;TZID=America/New_York:20250523T110000
DTEND;TZID=America/New_York:20250523T113000
DTSTAMP:20260425T112002
CREATED:20240922T223950Z
LAST-MODIFIED:20250520T234132Z
UID:46564-1747998000-1747999800@tcshighschool.org
SUMMARY:Lunch: Ms. Leslie (Kennedy's Mom)
DESCRIPTION:spaghetti.
URL:https://tcshighschool.org/event/lunch-ms-leslie-kennedys-mom-25/
CATEGORIES:Lunch
END:VEVENT
BEGIN:VEVENT
DTSTART;TZID=America/New_York:20250527T121500
DTEND;TZID=America/New_York:20250527T124500
DTSTAMP:20260425T112002
CREATED:20240801T213118Z
LAST-MODIFIED:20250405T223825Z
UID:45989-1748348100-1748349900@tcshighschool.org
SUMMARY:Lunch: Ms. Peg
DESCRIPTION:Quesadillas\, salad\, fruit\, ice cream
URL:https://tcshighschool.org/event/lunch-ms-peg-62-2025-05-27/
CATEGORIES:Lunch
END:VEVENT
BEGIN:VEVENT
DTSTART;TZID=America/New_York:20250528T121500
DTEND;TZID=America/New_York:20250528T124500
DTSTAMP:20260425T112002
CREATED:20240815T130733Z
LAST-MODIFIED:20250504T171505Z
UID:46240-1748434500-1748436300@tcshighschool.org
SUMMARY:Lunch: Ms. Shakiara (Khori's Mom)
DESCRIPTION:
URL:https://tcshighschool.org/event/lunch-ms-shakiara-khoris-mom-9/
CATEGORIES:Lunch
END:VEVENT
BEGIN:VEVENT
DTSTART;TZID=America/New_York:20250529T121500
DTEND;TZID=America/New_York:20250529T124500
DTSTAMP:20260425T112002
CREATED:20250307T123122Z
LAST-MODIFIED:20250307T123122Z
UID:48032-1748520900-1748522700@tcshighschool.org
SUMMARY:Lunch: Ms. Carla (Karla & Ruth's Mom)
DESCRIPTION:
URL:https://tcshighschool.org/event/lunch-ms-carla-karla-ruths-mom-11/
CATEGORIES:Lunch
END:VEVENT
BEGIN:VEVENT
DTSTART;TZID=America/New_York:20250530T110000
DTEND;TZID=America/New_York:20250530T113000
DTSTAMP:20260425T112002
CREATED:20240815T011336Z
LAST-MODIFIED:20240815T011336Z
UID:46216-1748602800-1748604600@tcshighschool.org
SUMMARY:Lunch: Ms. Rita (Ethan's Mom)
DESCRIPTION:
URL:https://tcshighschool.org/event/lunch-ms-rita-ethans-mom-25/
CATEGORIES:Lunch
END:VEVENT
END:VCALENDAR