BEGIN:VCALENDAR
VERSION:2.0
PRODID:-//TCS High School - ECPv6.15.11//NONSGML v1.0//EN
CALSCALE:GREGORIAN
METHOD:PUBLISH
X-ORIGINAL-URL:https://tcshighschool.org
X-WR-CALDESC:Events for TCS High School
REFRESH-INTERVAL;VALUE=DURATION:PT1H
X-Robots-Tag:noindex
X-PUBLISHED-TTL:PT1H
BEGIN:VTIMEZONE
TZID:America/New_York
BEGIN:DAYLIGHT
TZOFFSETFROM:-0500
TZOFFSETTO:-0400
TZNAME:EDT
DTSTART:20230312T070000
END:DAYLIGHT
BEGIN:STANDARD
TZOFFSETFROM:-0400
TZOFFSETTO:-0500
TZNAME:EST
DTSTART:20231105T060000
END:STANDARD
BEGIN:DAYLIGHT
TZOFFSETFROM:-0500
TZOFFSETTO:-0400
TZNAME:EDT
DTSTART:20240310T070000
END:DAYLIGHT
BEGIN:STANDARD
TZOFFSETFROM:-0400
TZOFFSETTO:-0500
TZNAME:EST
DTSTART:20241103T060000
END:STANDARD
BEGIN:DAYLIGHT
TZOFFSETFROM:-0500
TZOFFSETTO:-0400
TZNAME:EDT
DTSTART:20250309T070000
END:DAYLIGHT
BEGIN:STANDARD
TZOFFSETFROM:-0400
TZOFFSETTO:-0500
TZNAME:EST
DTSTART:20251102T060000
END:STANDARD
END:VTIMEZONE
BEGIN:VEVENT
DTSTART;TZID=America/New_York:20240102T121500
DTEND;TZID=America/New_York:20240102T124500
DTSTAMP:20260426T000021
CREATED:20231227T183834Z
LAST-MODIFIED:20231227T183834Z
UID:44851-1704197700-1704199500@tcshighschool.org
SUMMARY:Lunch: Ms. Peg
DESCRIPTION:
URL:https://tcshighschool.org/event/lunch-ms-peg-61/
CATEGORIES:Lunch
END:VEVENT
BEGIN:VEVENT
DTSTART;TZID=America/New_York:20240103T121500
DTEND;TZID=America/New_York:20240103T124500
DTSTAMP:20260426T000021
CREATED:20231212T154953Z
LAST-MODIFIED:20240102T155746Z
UID:44684-1704284100-1704285900@tcshighschool.org
SUMMARY:Lunch: Ms. Linda (Madison's Mom)
DESCRIPTION:Turkey or ham sandwiches\, caesar salad\, chips
URL:https://tcshighschool.org/event/lunch-ms-linda-madisons-mom-19/
CATEGORIES:Lunch
END:VEVENT
BEGIN:VEVENT
DTSTART;TZID=America/New_York:20240104T121500
DTEND;TZID=America/New_York:20240104T123000
DTSTAMP:20260426T000021
CREATED:20230810T202317Z
LAST-MODIFIED:20230816T185939Z
UID:42889-1704370500-1704371400@tcshighschool.org
SUMMARY:Lunch: The Lyric
DESCRIPTION:
URL:https://tcshighschool.org/event/lunchlyric-4/
CATEGORIES:Lunch
END:VEVENT
BEGIN:VEVENT
DTSTART;TZID=America/New_York:20240105T110000
DTEND;TZID=America/New_York:20240105T113000
DTSTAMP:20260426T000021
CREATED:20231215T120749Z
LAST-MODIFIED:20231215T120749Z
UID:44713-1704452400-1704454200@tcshighschool.org
SUMMARY:Lunch: Ms. Linda (Ethan's Sponsor)
DESCRIPTION:
URL:https://tcshighschool.org/event/lunch-ms-linda-ethans-sponsor-2/
CATEGORIES:Lunch
END:VEVENT
END:VCALENDAR