BEGIN:VCALENDAR
VERSION:2.0
PRODID:-//TCS High School - ECPv6.15.11//NONSGML v1.0//EN
CALSCALE:GREGORIAN
METHOD:PUBLISH
X-ORIGINAL-URL:https://tcshighschool.org
X-WR-CALDESC:Events for TCS High School
REFRESH-INTERVAL;VALUE=DURATION:PT1H
X-Robots-Tag:noindex
X-PUBLISHED-TTL:PT1H
BEGIN:VTIMEZONE
TZID:America/New_York
BEGIN:DAYLIGHT
TZOFFSETFROM:-0500
TZOFFSETTO:-0400
TZNAME:EDT
DTSTART:20230312T070000
END:DAYLIGHT
BEGIN:STANDARD
TZOFFSETFROM:-0400
TZOFFSETTO:-0500
TZNAME:EST
DTSTART:20231105T060000
END:STANDARD
BEGIN:DAYLIGHT
TZOFFSETFROM:-0500
TZOFFSETTO:-0400
TZNAME:EDT
DTSTART:20240310T070000
END:DAYLIGHT
BEGIN:STANDARD
TZOFFSETFROM:-0400
TZOFFSETTO:-0500
TZNAME:EST
DTSTART:20241103T060000
END:STANDARD
BEGIN:DAYLIGHT
TZOFFSETFROM:-0500
TZOFFSETTO:-0400
TZNAME:EDT
DTSTART:20250309T070000
END:DAYLIGHT
BEGIN:STANDARD
TZOFFSETFROM:-0400
TZOFFSETTO:-0500
TZNAME:EST
DTSTART:20251102T060000
END:STANDARD
END:VTIMEZONE
BEGIN:VEVENT
DTSTART;TZID=America/New_York:20240923T121500
DTEND;TZID=America/New_York:20240923T124500
DTSTAMP:20260425T114817
CREATED:20240916T124257Z
LAST-MODIFIED:20240921T205838Z
UID:46483-1727093700-1727095500@tcshighschool.org
SUMMARY:Lunch: Ms. Kyna (Danny's Mom)
DESCRIPTION:Pizza\, sodas and fruit
URL:https://tcshighschool.org/event/lunch-ms-kyna-dannys-mom-5/
CATEGORIES:Lunch
END:VEVENT
BEGIN:VEVENT
DTSTART;TZID=America/New_York:20240924T121500
DTEND;TZID=America/New_York:20240924T124500
DTSTAMP:20260425T114817
CREATED:20240801T213118Z
LAST-MODIFIED:20240917T000117Z
UID:45954-1727180100-1727181900@tcshighschool.org
SUMMARY:Lunch: Ms. Peg
DESCRIPTION:Tortellini & sausage/salad/fruit
URL:https://tcshighschool.org/event/lunch-ms-peg-62-2024-09-24/
CATEGORIES:Lunch
END:VEVENT
BEGIN:VEVENT
DTSTART;TZID=America/New_York:20240925T121500
DTEND;TZID=America/New_York:20240925T124500
DTSTAMP:20260425T114817
CREATED:20240814T175512Z
LAST-MODIFIED:20240922T221116Z
UID:46184-1727266500-1727268300@tcshighschool.org
SUMMARY:Lunch: The Bancrofts
DESCRIPTION:Chick fil a wraps
URL:https://tcshighschool.org/event/lunch-the-bancrofts/
CATEGORIES:Lunch
END:VEVENT
BEGIN:VEVENT
DTSTART;TZID=America/New_York:20240926T121500
DTEND;TZID=America/New_York:20240926T124500
DTSTAMP:20260425T114817
CREATED:20240813T210303Z
LAST-MODIFIED:20240921T210013Z
UID:46060-1727352900-1727354700@tcshighschool.org
SUMMARY:Lunch: Ms. Mary Louise
DESCRIPTION:Italian Subs
URL:https://tcshighschool.org/event/lunch-ms-mary-louise-22/
CATEGORIES:Lunch
END:VEVENT
BEGIN:VEVENT
DTSTART;TZID=America/New_York:20240927T110000
DTEND;TZID=America/New_York:20240927T113000
DTSTAMP:20260425T114817
CREATED:20240920T103853Z
LAST-MODIFIED:20240920T103853Z
UID:46504-1727434800-1727436600@tcshighschool.org
SUMMARY:Lunch: Ms. Rachel (Rhys & Quinn's Sponsor)
DESCRIPTION:
URL:https://tcshighschool.org/event/lunch-ms-rachel-rhys-quinns-sponsor/
CATEGORIES:Lunch
END:VEVENT
END:VCALENDAR