BEGIN:VCALENDAR
VERSION:2.0
PRODID:-//TCS High School - ECPv6.15.11//NONSGML v1.0//EN
CALSCALE:GREGORIAN
METHOD:PUBLISH
X-WR-CALNAME:TCS High School
X-ORIGINAL-URL:https://tcshighschool.org
X-WR-CALDESC:Events for TCS High School
REFRESH-INTERVAL;VALUE=DURATION:PT1H
X-Robots-Tag:noindex
X-PUBLISHED-TTL:PT1H
BEGIN:VTIMEZONE
TZID:America/New_York
BEGIN:DAYLIGHT
TZOFFSETFROM:-0500
TZOFFSETTO:-0400
TZNAME:EDT
DTSTART:20230312T070000
END:DAYLIGHT
BEGIN:STANDARD
TZOFFSETFROM:-0400
TZOFFSETTO:-0500
TZNAME:EST
DTSTART:20231105T060000
END:STANDARD
BEGIN:DAYLIGHT
TZOFFSETFROM:-0500
TZOFFSETTO:-0400
TZNAME:EDT
DTSTART:20240310T070000
END:DAYLIGHT
BEGIN:STANDARD
TZOFFSETFROM:-0400
TZOFFSETTO:-0500
TZNAME:EST
DTSTART:20241103T060000
END:STANDARD
BEGIN:DAYLIGHT
TZOFFSETFROM:-0500
TZOFFSETTO:-0400
TZNAME:EDT
DTSTART:20250309T070000
END:DAYLIGHT
BEGIN:STANDARD
TZOFFSETFROM:-0400
TZOFFSETTO:-0500
TZNAME:EST
DTSTART:20251102T060000
END:STANDARD
END:VTIMEZONE
BEGIN:VEVENT
DTSTART;TZID=America/New_York:20241021T121500
DTEND;TZID=America/New_York:20241021T124500
DTSTAMP:20260425T073839
CREATED:20240815T130041Z
LAST-MODIFIED:20240815T130041Z
UID:46226-1729512900-1729514700@tcshighschool.org
SUMMARY:Lunch: Ms. Shakiara (Khori's Mom)
DESCRIPTION:
URL:https://tcshighschool.org/event/lunch-ms-shakiara-khoris-mom-2/
CATEGORIES:Lunch
END:VEVENT
BEGIN:VEVENT
DTSTART;TZID=America/New_York:20241022T121500
DTEND;TZID=America/New_York:20241022T124500
DTSTAMP:20260425T073839
CREATED:20240801T213118Z
LAST-MODIFIED:20240929T174913Z
UID:45958-1729599300-1729601100@tcshighschool.org
SUMMARY:Lunch: Ms. Peg
DESCRIPTION:Chicken bakes + Salad + fruit
URL:https://tcshighschool.org/event/lunch-ms-peg-62-2024-10-22/
CATEGORIES:Lunch
END:VEVENT
BEGIN:VEVENT
DTSTART;TZID=America/New_York:20241023T121500
DTEND;TZID=America/New_York:20241023T124500
DTSTAMP:20260425T073839
CREATED:20240814T172239Z
LAST-MODIFIED:20241018T183108Z
UID:46150-1729685700-1729687500@tcshighschool.org
SUMMARY:Lunch: The Avents (Lyric's Family)
DESCRIPTION:Chicken flavored rice w/ground beef & King Hawaiian rolls
URL:https://tcshighschool.org/event/lunch-the-avents-lyrics-family/
CATEGORIES:Lunch
END:VEVENT
BEGIN:VEVENT
DTSTART;TZID=America/New_York:20241024T121500
DTEND;TZID=America/New_York:20241024T124500
DTSTAMP:20260425T073839
CREATED:20240813T210434Z
LAST-MODIFIED:20240813T210434Z
UID:46063-1729772100-1729773900@tcshighschool.org
SUMMARY:Lunch: Ms. Mary Louise
DESCRIPTION:
URL:https://tcshighschool.org/event/lunch-ms-mary-louise-23/
CATEGORIES:Lunch
END:VEVENT
BEGIN:VEVENT
DTSTART;TZID=America/New_York:20241025T110000
DTEND;TZID=America/New_York:20241025T113000
DTSTAMP:20260425T073839
CREATED:20240815T010735Z
LAST-MODIFIED:20241024T204928Z
UID:46202-1729854000-1729855800@tcshighschool.org
SUMMARY:Lunch: Ms. Rita (Ethan's Mom)
DESCRIPTION:lunch meats\, bread and all condiments
URL:https://tcshighschool.org/event/lunch-ms-rita-ethans-mom-18/
CATEGORIES:Lunch
END:VEVENT
END:VCALENDAR