BEGIN:VCALENDAR
VERSION:2.0
PRODID:-//TCS High School - ECPv6.15.11//NONSGML v1.0//EN
CALSCALE:GREGORIAN
METHOD:PUBLISH
X-ORIGINAL-URL:https://tcshighschool.org
X-WR-CALDESC:Events for TCS High School
REFRESH-INTERVAL;VALUE=DURATION:PT1H
X-Robots-Tag:noindex
X-PUBLISHED-TTL:PT1H
BEGIN:VTIMEZONE
TZID:America/New_York
BEGIN:DAYLIGHT
TZOFFSETFROM:-0500
TZOFFSETTO:-0400
TZNAME:EDT
DTSTART:20230312T070000
END:DAYLIGHT
BEGIN:STANDARD
TZOFFSETFROM:-0400
TZOFFSETTO:-0500
TZNAME:EST
DTSTART:20231105T060000
END:STANDARD
BEGIN:DAYLIGHT
TZOFFSETFROM:-0500
TZOFFSETTO:-0400
TZNAME:EDT
DTSTART:20240310T070000
END:DAYLIGHT
BEGIN:STANDARD
TZOFFSETFROM:-0400
TZOFFSETTO:-0500
TZNAME:EST
DTSTART:20241103T060000
END:STANDARD
BEGIN:DAYLIGHT
TZOFFSETFROM:-0500
TZOFFSETTO:-0400
TZNAME:EDT
DTSTART:20250309T070000
END:DAYLIGHT
BEGIN:STANDARD
TZOFFSETFROM:-0400
TZOFFSETTO:-0500
TZNAME:EST
DTSTART:20251102T060000
END:STANDARD
END:VTIMEZONE
BEGIN:VEVENT
DTSTART;TZID=America/New_York:20241209T121500
DTEND;TZID=America/New_York:20241209T124500
DTSTAMP:20260424T224827
CREATED:20240815T130255Z
LAST-MODIFIED:20241208T210904Z
UID:46230-1733746500-1733748300@tcshighschool.org
SUMMARY:Lunch: Ms. Shakiara (Khori's Mom)
DESCRIPTION:Wings and salad
URL:https://tcshighschool.org/event/lunch-ms-shakiara-khoris-mom-4/
CATEGORIES:Lunch
END:VEVENT
BEGIN:VEVENT
DTSTART;TZID=America/New_York:20241210T121500
DTEND;TZID=America/New_York:20241210T124500
DTSTAMP:20260424T224827
CREATED:20240801T213118Z
LAST-MODIFIED:20241115T190202Z
UID:45965-1733832900-1733834700@tcshighschool.org
SUMMARY:Lunch: Ms. Peg
DESCRIPTION:Hot roast beef sandwiches\, broccoli cheese soup\, dessert
URL:https://tcshighschool.org/event/lunch-ms-peg-62-2024-12-10/
CATEGORIES:Lunch
END:VEVENT
BEGIN:VEVENT
DTSTART;TZID=America/New_York:20241211T121500
DTEND;TZID=America/New_York:20241211T124500
DTSTAMP:20260424T224827
CREATED:20240814T172328Z
LAST-MODIFIED:20241211T194537Z
UID:46152-1733919300-1733921100@tcshighschool.org
SUMMARY:Lunch: The Avents (Lyric's Family)
DESCRIPTION:macaroni casserole and rolls
URL:https://tcshighschool.org/event/lunch-the-avents-lyrics-family-2/
CATEGORIES:Lunch
END:VEVENT
BEGIN:VEVENT
DTSTART;TZID=America/New_York:20241212T121500
DTEND;TZID=America/New_York:20241212T124500
DTSTAMP:20260424T224827
CREATED:20241015T144407Z
LAST-MODIFIED:20241211T194442Z
UID:46789-1734005700-1734007500@tcshighschool.org
SUMMARY:Lunch: The Stahl's (Rhys & Quinn's Sponsors)
DESCRIPTION:tuffed pasta shells or cheese ravioli on spinach\, with green salad\, garlic bread and chocolate chip cookies/clementines
URL:https://tcshighschool.org/event/lunch-the-stahls-rhys-quinns-sponsors-2/
CATEGORIES:Lunch
END:VEVENT
BEGIN:VEVENT
DTSTART;TZID=America/New_York:20241213T110000
DTEND;TZID=America/New_York:20241213T113000
DTSTAMP:20260424T224827
CREATED:20240828T001116Z
LAST-MODIFIED:20240828T001116Z
UID:46331-1734087600-1734089400@tcshighschool.org
SUMMARY:Lunch: Ms. Leslie (Kennedy's Mom)
DESCRIPTION:
URL:https://tcshighschool.org/event/lunch-ms-leslie-kennedys-mom-23/
CATEGORIES:Lunch
END:VEVENT
END:VCALENDAR