BEGIN:VCALENDAR
VERSION:2.0
PRODID:-//TCS High School - ECPv6.15.11//NONSGML v1.0//EN
CALSCALE:GREGORIAN
METHOD:PUBLISH
X-WR-CALNAME:TCS High School
X-ORIGINAL-URL:https://tcshighschool.org
X-WR-CALDESC:Events for TCS High School
REFRESH-INTERVAL;VALUE=DURATION:PT1H
X-Robots-Tag:noindex
X-PUBLISHED-TTL:PT1H
BEGIN:VTIMEZONE
TZID:America/New_York
BEGIN:DAYLIGHT
TZOFFSETFROM:-0500
TZOFFSETTO:-0400
TZNAME:EDT
DTSTART:20240310T070000
END:DAYLIGHT
BEGIN:STANDARD
TZOFFSETFROM:-0400
TZOFFSETTO:-0500
TZNAME:EST
DTSTART:20241103T060000
END:STANDARD
BEGIN:DAYLIGHT
TZOFFSETFROM:-0500
TZOFFSETTO:-0400
TZNAME:EDT
DTSTART:20250309T070000
END:DAYLIGHT
BEGIN:STANDARD
TZOFFSETFROM:-0400
TZOFFSETTO:-0500
TZNAME:EST
DTSTART:20251102T060000
END:STANDARD
BEGIN:DAYLIGHT
TZOFFSETFROM:-0500
TZOFFSETTO:-0400
TZNAME:EDT
DTSTART:20260308T070000
END:DAYLIGHT
BEGIN:STANDARD
TZOFFSETFROM:-0400
TZOFFSETTO:-0500
TZNAME:EST
DTSTART:20261101T060000
END:STANDARD
END:VTIMEZONE
BEGIN:VEVENT
DTSTART;TZID=America/New_York:20250120T121500
DTEND;TZID=America/New_York:20250120T124500
DTSTAMP:20260425T073846
CREATED:20240801T212528Z
LAST-MODIFIED:20250120T005842Z
UID:45937-1737375300-1737377100@tcshighschool.org
SUMMARY:Lunch: Ms. Jenae (Rhys & Quinn's Mom)
DESCRIPTION:tacos with fixins’
URL:https://tcshighschool.org/event/lunch-ms-jenae-rhys-quinns-mom-16/
CATEGORIES:Lunch
END:VEVENT
BEGIN:VEVENT
DTSTART;TZID=America/New_York:20250121T121500
DTEND;TZID=America/New_York:20250121T124500
DTSTAMP:20260425T073846
CREATED:20240801T213118Z
LAST-MODIFIED:20250103T140633Z
UID:45971-1737461700-1737463500@tcshighschool.org
SUMMARY:Lunch: Ms. Peg
DESCRIPTION:chicken pot pie/fruit
URL:https://tcshighschool.org/event/lunch-ms-peg-62-2025-01-21/
CATEGORIES:Lunch
END:VEVENT
BEGIN:VEVENT
DTSTART;TZID=America/New_York:20250122T121500
DTEND;TZID=America/New_York:20250122T124500
DTSTAMP:20260425T073846
CREATED:20240814T175952Z
LAST-MODIFIED:20240814T175952Z
UID:46190-1737548100-1737549900@tcshighschool.org
SUMMARY:Lunch: The Bancrofts
DESCRIPTION:
URL:https://tcshighschool.org/event/lunch-the-bancrofts-3/
CATEGORIES:Lunch
END:VEVENT
BEGIN:VEVENT
DTSTART;TZID=America/New_York:20250123T121500
DTEND;TZID=America/New_York:20250123T124500
DTSTAMP:20260425T073846
CREATED:20250116T122204Z
LAST-MODIFIED:20250121T205847Z
UID:47464-1737634500-1737636300@tcshighschool.org
SUMMARY:Lunch: Ms. Leslie (Kennedy's Mom)
DESCRIPTION:cold cut sandwiches
URL:https://tcshighschool.org/event/lunch-ms-leslie-kennedys-mom-24/
CATEGORIES:Lunch
END:VEVENT
BEGIN:VEVENT
DTSTART;TZID=America/New_York:20250124T110000
DTEND;TZID=America/New_York:20250124T113000
DTSTAMP:20260425T073846
CREATED:20241206T124720Z
LAST-MODIFIED:20250123T165335Z
UID:47196-1737716400-1737718200@tcshighschool.org
SUMMARY:Lunch: Ms. Kyna (Danny's Mom)
DESCRIPTION:Grapes\, cookies\, egusi \, pounded yam and waters
URL:https://tcshighschool.org/event/lunch-ms-kyna-dannys-mom-6/
CATEGORIES:Lunch
END:VEVENT
END:VCALENDAR