BEGIN:VCALENDAR
VERSION:2.0
PRODID:-//TCS High School - ECPv6.15.11//NONSGML v1.0//EN
CALSCALE:GREGORIAN
METHOD:PUBLISH
X-ORIGINAL-URL:https://tcshighschool.org
X-WR-CALDESC:Events for TCS High School
REFRESH-INTERVAL;VALUE=DURATION:PT1H
X-Robots-Tag:noindex
X-PUBLISHED-TTL:PT1H
BEGIN:VTIMEZONE
TZID:America/New_York
BEGIN:DAYLIGHT
TZOFFSETFROM:-0500
TZOFFSETTO:-0400
TZNAME:EDT
DTSTART:20240310T070000
END:DAYLIGHT
BEGIN:STANDARD
TZOFFSETFROM:-0400
TZOFFSETTO:-0500
TZNAME:EST
DTSTART:20241103T060000
END:STANDARD
BEGIN:DAYLIGHT
TZOFFSETFROM:-0500
TZOFFSETTO:-0400
TZNAME:EDT
DTSTART:20250309T070000
END:DAYLIGHT
BEGIN:STANDARD
TZOFFSETFROM:-0400
TZOFFSETTO:-0500
TZNAME:EST
DTSTART:20251102T060000
END:STANDARD
BEGIN:DAYLIGHT
TZOFFSETFROM:-0500
TZOFFSETTO:-0400
TZNAME:EDT
DTSTART:20260308T070000
END:DAYLIGHT
BEGIN:STANDARD
TZOFFSETFROM:-0400
TZOFFSETTO:-0500
TZNAME:EST
DTSTART:20261101T060000
END:STANDARD
END:VTIMEZONE
BEGIN:VEVENT
DTSTART;TZID=America/New_York:20250224T121500
DTEND;TZID=America/New_York:20250224T124500
DTSTAMP:20260424T185715
CREATED:20240822T184021Z
LAST-MODIFIED:20250223T175102Z
UID:46295-1740399300-1740401100@tcshighschool.org
SUMMARY:Lunch: Ms. Jaqueline (Khori's Grandmother)
DESCRIPTION:baked chicken and a Caesar salad
URL:https://tcshighschool.org/event/lunch-ms-jaqueline-khoris-grandmother-5/
CATEGORIES:Lunch
END:VEVENT
BEGIN:VEVENT
DTSTART;TZID=America/New_York:20250225T121500
DTEND;TZID=America/New_York:20250225T124500
DTSTAMP:20260424T185715
CREATED:20240801T213118Z
LAST-MODIFIED:20250103T144115Z
UID:45976-1740485700-1740487500@tcshighschool.org
SUMMARY:Lunch: Ms. Peg
DESCRIPTION:egg & sausage & cheese casserole/tater tots/fruit
URL:https://tcshighschool.org/event/lunch-ms-peg-62-2025-02-25/
CATEGORIES:Lunch
END:VEVENT
BEGIN:VEVENT
DTSTART;TZID=America/New_York:20250226T130000
DTEND;TZID=America/New_York:20250226T133000
DTSTAMP:20260424T185715
CREATED:20250201T163115Z
LAST-MODIFIED:20250201T163350Z
UID:47621-1740574800-1740576600@tcshighschool.org
SUMMARY:Lunch: Ms. Jenae
DESCRIPTION:Meatball subs
URL:https://tcshighschool.org/event/lunch-ms-jenae/
CATEGORIES:Lunch
END:VEVENT
BEGIN:VEVENT
DTSTART;TZID=America/New_York:20250227T120000
DTEND;TZID=America/New_York:20250227T123000
DTSTAMP:20260424T185715
CREATED:20240801T211046Z
LAST-MODIFIED:20250114T195715Z
UID:45923-1740657600-1740659400@tcshighschool.org
SUMMARY:Lunch: The Lyric
DESCRIPTION:
URL:https://tcshighschool.org/event/lunch-the-lyric-6/
CATEGORIES:Lunch
END:VEVENT
BEGIN:VEVENT
DTSTART;TZID=America/New_York:20250228T110000
DTEND;TZID=America/New_York:20250228T113000
DTSTAMP:20260424T185715
CREATED:20240815T011102Z
LAST-MODIFIED:20250227T125504Z
UID:46210-1740740400-1740742200@tcshighschool.org
SUMMARY:Lunch: Ms. Rita (Ethan's Mom)
DESCRIPTION:sandwiches
URL:https://tcshighschool.org/event/lunch-ms-rita-ethans-mom-22/
CATEGORIES:Lunch
END:VEVENT
END:VCALENDAR