BEGIN:VCALENDAR
VERSION:2.0
PRODID:-//TCS High School - ECPv6.15.11//NONSGML v1.0//EN
CALSCALE:GREGORIAN
METHOD:PUBLISH
X-WR-CALNAME:TCS High School
X-ORIGINAL-URL:https://tcshighschool.org
X-WR-CALDESC:Events for TCS High School
REFRESH-INTERVAL;VALUE=DURATION:PT1H
X-Robots-Tag:noindex
X-PUBLISHED-TTL:PT1H
BEGIN:VTIMEZONE
TZID:America/New_York
BEGIN:DAYLIGHT
TZOFFSETFROM:-0500
TZOFFSETTO:-0400
TZNAME:EDT
DTSTART:20240310T070000
END:DAYLIGHT
BEGIN:STANDARD
TZOFFSETFROM:-0400
TZOFFSETTO:-0500
TZNAME:EST
DTSTART:20241103T060000
END:STANDARD
BEGIN:DAYLIGHT
TZOFFSETFROM:-0500
TZOFFSETTO:-0400
TZNAME:EDT
DTSTART:20250309T070000
END:DAYLIGHT
BEGIN:STANDARD
TZOFFSETFROM:-0400
TZOFFSETTO:-0500
TZNAME:EST
DTSTART:20251102T060000
END:STANDARD
BEGIN:DAYLIGHT
TZOFFSETFROM:-0500
TZOFFSETTO:-0400
TZNAME:EDT
DTSTART:20260308T070000
END:DAYLIGHT
BEGIN:STANDARD
TZOFFSETFROM:-0400
TZOFFSETTO:-0500
TZNAME:EST
DTSTART:20261101T060000
END:STANDARD
END:VTIMEZONE
BEGIN:VEVENT
DTSTART;TZID=America/New_York:20250310T121500
DTEND;TZID=America/New_York:20250310T124500
DTSTAMP:20260424T224732
CREATED:20241206T125516Z
LAST-MODIFIED:20241206T125516Z
UID:47207-1741608900-1741610700@tcshighschool.org
SUMMARY:Ms. Kyna (Danny's Mom)
DESCRIPTION:
URL:https://tcshighschool.org/event/ms-kyna-dannys-mom/
CATEGORIES:Lunch
END:VEVENT
BEGIN:VEVENT
DTSTART;TZID=America/New_York:20250311T121500
DTEND;TZID=America/New_York:20250311T124500
DTSTAMP:20260424T224732
CREATED:20240801T213118Z
LAST-MODIFIED:20250103T144417Z
UID:45978-1741695300-1741697100@tcshighschool.org
SUMMARY:Lunch: Ms. Peg
DESCRIPTION:pasta and shrimp and broccoli/salad/fruit
URL:https://tcshighschool.org/event/lunch-ms-peg-62-2025-03-11/
CATEGORIES:Lunch
END:VEVENT
BEGIN:VEVENT
DTSTART;TZID=America/New_York:20250312T121500
DTEND;TZID=America/New_York:20250312T124500
DTSTAMP:20260424T224732
CREATED:20240813T210923Z
LAST-MODIFIED:20240813T210923Z
UID:46073-1741781700-1741783500@tcshighschool.org
SUMMARY:Lunch: Ms. Mary Louise
DESCRIPTION:
URL:https://tcshighschool.org/event/lunch-ms-mary-louise-28/
CATEGORIES:Lunch
END:VEVENT
BEGIN:VEVENT
DTSTART;TZID=America/New_York:20250313T121500
DTEND;TZID=America/New_York:20250313T124500
DTSTAMP:20260424T224732
CREATED:20240814T180141Z
LAST-MODIFIED:20250310T005753Z
UID:46194-1741868100-1741869900@tcshighschool.org
SUMMARY:Lunch: The Bancrofts
DESCRIPTION:
URL:https://tcshighschool.org/event/lunch-the-bancrofts-5/
CATEGORIES:Lunch
END:VEVENT
BEGIN:VEVENT
DTSTART;TZID=America/New_York:20250314T110000
DTEND;TZID=America/New_York:20250314T113000
DTSTAMP:20260424T224732
CREATED:20241206T125215Z
LAST-MODIFIED:20250312T204817Z
UID:47203-1741950000-1741951800@tcshighschool.org
SUMMARY:Lunch: Ms. Leslie (Kennedy's Mom)
DESCRIPTION:tacos
URL:https://tcshighschool.org/event/lunch-ms-leslie-kennedys-mom-28/
CATEGORIES:Lunch
END:VEVENT
END:VCALENDAR