BEGIN:VCALENDAR
VERSION:2.0
PRODID:-//TCS High School - ECPv6.15.11//NONSGML v1.0//EN
CALSCALE:GREGORIAN
METHOD:PUBLISH
X-WR-CALNAME:TCS High School
X-ORIGINAL-URL:https://tcshighschool.org
X-WR-CALDESC:Events for TCS High School
REFRESH-INTERVAL;VALUE=DURATION:PT1H
X-Robots-Tag:noindex
X-PUBLISHED-TTL:PT1H
BEGIN:VTIMEZONE
TZID:America/New_York
BEGIN:DAYLIGHT
TZOFFSETFROM:-0500
TZOFFSETTO:-0400
TZNAME:EDT
DTSTART:20240310T070000
END:DAYLIGHT
BEGIN:STANDARD
TZOFFSETFROM:-0400
TZOFFSETTO:-0500
TZNAME:EST
DTSTART:20241103T060000
END:STANDARD
BEGIN:DAYLIGHT
TZOFFSETFROM:-0500
TZOFFSETTO:-0400
TZNAME:EDT
DTSTART:20250309T070000
END:DAYLIGHT
BEGIN:STANDARD
TZOFFSETFROM:-0400
TZOFFSETTO:-0500
TZNAME:EST
DTSTART:20251102T060000
END:STANDARD
BEGIN:DAYLIGHT
TZOFFSETFROM:-0500
TZOFFSETTO:-0400
TZNAME:EDT
DTSTART:20260308T070000
END:DAYLIGHT
BEGIN:STANDARD
TZOFFSETFROM:-0400
TZOFFSETTO:-0500
TZNAME:EST
DTSTART:20261101T060000
END:STANDARD
END:VTIMEZONE
BEGIN:VEVENT
DTSTART;TZID=America/New_York:20251103T121500
DTEND;TZID=America/New_York:20251103T124500
DTSTAMP:20260423T205505
CREATED:20250908T134434Z
LAST-MODIFIED:20251103T214404Z
UID:49335-1762172100-1762173900@tcshighschool.org
SUMMARY:Lunch: Ms. Lisa (Jason's Mom)
DESCRIPTION:beef stew and bread
URL:https://tcshighschool.org/event/lunch-ms-lisa-jasons-mom-4/
CATEGORIES:Lunch
END:VEVENT
BEGIN:VEVENT
DTSTART;TZID=America/New_York:20251104T121500
DTEND;TZID=America/New_York:20251104T124500
DTSTAMP:20260423T205505
CREATED:20250831T000542Z
LAST-MODIFIED:20251103T214441Z
UID:49261-1762258500-1762260300@tcshighschool.org
SUMMARY:Lunch: Ms. Carla (Ruth & Karla's Mom)
DESCRIPTION:pasta
URL:https://tcshighschool.org/event/lunch-ms-carla-ruth-karlas-mom-3/
CATEGORIES:Lunch
END:VEVENT
BEGIN:VEVENT
DTSTART;TZID=America/New_York:20251105T121500
DTEND;TZID=America/New_York:20251105T124500
DTSTAMP:20260423T205505
CREATED:20250830T120831Z
LAST-MODIFIED:20251103T214605Z
UID:49242-1762344900-1762346700@tcshighschool.org
SUMMARY:Lunch: Ms. Rita (Ethan's Mom)
DESCRIPTION:lunch meat(ham\, turkey\, and salami) lettuce\, onion\, tomatoes\, and cucumber\, with bread
URL:https://tcshighschool.org/event/lunch-ms-rita-ethans-mom-29/
CATEGORIES:Lunch
END:VEVENT
BEGIN:VEVENT
DTSTART;TZID=America/New_York:20251106T121500
DTEND;TZID=America/New_York:20251106T124500
DTSTAMP:20260423T205505
CREATED:20250826T171106Z
LAST-MODIFIED:20251105T191140Z
UID:49155-1762431300-1762433100@tcshighschool.org
SUMMARY:Lunch: Ms. Leslie (Jordan's Mom)
DESCRIPTION:lasagna
URL:https://tcshighschool.org/event/lunch-ms-leslie-jordans-mom/
CATEGORIES:Lunch
END:VEVENT
BEGIN:VEVENT
DTSTART;TZID=America/New_York:20251107T110000
DTEND;TZID=America/New_York:20251107T113000
DTSTAMP:20260423T205505
CREATED:20250821T190056Z
LAST-MODIFIED:20251104T133544Z
UID:49014-1762513200-1762515000@tcshighschool.org
SUMMARY:Lunch: Ms. Leslie (Kennedy's Mom)
DESCRIPTION:Pasta noodles w garlic bread
URL:https://tcshighschool.org/event/lunch-ms-leslie-kennedys-mom-33/
CATEGORIES:Lunch
END:VEVENT
END:VCALENDAR