BEGIN:VCALENDAR
VERSION:2.0
PRODID:-//TCS High School - ECPv6.15.11//NONSGML v1.0//EN
CALSCALE:GREGORIAN
METHOD:PUBLISH
X-WR-CALNAME:TCS High School
X-ORIGINAL-URL:https://tcshighschool.org
X-WR-CALDESC:Events for TCS High School
REFRESH-INTERVAL;VALUE=DURATION:PT1H
X-Robots-Tag:noindex
X-PUBLISHED-TTL:PT1H
BEGIN:VTIMEZONE
TZID:America/New_York
BEGIN:DAYLIGHT
TZOFFSETFROM:-0500
TZOFFSETTO:-0400
TZNAME:EDT
DTSTART:20250309T070000
END:DAYLIGHT
BEGIN:STANDARD
TZOFFSETFROM:-0400
TZOFFSETTO:-0500
TZNAME:EST
DTSTART:20251102T060000
END:STANDARD
BEGIN:DAYLIGHT
TZOFFSETFROM:-0500
TZOFFSETTO:-0400
TZNAME:EDT
DTSTART:20260308T070000
END:DAYLIGHT
BEGIN:STANDARD
TZOFFSETFROM:-0400
TZOFFSETTO:-0500
TZNAME:EST
DTSTART:20261101T060000
END:STANDARD
BEGIN:DAYLIGHT
TZOFFSETFROM:-0500
TZOFFSETTO:-0400
TZNAME:EDT
DTSTART:20270314T070000
END:DAYLIGHT
BEGIN:STANDARD
TZOFFSETFROM:-0400
TZOFFSETTO:-0500
TZNAME:EST
DTSTART:20271107T060000
END:STANDARD
END:VTIMEZONE
BEGIN:VEVENT
DTSTART;TZID=America/New_York:20260216T121500
DTEND;TZID=America/New_York:20260216T124500
DTSTAMP:20260423T160059
CREATED:20251020T114618Z
LAST-MODIFIED:20260216T011559Z
UID:49710-1771244100-1771245900@tcshighschool.org
SUMMARY:Lunch: Ms. Shereia (Madisyn's Mom)
DESCRIPTION:turkey sandwiches fruit apple bananas and salad
URL:https://tcshighschool.org/event/lunch-ms-shereia-madisyns-mom-6/
CATEGORIES:Lunch
END:VEVENT
BEGIN:VEVENT
DTSTART;TZID=America/New_York:20260217T121500
DTEND;TZID=America/New_York:20260217T124500
DTSTAMP:20260423T160059
CREATED:20260102T175744Z
LAST-MODIFIED:20260216T133521Z
UID:50082-1771330500-1771332300@tcshighschool.org
SUMMARY:Lunch: Ms. Ruth (Jordan's Sponsor)
DESCRIPTION:heesy beef pockets\, fresh fruit and valentines sweets \n 
URL:https://tcshighschool.org/event/lunch-ms-ruth-jordans-sponsor-5/
CATEGORIES:Lunch
END:VEVENT
BEGIN:VEVENT
DTSTART;TZID=America/New_York:20260218T121500
DTEND;TZID=America/New_York:20260218T124500
DTSTAMP:20260423T160059
CREATED:20260116T114334Z
LAST-MODIFIED:20260216T011514Z
UID:50202-1771416900-1771418700@tcshighschool.org
SUMMARY:Lunch: Ms. Charlotte (Rylee's Mom)
DESCRIPTION:cheese steak sliders
URL:https://tcshighschool.org/event/lunch-ms-charlotte-rylees-mom-6/
CATEGORIES:Lunch
END:VEVENT
BEGIN:VEVENT
DTSTART;TZID=America/New_York:20260219T123000
DTEND;TZID=America/New_York:20260219T130000
DTSTAMP:20260423T160059
CREATED:20250813T140135Z
LAST-MODIFIED:20250813T140135Z
UID:48893-1771504200-1771506000@tcshighschool.org
SUMMARY:Lunch: The Lyric
DESCRIPTION:
URL:https://tcshighschool.org/event/lunch-the-lyric-14/
CATEGORIES:Lunch
END:VEVENT
BEGIN:VEVENT
DTSTART;TZID=America/New_York:20260220T110000
DTEND;TZID=America/New_York:20260220T113000
DTSTAMP:20260423T160059
CREATED:20250822T130205Z
LAST-MODIFIED:20260216T133224Z
UID:49054-1771585200-1771587000@tcshighschool.org
SUMMARY:Lunch: Mr. John (Mingo's Dad)
DESCRIPTION:Baked Ziti\nSalad\nBaguette\nChocolate chip cookies
URL:https://tcshighschool.org/event/lunch-john-kelly-cord-mingos-parents-6/
CATEGORIES:Lunch
END:VEVENT
END:VCALENDAR