BEGIN:VCALENDAR
VERSION:2.0
PRODID:-//TCS High School - ECPv6.15.11//NONSGML v1.0//EN
CALSCALE:GREGORIAN
METHOD:PUBLISH
X-WR-CALNAME:TCS High School
X-ORIGINAL-URL:https://tcshighschool.org
X-WR-CALDESC:Events for TCS High School
REFRESH-INTERVAL;VALUE=DURATION:PT1H
X-Robots-Tag:noindex
X-PUBLISHED-TTL:PT1H
BEGIN:VTIMEZONE
TZID:America/New_York
BEGIN:DAYLIGHT
TZOFFSETFROM:-0500
TZOFFSETTO:-0400
TZNAME:EDT
DTSTART:20250309T070000
END:DAYLIGHT
BEGIN:STANDARD
TZOFFSETFROM:-0400
TZOFFSETTO:-0500
TZNAME:EST
DTSTART:20251102T060000
END:STANDARD
BEGIN:DAYLIGHT
TZOFFSETFROM:-0500
TZOFFSETTO:-0400
TZNAME:EDT
DTSTART:20260308T070000
END:DAYLIGHT
BEGIN:STANDARD
TZOFFSETFROM:-0400
TZOFFSETTO:-0500
TZNAME:EST
DTSTART:20261101T060000
END:STANDARD
BEGIN:DAYLIGHT
TZOFFSETFROM:-0500
TZOFFSETTO:-0400
TZNAME:EDT
DTSTART:20270314T070000
END:DAYLIGHT
BEGIN:STANDARD
TZOFFSETFROM:-0400
TZOFFSETTO:-0500
TZNAME:EST
DTSTART:20271107T060000
END:STANDARD
END:VTIMEZONE
BEGIN:VEVENT
DTSTART;TZID=America/New_York:20260413T114500
DTEND;TZID=America/New_York:20260413T121500
DTSTAMP:20260423T131240
CREATED:20250814T175615Z
LAST-MODIFIED:20260414T152854Z
UID:48913-1776080700-1776082500@tcshighschool.org
SUMMARY:Lunch: Ms. Miriam (Mohamed's Mom)
DESCRIPTION:rice\, chicken & desert
URL:https://tcshighschool.org/event/lunch-ms-miriam-mohameds-mom-15/
CATEGORIES:Lunch
END:VEVENT
BEGIN:VEVENT
DTSTART;TZID=America/New_York:20260414T121500
DTEND;TZID=America/New_York:20260414T124500
DTSTAMP:20260423T131240
CREATED:20250824T145850Z
LAST-MODIFIED:20260413T115711Z
UID:49110-1776168900-1776170700@tcshighschool.org
SUMMARY:Lunch: Ms. Peg
DESCRIPTION:Egg/Cheese & Sausage Casserole\, Salad\, fruit & desert
URL:https://tcshighschool.org/event/lunch-ms-peg-76/
CATEGORIES:Lunch
END:VEVENT
BEGIN:VEVENT
DTSTART;TZID=America/New_York:20260415T121500
DTEND;TZID=America/New_York:20260415T124500
DTSTAMP:20260423T131240
CREATED:20250824T145944Z
LAST-MODIFIED:20260414T152117Z
UID:49112-1776255300-1776257100@tcshighschool.org
SUMMARY:Lunch: Ms. Shereia  (Madisyn's Mom)
DESCRIPTION:turkey sandiwches & fruit
URL:https://tcshighschool.org/event/lunch-ms-peg-77/
CATEGORIES:Lunch
END:VEVENT
BEGIN:VEVENT
DTSTART;TZID=America/New_York:20260416T121500
DTEND;TZID=America/New_York:20260416T124500
DTSTAMP:20260423T131240
CREATED:20250830T012221Z
LAST-MODIFIED:20260415T163150Z
UID:49234-1776341700-1776343500@tcshighschool.org
SUMMARY:Lunch: Ms. Jacqueline (Khori's Grandmother)
DESCRIPTION:pizza
URL:https://tcshighschool.org/event/lunch-ms-jacqueline-khoris-grandmother-7/
CATEGORIES:Lunch
END:VEVENT
BEGIN:VEVENT
DTSTART;TZID=America/New_York:20260417T110000
DTEND;TZID=America/New_York:20260417T113000
DTSTAMP:20260423T131240
CREATED:20251229T205430Z
LAST-MODIFIED:20260415T163116Z
UID:50038-1776423600-1776425400@tcshighschool.org
SUMMARY:Lunch: Ms. Lisa B (Jason's Mom)
DESCRIPTION:Chicken salad sliders\, salami and cheese sliders\, pasta salad\, grapes
URL:https://tcshighschool.org/event/lunch-ms-lisa-b-jasons-mom-4/
CATEGORIES:Lunch
END:VEVENT
END:VCALENDAR