BEGIN:VCALENDAR
VERSION:2.0
PRODID:-//TCS High School - ECPv6.15.11//NONSGML v1.0//EN
CALSCALE:GREGORIAN
METHOD:PUBLISH
X-ORIGINAL-URL:https://tcshighschool.org
X-WR-CALDESC:Events for TCS High School
REFRESH-INTERVAL;VALUE=DURATION:PT1H
X-Robots-Tag:noindex
X-PUBLISHED-TTL:PT1H
BEGIN:VTIMEZONE
TZID:America/New_York
BEGIN:DAYLIGHT
TZOFFSETFROM:-0500
TZOFFSETTO:-0400
TZNAME:EDT
DTSTART:20240310T070000
END:DAYLIGHT
BEGIN:STANDARD
TZOFFSETFROM:-0400
TZOFFSETTO:-0500
TZNAME:EST
DTSTART:20241103T060000
END:STANDARD
BEGIN:DAYLIGHT
TZOFFSETFROM:-0500
TZOFFSETTO:-0400
TZNAME:EDT
DTSTART:20250309T070000
END:DAYLIGHT
BEGIN:STANDARD
TZOFFSETFROM:-0400
TZOFFSETTO:-0500
TZNAME:EST
DTSTART:20251102T060000
END:STANDARD
BEGIN:DAYLIGHT
TZOFFSETFROM:-0500
TZOFFSETTO:-0400
TZNAME:EDT
DTSTART:20260308T070000
END:DAYLIGHT
BEGIN:STANDARD
TZOFFSETFROM:-0400
TZOFFSETTO:-0500
TZNAME:EST
DTSTART:20261101T060000
END:STANDARD
BEGIN:DAYLIGHT
TZOFFSETFROM:-0500
TZOFFSETTO:-0400
TZNAME:EDT
DTSTART:20270314T070000
END:DAYLIGHT
BEGIN:STANDARD
TZOFFSETFROM:-0400
TZOFFSETTO:-0500
TZNAME:EST
DTSTART:20271107T060000
END:STANDARD
END:VTIMEZONE
BEGIN:VEVENT
DTSTART;TZID=America/New_York:20250814T180000
DTEND;TZID=America/New_York:20250814T193000
DTSTAMP:20260425T075638
CREATED:20250418T125125Z
LAST-MODIFIED:20250709T124806Z
UID:48381-1755194400-1755199800@tcshighschool.org
SUMMARY:Board of Trustees Meeting
DESCRIPTION:
URL:https://tcshighschool.org/event/board-of-trustees-meeting-15/
CATEGORIES:Meetings
END:VEVENT
BEGIN:VEVENT
DTSTART;TZID=America/New_York:20250827T183000
DTEND;TZID=America/New_York:20250827T193000
DTSTAMP:20260425T075638
CREATED:20250813T134929Z
LAST-MODIFIED:20250813T134929Z
UID:48876-1756319400-1756323000@tcshighschool.org
SUMMARY:Student/Family/Sponsor ZOOM Orientation
DESCRIPTION:
URL:https://tcshighschool.org/event/student-family-sponsor-zoom-orientation/
CATEGORIES:Meetings
END:VEVENT
BEGIN:VEVENT
DTSTART;TZID=America/New_York:20250828T150000
DTEND;TZID=America/New_York:20250828T160000
DTSTAMP:20260425T075638
CREATED:20250813T135401Z
LAST-MODIFIED:20250813T135401Z
UID:48881-1756393200-1756396800@tcshighschool.org
SUMMARY:Orientation for Continuing Students - In Person
DESCRIPTION:
URL:https://tcshighschool.org/event/orientation-for-continuing-students-in-person/
CATEGORIES:Meetings
END:VEVENT
BEGIN:VEVENT
DTSTART;TZID=America/New_York:20250911T183000
DTEND;TZID=America/New_York:20250911T194500
DTSTAMP:20260425T075638
CREATED:20250327T113317Z
LAST-MODIFIED:20250813T135050Z
UID:48149-1757615400-1757619900@tcshighschool.org
SUMMARY:Sponsor Meeting In Person
DESCRIPTION:
URL:https://tcshighschool.org/event/sponsor-meeting-47/
CATEGORIES:Meetings
END:VEVENT
BEGIN:VEVENT
DTSTART;TZID=America/New_York:20251204T183000
DTEND;TZID=America/New_York:20251204T194500
DTSTAMP:20260425T075638
CREATED:20250327T113412Z
LAST-MODIFIED:20250327T113441Z
UID:48151-1764873000-1764877500@tcshighschool.org
SUMMARY:Sponsor Meeting
DESCRIPTION:
URL:https://tcshighschool.org/event/sponsor-meeting-48/
CATEGORIES:Meetings
END:VEVENT
BEGIN:VEVENT
DTSTART;TZID=America/New_York:20260115T180000
DTEND;TZID=America/New_York:20260115T190000
DTSTAMP:20260425T075638
CREATED:20250813T134755Z
LAST-MODIFIED:20250813T134755Z
UID:48874-1768500000-1768503600@tcshighschool.org
SUMMARY:Board of Trustees Meeting
DESCRIPTION:
URL:https://tcshighschool.org/event/board-of-trustees-meeting-18/
CATEGORIES:Meetings
END:VEVENT
BEGIN:VEVENT
DTSTART;TZID=America/New_York:20260305T183000
DTEND;TZID=America/New_York:20260305T194500
DTSTAMP:20260425T075638
CREATED:20250327T113537Z
LAST-MODIFIED:20250327T113537Z
UID:48153-1772735400-1772739900@tcshighschool.org
SUMMARY:Sponsor Meeting
DESCRIPTION:
URL:https://tcshighschool.org/event/sponsor-meeting-49/
CATEGORIES:Meetings
END:VEVENT
BEGIN:VEVENT
DTSTART;TZID=America/New_York:20260416T180000
DTEND;TZID=America/New_York:20260416T190000
DTSTAMP:20260425T075638
CREATED:20260116T004136Z
LAST-MODIFIED:20260116T004136Z
UID:50198-1776362400-1776366000@tcshighschool.org
SUMMARY:Board of Trustee Meeting
DESCRIPTION:
URL:https://tcshighschool.org/event/board-of-trustee-meeting/
CATEGORIES:Meetings
END:VEVENT
BEGIN:VEVENT
DTSTART;TZID=America/New_York:20260528T183000
DTEND;TZID=America/New_York:20260528T194500
DTSTAMP:20260425T075638
CREATED:20250327T113811Z
LAST-MODIFIED:20250327T113811Z
UID:48155-1779993000-1779997500@tcshighschool.org
SUMMARY:Sponsor Meeting
DESCRIPTION:
URL:https://tcshighschool.org/event/sponsor-meeting-50/
CATEGORIES:Meetings
END:VEVENT
BEGIN:VEVENT
DTSTART;TZID=America/New_York:20260709T180000
DTEND;TZID=America/New_York:20260709T193000
DTSTAMP:20260425T075638
CREATED:20260417T115024Z
LAST-MODIFIED:20260417T115024Z
UID:50739-1783620000-1783625400@tcshighschool.org
SUMMARY:Board of Trustees Meeeting
DESCRIPTION:
URL:https://tcshighschool.org/event/board-of-trustees-meeeting/
CATEGORIES:Meetings
END:VEVENT
END:VCALENDAR