BEGIN:VCALENDAR
VERSION:2.0
PRODID:-//TCS High School - ECPv6.15.11//NONSGML v1.0//EN
CALSCALE:GREGORIAN
METHOD:PUBLISH
X-ORIGINAL-URL:https://tcshighschool.org
X-WR-CALDESC:Events for TCS High School
REFRESH-INTERVAL;VALUE=DURATION:PT1H
X-Robots-Tag:noindex
X-PUBLISHED-TTL:PT1H
BEGIN:VTIMEZONE
TZID:America/New_York
BEGIN:DAYLIGHT
TZOFFSETFROM:-0500
TZOFFSETTO:-0400
TZNAME:EDT
DTSTART:20230312T070000
END:DAYLIGHT
BEGIN:STANDARD
TZOFFSETFROM:-0400
TZOFFSETTO:-0500
TZNAME:EST
DTSTART:20231105T060000
END:STANDARD
BEGIN:DAYLIGHT
TZOFFSETFROM:-0500
TZOFFSETTO:-0400
TZNAME:EDT
DTSTART:20240310T070000
END:DAYLIGHT
BEGIN:STANDARD
TZOFFSETFROM:-0400
TZOFFSETTO:-0500
TZNAME:EST
DTSTART:20241103T060000
END:STANDARD
BEGIN:DAYLIGHT
TZOFFSETFROM:-0500
TZOFFSETTO:-0400
TZNAME:EDT
DTSTART:20250309T070000
END:DAYLIGHT
BEGIN:STANDARD
TZOFFSETFROM:-0400
TZOFFSETTO:-0500
TZNAME:EST
DTSTART:20251102T060000
END:STANDARD
END:VTIMEZONE
BEGIN:VEVENT
DTSTART;TZID=America/New_York:20240502T010000
DTEND;TZID=America/New_York:20240502T143000
DTSTAMP:20260424T191221
CREATED:20240502T181029Z
LAST-MODIFIED:20240502T181048Z
UID:45571-1714611600-1714660200@tcshighschool.org
SUMMARY:Movie: Roadmap to Apartheid
DESCRIPTION:
URL:https://tcshighschool.org/event/movie-roadmap-to-apartheid/
CATEGORIES:Movies
END:VEVENT
BEGIN:VEVENT
DTSTART;TZID=America/New_York:20240517T113000
DTEND;TZID=America/New_York:20240517T133000
DTSTAMP:20260424T191221
CREATED:20240309T221759Z
LAST-MODIFIED:20240515T105023Z
UID:45311-1715945400-1715952600@tcshighschool.org
SUMMARY:Movie: Can You See Us
DESCRIPTION:
URL:https://tcshighschool.org/event/conversation-with-center-stage-tentative-2/
CATEGORIES:Movies
END:VEVENT
BEGIN:VEVENT
DTSTART;TZID=America/New_York:20240520T143000
DTEND;TZID=America/New_York:20240520T153000
DTSTAMP:20260424T191221
CREATED:20250416T190147Z
LAST-MODIFIED:20250416T190147Z
UID:48350-1716215400-1716219000@tcshighschool.org
SUMMARY:An Inconvenient Truth: Truth to Power
DESCRIPTION:
URL:https://tcshighschool.org/event/an-inconvenient-truth-truth-to-power/
CATEGORIES:Movies
END:VEVENT
BEGIN:VEVENT
DTSTART;TZID=America/New_York:20240521T134500
DTEND;TZID=America/New_York:20240521T153000
DTSTAMP:20260424T191221
CREATED:20240516T125240Z
LAST-MODIFIED:20240516T125240Z
UID:45640-1716299100-1716305400@tcshighschool.org
SUMMARY:Movie: An Inconvenient Truth
DESCRIPTION:
URL:https://tcshighschool.org/event/movie-an-inconvenient-truth-2/
CATEGORIES:Movies
END:VEVENT
BEGIN:VEVENT
DTSTART;TZID=America/New_York:20240524T090000
DTEND;TZID=America/New_York:20240524T110000
DTSTAMP:20260424T191221
CREATED:20240515T143254Z
LAST-MODIFIED:20240515T143254Z
UID:45620-1716541200-1716548400@tcshighschool.org
SUMMARY:Movie: Social Dilemma
DESCRIPTION:z
URL:https://tcshighschool.org/event/movie-social-dilemma/
CATEGORIES:Movies
END:VEVENT
BEGIN:VEVENT
DTSTART;TZID=America/New_York:20240528T100000
DTEND;TZID=America/New_York:20240528T104500
DTSTAMP:20260424T191221
CREATED:20240528T233107Z
LAST-MODIFIED:20240529T104739Z
UID:45696-1716890400-1716893100@tcshighschool.org
SUMMARY:Movie: "What Is War to a Grieving Child?"
DESCRIPTION:
URL:https://tcshighschool.org/event/movie-the-abcs-of-book-banning/
CATEGORIES:Movies
END:VEVENT
BEGIN:VEVENT
DTSTART;TZID=America/New_York:20240528T134500
DTEND;TZID=America/New_York:20240528T153000
DTSTAMP:20260424T191221
CREATED:20240516T125847Z
LAST-MODIFIED:20240516T125847Z
UID:45642-1716903900-1716910200@tcshighschool.org
SUMMARY:Movie: An Inconvenient Sequel: Truth In Power
DESCRIPTION:
URL:https://tcshighschool.org/event/movie-an-inconvenient-sequel-truth-in-power/
CATEGORIES:Movies
END:VEVENT
END:VCALENDAR