BEGIN:VCALENDAR
VERSION:2.0
PRODID:-//TCS High School - ECPv6.15.11//NONSGML v1.0//EN
CALSCALE:GREGORIAN
METHOD:PUBLISH
X-ORIGINAL-URL:https://tcshighschool.org
X-WR-CALDESC:Events for TCS High School
REFRESH-INTERVAL;VALUE=DURATION:PT1H
X-Robots-Tag:noindex
X-PUBLISHED-TTL:PT1H
BEGIN:VTIMEZONE
TZID:America/New_York
BEGIN:DAYLIGHT
TZOFFSETFROM:-0500
TZOFFSETTO:-0400
TZNAME:EDT
DTSTART:20250309T070000
END:DAYLIGHT
BEGIN:STANDARD
TZOFFSETFROM:-0400
TZOFFSETTO:-0500
TZNAME:EST
DTSTART:20251102T060000
END:STANDARD
BEGIN:DAYLIGHT
TZOFFSETFROM:-0500
TZOFFSETTO:-0400
TZNAME:EDT
DTSTART:20260308T070000
END:DAYLIGHT
BEGIN:STANDARD
TZOFFSETFROM:-0400
TZOFFSETTO:-0500
TZNAME:EST
DTSTART:20261101T060000
END:STANDARD
BEGIN:DAYLIGHT
TZOFFSETFROM:-0500
TZOFFSETTO:-0400
TZNAME:EDT
DTSTART:20270314T070000
END:DAYLIGHT
BEGIN:STANDARD
TZOFFSETFROM:-0400
TZOFFSETTO:-0500
TZNAME:EST
DTSTART:20271107T060000
END:STANDARD
END:VTIMEZONE
BEGIN:VEVENT
DTSTART;TZID=America/New_York:20260112T100000
DTEND;TZID=America/New_York:20260112T113000
DTSTAMP:20260423T191138
CREATED:20260103T132810Z
LAST-MODIFIED:20260104T180413Z
UID:50092-1768212000-1768217400@tcshighschool.org
SUMMARY:Eyes on the Prize: Ain't Scared of Your Jails
DESCRIPTION:
URL:https://tcshighschool.org/event/eyes-on-the-prize-aintscared-of-your-jails/
CATEGORIES:Movies
END:VEVENT
BEGIN:VEVENT
DTSTART;TZID=America/New_York:20260114T100000
DTEND;TZID=America/New_York:20260114T113000
DTSTAMP:20260423T191138
CREATED:20260103T132902Z
LAST-MODIFIED:20260104T180504Z
UID:50095-1768384800-1768390200@tcshighschool.org
SUMMARY:Eyes on the Prize: No Easy Walk
DESCRIPTION:
URL:https://tcshighschool.org/event/eyes-on-the-prize-no-easy-walk/
CATEGORIES:Movies
END:VEVENT
BEGIN:VEVENT
DTSTART;TZID=America/New_York:20260115T100000
DTEND;TZID=America/New_York:20260115T113000
DTSTAMP:20260423T191138
CREATED:20260103T132953Z
LAST-MODIFIED:20260104T180553Z
UID:50097-1768471200-1768476600@tcshighschool.org
SUMMARY:Eyes on the Prize: Mississippi: Is This America?
DESCRIPTION:
URL:https://tcshighschool.org/event/eyes-on-the-prize-mississippi-is-this-america/
CATEGORIES:Movies
END:VEVENT
END:VCALENDAR