BEGIN:VCALENDAR
VERSION:2.0
PRODID:-//TCS High School - ECPv6.15.11//NONSGML v1.0//EN
CALSCALE:GREGORIAN
METHOD:PUBLISH
X-ORIGINAL-URL:https://tcshighschool.org
X-WR-CALDESC:Events for TCS High School
REFRESH-INTERVAL;VALUE=DURATION:PT1H
X-Robots-Tag:noindex
X-PUBLISHED-TTL:PT1H
BEGIN:VTIMEZONE
TZID:America/New_York
BEGIN:DAYLIGHT
TZOFFSETFROM:-0500
TZOFFSETTO:-0400
TZNAME:EDT
DTSTART:20220313T070000
END:DAYLIGHT
BEGIN:STANDARD
TZOFFSETFROM:-0400
TZOFFSETTO:-0500
TZNAME:EST
DTSTART:20221106T060000
END:STANDARD
BEGIN:DAYLIGHT
TZOFFSETFROM:-0500
TZOFFSETTO:-0400
TZNAME:EDT
DTSTART:20230312T070000
END:DAYLIGHT
BEGIN:STANDARD
TZOFFSETFROM:-0400
TZOFFSETTO:-0500
TZNAME:EST
DTSTART:20231105T060000
END:STANDARD
BEGIN:DAYLIGHT
TZOFFSETFROM:-0500
TZOFFSETTO:-0400
TZNAME:EDT
DTSTART:20240310T070000
END:DAYLIGHT
BEGIN:STANDARD
TZOFFSETFROM:-0400
TZOFFSETTO:-0500
TZNAME:EST
DTSTART:20241103T060000
END:STANDARD
END:VTIMEZONE
BEGIN:VEVENT
DTSTART;TZID=America/New_York:20231107T090000
DTEND;TZID=America/New_York:20231107T100000
DTSTAMP:20260425T114543
CREATED:20231024T170115Z
LAST-MODIFIED:20231024T170115Z
UID:44362-1699347600-1699351200@tcshighschool.org
SUMMARY:Young Playwrights Seminar
DESCRIPTION:
URL:https://tcshighschool.org/event/young-playwrights-seminar-8/2023-11-07/
CATEGORIES:Seminars - Special
END:VEVENT
BEGIN:VEVENT
DTSTART;TZID=America/New_York:20231114T090000
DTEND;TZID=America/New_York:20231114T100000
DTSTAMP:20260425T114543
CREATED:20231024T170115Z
LAST-MODIFIED:20231024T170115Z
UID:44364-1699952400-1699956000@tcshighschool.org
SUMMARY:Young Playwrights Seminar
DESCRIPTION:
URL:https://tcshighschool.org/event/young-playwrights-seminar-8/2023-11-14/
CATEGORIES:Seminars - Special
END:VEVENT
BEGIN:VEVENT
DTSTART;TZID=America/New_York:20231121T090000
DTEND;TZID=America/New_York:20231121T100000
DTSTAMP:20260425T114543
CREATED:20231024T170115Z
LAST-MODIFIED:20231024T170115Z
UID:44365-1700557200-1700560800@tcshighschool.org
SUMMARY:Young Playwrights Seminar
DESCRIPTION:
URL:https://tcshighschool.org/event/young-playwrights-seminar-8/2023-11-21/
CATEGORIES:Seminars - Special
END:VEVENT
BEGIN:VEVENT
DTSTART;TZID=America/New_York:20231128T090000
DTEND;TZID=America/New_York:20231128T100000
DTSTAMP:20260425T114543
CREATED:20231024T170115Z
LAST-MODIFIED:20231024T170115Z
UID:44366-1701162000-1701165600@tcshighschool.org
SUMMARY:Young Playwrights Seminar
DESCRIPTION:
URL:https://tcshighschool.org/event/young-playwrights-seminar-8/2023-11-28/
CATEGORIES:Seminars - Special
END:VEVENT
BEGIN:VEVENT
DTSTART;TZID=America/New_York:20231130T090000
DTEND;TZID=America/New_York:20231130T100000
DTSTAMP:20260425T114543
CREATED:20231031T105104Z
LAST-MODIFIED:20231123T155245Z
UID:44398-1701334800-1701338400@tcshighschool.org
SUMMARY:B4YT Liberia/TCS Baltimore Student Exchange
DESCRIPTION:
URL:https://tcshighschool.org/event/b4yt-liberia-tcs-baltimore-student-exchange/
CATEGORIES:Seminars - Special
ATTACH;FMTTYPE=image/jpeg:https://tcshighschool.org/wp-content/uploads/2023/10/b4yt3.jpeg
END:VEVENT
END:VCALENDAR