BEGIN:VCALENDAR
VERSION:2.0
PRODID:-//TCS High School - ECPv6.15.11//NONSGML v1.0//EN
CALSCALE:GREGORIAN
METHOD:PUBLISH
X-WR-CALNAME:TCS High School
X-ORIGINAL-URL:https://tcshighschool.org
X-WR-CALDESC:Events for TCS High School
REFRESH-INTERVAL;VALUE=DURATION:PT1H
X-Robots-Tag:noindex
X-PUBLISHED-TTL:PT1H
BEGIN:VTIMEZONE
TZID:America/New_York
BEGIN:DAYLIGHT
TZOFFSETFROM:-0500
TZOFFSETTO:-0400
TZNAME:EDT
DTSTART:20220313T070000
END:DAYLIGHT
BEGIN:STANDARD
TZOFFSETFROM:-0400
TZOFFSETTO:-0500
TZNAME:EST
DTSTART:20221106T060000
END:STANDARD
BEGIN:DAYLIGHT
TZOFFSETFROM:-0500
TZOFFSETTO:-0400
TZNAME:EDT
DTSTART:20230312T070000
END:DAYLIGHT
BEGIN:STANDARD
TZOFFSETFROM:-0400
TZOFFSETTO:-0500
TZNAME:EST
DTSTART:20231105T060000
END:STANDARD
BEGIN:DAYLIGHT
TZOFFSETFROM:-0500
TZOFFSETTO:-0400
TZNAME:EDT
DTSTART:20240310T070000
END:DAYLIGHT
BEGIN:STANDARD
TZOFFSETFROM:-0400
TZOFFSETTO:-0500
TZNAME:EST
DTSTART:20241103T060000
END:STANDARD
END:VTIMEZONE
BEGIN:VEVENT
DTSTART;TZID=America/New_York:20231003T100000
DTEND;TZID=America/New_York:20231003T110000
DTSTAMP:20260425T093509
CREATED:20231102T133133Z
LAST-MODIFIED:20231102T133133Z
UID:44433-1696327200-1696330800@tcshighschool.org
SUMMARY:ASL I
DESCRIPTION:
URL:https://tcshighschool.org/event/asl-i-5/2023-10-03/
CATEGORIES:Seminar - Regular
END:VEVENT
BEGIN:VEVENT
DTSTART;TZID=America/New_York:20231003T124500
DTEND;TZID=America/New_York:20231003T134500
DTSTAMP:20260425T093509
CREATED:20230814T215700Z
LAST-MODIFIED:20230816T184728Z
UID:43090-1696337100-1696340700@tcshighschool.org
SUMMARY:ASL II
DESCRIPTION:
URL:https://tcshighschool.org/event/asl-ii-2-2023-09-19/2023-10-03/
CATEGORIES:Seminar - Regular
END:VEVENT
BEGIN:VEVENT
DTSTART;TZID=America/New_York:20231004T084500
DTEND;TZID=America/New_York:20231004T084500
DTSTAMP:20260425T093509
CREATED:20230814T214915Z
LAST-MODIFIED:20230814T214915Z
UID:42916-1696409100-1696409100@tcshighschool.org
SUMMARY:Physical Education
DESCRIPTION:
URL:https://tcshighschool.org/event/physical-education-3/2023-10-04/
CATEGORIES:Seminar - Regular
END:VEVENT
BEGIN:VEVENT
DTSTART;TZID=America/New_York:20231004T124500
DTEND;TZID=America/New_York:20231004T134500
DTSTAMP:20260425T093509
CREATED:20230814T215311Z
LAST-MODIFIED:20230821T134628Z
UID:43440-1696423500-1696427100@tcshighschool.org
SUMMARY:Visual Arts
DESCRIPTION:
URL:https://tcshighschool.org/event/visual-arts-2023-09-13/2023-10-04/
CATEGORIES:Seminar - Regular
END:VEVENT
BEGIN:VEVENT
DTSTART;TZID=America/New_York:20231005T124500
DTEND;TZID=America/New_York:20231005T134500
DTSTAMP:20260425T093509
CREATED:20231010T104507Z
LAST-MODIFIED:20231010T104507Z
UID:44221-1696509900-1696513500@tcshighschool.org
SUMMARY:Theatre with The Lyric
DESCRIPTION:
URL:https://tcshighschool.org/event/theatre-with-the-lyric-3/2023-10-05/
CATEGORIES:Seminar - Regular
END:VEVENT
BEGIN:VEVENT
DTSTART;TZID=America/New_York:20231006T090000
DTEND;TZID=America/New_York:20231006T110000
DTSTAMP:20260425T093509
CREATED:20230814T215012Z
LAST-MODIFIED:20230814T215012Z
UID:42956-1696582800-1696590000@tcshighschool.org
SUMMARY:Creative Writing
DESCRIPTION:
URL:https://tcshighschool.org/event/creative-writing-8/2023-10-06/
CATEGORIES:Seminar - Regular
END:VEVENT
BEGIN:VEVENT
DTSTART;TZID=America/New_York:20231011T084500
DTEND;TZID=America/New_York:20231011T084500
DTSTAMP:20260425T093509
CREATED:20230814T214915Z
LAST-MODIFIED:20230814T214915Z
UID:42917-1697013900-1697013900@tcshighschool.org
SUMMARY:Physical Education
DESCRIPTION:
URL:https://tcshighschool.org/event/physical-education-3/2023-10-11/
CATEGORIES:Seminar - Regular
END:VEVENT
BEGIN:VEVENT
DTSTART;TZID=America/New_York:20231011T124500
DTEND;TZID=America/New_York:20231011T134500
DTSTAMP:20260425T093509
CREATED:20230814T215311Z
LAST-MODIFIED:20230821T134628Z
UID:43441-1697028300-1697031900@tcshighschool.org
SUMMARY:Visual Arts
DESCRIPTION:
URL:https://tcshighschool.org/event/visual-arts-2023-09-13/2023-10-11/
CATEGORIES:Seminar - Regular
END:VEVENT
BEGIN:VEVENT
DTSTART;TZID=America/New_York:20231012T124500
DTEND;TZID=America/New_York:20231012T134500
DTSTAMP:20260425T093509
CREATED:20231010T104507Z
LAST-MODIFIED:20231010T104507Z
UID:44223-1697114700-1697118300@tcshighschool.org
SUMMARY:Theatre with The Lyric
DESCRIPTION:
URL:https://tcshighschool.org/event/theatre-with-the-lyric-3/2023-10-12/
CATEGORIES:Seminar - Regular
END:VEVENT
BEGIN:VEVENT
DTSTART;TZID=America/New_York:20231013T090000
DTEND;TZID=America/New_York:20231013T110000
DTSTAMP:20260425T093509
CREATED:20230814T215012Z
LAST-MODIFIED:20230814T215012Z
UID:42957-1697187600-1697194800@tcshighschool.org
SUMMARY:Creative Writing
DESCRIPTION:
URL:https://tcshighschool.org/event/creative-writing-8/2023-10-13/
CATEGORIES:Seminar - Regular
END:VEVENT
BEGIN:VEVENT
DTSTART;TZID=America/New_York:20231016T124500
DTEND;TZID=America/New_York:20231016T134500
DTSTAMP:20260425T093509
CREATED:20230817T155800Z
LAST-MODIFIED:20231014T130734Z
UID:43477-1697460300-1697463900@tcshighschool.org
SUMMARY:Financial Literacy
DESCRIPTION:Kathleen Gower\, Amy Cooper and Martin Kangah
URL:https://tcshighschool.org/event/financial-literacy-5-2023-10-23/
CATEGORIES:Seminar - Regular
END:VEVENT
BEGIN:VEVENT
DTSTART;TZID=America/New_York:20231017T100000
DTEND;TZID=America/New_York:20231017T110000
DTSTAMP:20260425T093509
CREATED:20231102T133133Z
LAST-MODIFIED:20231102T133133Z
UID:44435-1697536800-1697540400@tcshighschool.org
SUMMARY:ASL I
DESCRIPTION:
URL:https://tcshighschool.org/event/asl-i-5/2023-10-17/
CATEGORIES:Seminar - Regular
END:VEVENT
BEGIN:VEVENT
DTSTART;TZID=America/New_York:20231017T124500
DTEND;TZID=America/New_York:20231017T134500
DTSTAMP:20260425T093509
CREATED:20230814T215700Z
LAST-MODIFIED:20230816T184729Z
UID:43092-1697546700-1697550300@tcshighschool.org
SUMMARY:ASL II
DESCRIPTION:
URL:https://tcshighschool.org/event/asl-ii-2-2023-09-19/2023-10-17/
CATEGORIES:Seminar - Regular
END:VEVENT
BEGIN:VEVENT
DTSTART;TZID=America/New_York:20231018T084500
DTEND;TZID=America/New_York:20231018T084500
DTSTAMP:20260425T093509
CREATED:20230814T214915Z
LAST-MODIFIED:20230814T214915Z
UID:42918-1697618700-1697618700@tcshighschool.org
SUMMARY:Physical Education
DESCRIPTION:
URL:https://tcshighschool.org/event/physical-education-3/2023-10-18/
CATEGORIES:Seminar - Regular
END:VEVENT
BEGIN:VEVENT
DTSTART;TZID=America/New_York:20231018T124500
DTEND;TZID=America/New_York:20231018T134500
DTSTAMP:20260425T093509
CREATED:20230814T215311Z
LAST-MODIFIED:20230821T134628Z
UID:43442-1697633100-1697636700@tcshighschool.org
SUMMARY:Visual Arts
DESCRIPTION:
URL:https://tcshighschool.org/event/visual-arts-2023-09-13/2023-10-18/
CATEGORIES:Seminar - Regular
END:VEVENT
BEGIN:VEVENT
DTSTART;TZID=America/New_York:20231020T090000
DTEND;TZID=America/New_York:20231020T110000
DTSTAMP:20260425T093509
CREATED:20230814T215012Z
LAST-MODIFIED:20230814T215012Z
UID:42958-1697792400-1697799600@tcshighschool.org
SUMMARY:Creative Writing
DESCRIPTION:
URL:https://tcshighschool.org/event/creative-writing-8/2023-10-20/
CATEGORIES:Seminar - Regular
END:VEVENT
BEGIN:VEVENT
DTSTART;TZID=America/New_York:20231024T100000
DTEND;TZID=America/New_York:20231024T110000
DTSTAMP:20260425T093509
CREATED:20231102T133133Z
LAST-MODIFIED:20231102T133133Z
UID:44436-1698141600-1698145200@tcshighschool.org
SUMMARY:ASL I
DESCRIPTION:
URL:https://tcshighschool.org/event/asl-i-5/2023-10-24/
CATEGORIES:Seminar - Regular
END:VEVENT
BEGIN:VEVENT
DTSTART;TZID=America/New_York:20231024T124500
DTEND;TZID=America/New_York:20231024T134500
DTSTAMP:20260425T093509
CREATED:20230814T215700Z
LAST-MODIFIED:20230816T184729Z
UID:43093-1698151500-1698155100@tcshighschool.org
SUMMARY:ASL II
DESCRIPTION:
URL:https://tcshighschool.org/event/asl-ii-2-2023-09-19/2023-10-24/
CATEGORIES:Seminar - Regular
END:VEVENT
BEGIN:VEVENT
DTSTART;TZID=America/New_York:20231025T084500
DTEND;TZID=America/New_York:20231025T084500
DTSTAMP:20260425T093509
CREATED:20230814T214915Z
LAST-MODIFIED:20230814T214915Z
UID:42919-1698223500-1698223500@tcshighschool.org
SUMMARY:Physical Education
DESCRIPTION:
URL:https://tcshighschool.org/event/physical-education-3/2023-10-25/
CATEGORIES:Seminar - Regular
END:VEVENT
BEGIN:VEVENT
DTSTART;TZID=America/New_York:20231025T124500
DTEND;TZID=America/New_York:20231025T134500
DTSTAMP:20260425T093509
CREATED:20230814T215311Z
LAST-MODIFIED:20230821T134628Z
UID:43443-1698237900-1698241500@tcshighschool.org
SUMMARY:Visual Arts
DESCRIPTION:
URL:https://tcshighschool.org/event/visual-arts-2023-09-13/2023-10-25/
CATEGORIES:Seminar - Regular
END:VEVENT
BEGIN:VEVENT
DTSTART;TZID=America/New_York:20231027T090000
DTEND;TZID=America/New_York:20231027T110000
DTSTAMP:20260425T093509
CREATED:20230814T215012Z
LAST-MODIFIED:20230814T215012Z
UID:42959-1698397200-1698404400@tcshighschool.org
SUMMARY:Creative Writing
DESCRIPTION:
URL:https://tcshighschool.org/event/creative-writing-8/2023-10-27/
CATEGORIES:Seminar - Regular
END:VEVENT
BEGIN:VEVENT
DTSTART;TZID=America/New_York:20231030T130000
DTEND;TZID=America/New_York:20231030T150000
DTSTAMP:20260425T093509
CREATED:20230822T191659Z
LAST-MODIFIED:20231009T145135Z
UID:43687-1698670800-1698678000@tcshighschool.org
SUMMARY:Done Construction Seminar
DESCRIPTION:
URL:https://tcshighschool.org/event/done-construction-seminar-5-2023-10-09/
CATEGORIES:Seminar - Regular
END:VEVENT
BEGIN:VEVENT
DTSTART;TZID=America/New_York:20231031T100000
DTEND;TZID=America/New_York:20231031T110000
DTSTAMP:20260425T093509
CREATED:20231102T133133Z
LAST-MODIFIED:20231102T133133Z
UID:44437-1698746400-1698750000@tcshighschool.org
SUMMARY:ASL I
DESCRIPTION:
URL:https://tcshighschool.org/event/asl-i-5/2023-10-31/
CATEGORIES:Seminar - Regular
END:VEVENT
BEGIN:VEVENT
DTSTART;TZID=America/New_York:20231031T124500
DTEND;TZID=America/New_York:20231031T134500
DTSTAMP:20260425T093509
CREATED:20230814T215700Z
LAST-MODIFIED:20230816T184729Z
UID:43094-1698756300-1698759900@tcshighschool.org
SUMMARY:ASL II
DESCRIPTION:
URL:https://tcshighschool.org/event/asl-ii-2-2023-09-19/2023-10-31/
CATEGORIES:Seminar - Regular
END:VEVENT
END:VCALENDAR