BEGIN:VCALENDAR
VERSION:2.0
PRODID:-//TCS High School - ECPv6.15.11//NONSGML v1.0//EN
CALSCALE:GREGORIAN
METHOD:PUBLISH
X-WR-CALNAME:TCS High School
X-ORIGINAL-URL:https://tcshighschool.org
X-WR-CALDESC:Events for TCS High School
REFRESH-INTERVAL;VALUE=DURATION:PT1H
X-Robots-Tag:noindex
X-PUBLISHED-TTL:PT1H
BEGIN:VTIMEZONE
TZID:America/New_York
BEGIN:DAYLIGHT
TZOFFSETFROM:-0500
TZOFFSETTO:-0400
TZNAME:EDT
DTSTART:20230312T070000
END:DAYLIGHT
BEGIN:STANDARD
TZOFFSETFROM:-0400
TZOFFSETTO:-0500
TZNAME:EST
DTSTART:20231105T060000
END:STANDARD
BEGIN:DAYLIGHT
TZOFFSETFROM:-0500
TZOFFSETTO:-0400
TZNAME:EDT
DTSTART:20240310T070000
END:DAYLIGHT
BEGIN:STANDARD
TZOFFSETFROM:-0400
TZOFFSETTO:-0500
TZNAME:EST
DTSTART:20241103T060000
END:STANDARD
BEGIN:DAYLIGHT
TZOFFSETFROM:-0500
TZOFFSETTO:-0400
TZNAME:EDT
DTSTART:20250309T070000
END:DAYLIGHT
BEGIN:STANDARD
TZOFFSETFROM:-0400
TZOFFSETTO:-0500
TZNAME:EST
DTSTART:20251102T060000
END:STANDARD
END:VTIMEZONE
BEGIN:VEVENT
DTSTART;TZID=America/New_York:20240109T100000
DTEND;TZID=America/New_York:20240109T110000
DTSTAMP:20260425T070147
CREATED:20231102T133133Z
LAST-MODIFIED:20231102T133133Z
UID:44447-1704794400-1704798000@tcshighschool.org
SUMMARY:ASL I
DESCRIPTION:
URL:https://tcshighschool.org/event/asl-i-5/2024-01-09/
CATEGORIES:Seminar - Regular
END:VEVENT
BEGIN:VEVENT
DTSTART;TZID=America/New_York:20240109T124500
DTEND;TZID=America/New_York:20240109T134500
DTSTAMP:20260425T070147
CREATED:20230814T215700Z
LAST-MODIFIED:20230816T184734Z
UID:43104-1704804300-1704807900@tcshighschool.org
SUMMARY:ASL II
DESCRIPTION:
URL:https://tcshighschool.org/event/asl-ii-2-2023-09-19/2024-01-09/
CATEGORIES:Seminar - Regular
END:VEVENT
END:VCALENDAR