BEGIN:VCALENDAR
VERSION:2.0
PRODID:-//TCS High School - ECPv6.15.11//NONSGML v1.0//EN
CALSCALE:GREGORIAN
METHOD:PUBLISH
X-ORIGINAL-URL:https://tcshighschool.org
X-WR-CALDESC:Events for TCS High School
REFRESH-INTERVAL;VALUE=DURATION:PT1H
X-Robots-Tag:noindex
X-PUBLISHED-TTL:PT1H
BEGIN:VTIMEZONE
TZID:America/New_York
BEGIN:DAYLIGHT
TZOFFSETFROM:-0500
TZOFFSETTO:-0400
TZNAME:EDT
DTSTART:20250309T070000
END:DAYLIGHT
BEGIN:STANDARD
TZOFFSETFROM:-0400
TZOFFSETTO:-0500
TZNAME:EST
DTSTART:20251102T060000
END:STANDARD
BEGIN:DAYLIGHT
TZOFFSETFROM:-0500
TZOFFSETTO:-0400
TZNAME:EDT
DTSTART:20260308T070000
END:DAYLIGHT
BEGIN:STANDARD
TZOFFSETFROM:-0400
TZOFFSETTO:-0500
TZNAME:EST
DTSTART:20261101T060000
END:STANDARD
BEGIN:DAYLIGHT
TZOFFSETFROM:-0500
TZOFFSETTO:-0400
TZNAME:EDT
DTSTART:20270314T070000
END:DAYLIGHT
BEGIN:STANDARD
TZOFFSETFROM:-0400
TZOFFSETTO:-0500
TZNAME:EST
DTSTART:20271107T060000
END:STANDARD
END:VTIMEZONE
BEGIN:VEVENT
DTSTART;TZID=America/New_York:20260220T090000
DTEND;TZID=America/New_York:20260220T110000
DTSTAMP:20260425T093321
CREATED:20250708T133732Z
LAST-MODIFIED:20250708T133732Z
UID:48746-1771578000-1771585200@tcshighschool.org
SUMMARY:Creative Writing Seminar
DESCRIPTION:
URL:https://tcshighschool.org/event/creative-writing-seminar-12-2025-11-28-2026-02-20/
CATEGORIES:Seminar - Regular
END:VEVENT
BEGIN:VEVENT
DTSTART;TZID=America/New_York:20260224T140000
DTEND;TZID=America/New_York:20260224T150000
DTSTAMP:20260425T093321
CREATED:20251206T012347Z
LAST-MODIFIED:20251206T012347Z
UID:49910-1771941600-1771945200@tcshighschool.org
SUMMARY:MICA Art Seminar
DESCRIPTION:
URL:https://tcshighschool.org/event/mica-art-seminar/2026-02-24/
CATEGORIES:Seminar - Regular
END:VEVENT
BEGIN:VEVENT
DTSTART;TZID=America/New_York:20260225T085500
DTEND;TZID=America/New_York:20260225T095500
DTSTAMP:20260425T093321
CREATED:20250708T133601Z
LAST-MODIFIED:20250708T133601Z
UID:48794-1772009700-1772013300@tcshighschool.org
SUMMARY:Physical Education
DESCRIPTION:
URL:https://tcshighschool.org/event/physical-education-8/2026-02-25/
CATEGORIES:Seminar - Regular
END:VEVENT
BEGIN:VEVENT
DTSTART;TZID=America/New_York:20260227T090000
DTEND;TZID=America/New_York:20260227T110000
DTSTAMP:20260425T093321
CREATED:20250708T133732Z
LAST-MODIFIED:20250708T133732Z
UID:48747-1772182800-1772190000@tcshighschool.org
SUMMARY:Creative Writing Seminar
DESCRIPTION:
URL:https://tcshighschool.org/event/creative-writing-seminar-12-2025-11-28-2026-02-27/
CATEGORIES:Seminar - Regular
END:VEVENT
BEGIN:VEVENT
DTSTART;TZID=America/New_York:20260303T140000
DTEND;TZID=America/New_York:20260303T150000
DTSTAMP:20260425T093321
CREATED:20251206T012347Z
LAST-MODIFIED:20251206T012347Z
UID:49911-1772546400-1772550000@tcshighschool.org
SUMMARY:MICA Art Seminar
DESCRIPTION:
URL:https://tcshighschool.org/event/mica-art-seminar/2026-03-03/
CATEGORIES:Seminar - Regular
END:VEVENT
BEGIN:VEVENT
DTSTART;TZID=America/New_York:20260304T085500
DTEND;TZID=America/New_York:20260304T095500
DTSTAMP:20260425T093321
CREATED:20250708T133601Z
LAST-MODIFIED:20250708T133601Z
UID:48795-1772614500-1772618100@tcshighschool.org
SUMMARY:Physical Education
DESCRIPTION:
URL:https://tcshighschool.org/event/physical-education-8/2026-03-04/
CATEGORIES:Seminar - Regular
END:VEVENT
BEGIN:VEVENT
DTSTART;TZID=America/New_York:20260306T090000
DTEND;TZID=America/New_York:20260306T110000
DTSTAMP:20260425T093321
CREATED:20250708T133732Z
LAST-MODIFIED:20250708T133732Z
UID:48748-1772787600-1772794800@tcshighschool.org
SUMMARY:Creative Writing Seminar
DESCRIPTION:
URL:https://tcshighschool.org/event/creative-writing-seminar-12-2025-11-28-2026-03-06/
CATEGORIES:Seminar - Regular
END:VEVENT
BEGIN:VEVENT
DTSTART;TZID=America/New_York:20260310T140000
DTEND;TZID=America/New_York:20260310T150000
DTSTAMP:20260425T093321
CREATED:20251206T012347Z
LAST-MODIFIED:20251206T012347Z
UID:49912-1773151200-1773154800@tcshighschool.org
SUMMARY:MICA Art Seminar
DESCRIPTION:
URL:https://tcshighschool.org/event/mica-art-seminar/2026-03-10/
CATEGORIES:Seminar - Regular
END:VEVENT
BEGIN:VEVENT
DTSTART;TZID=America/New_York:20260311T085500
DTEND;TZID=America/New_York:20260311T095500
DTSTAMP:20260425T093321
CREATED:20250708T133601Z
LAST-MODIFIED:20250708T133601Z
UID:48796-1773219300-1773222900@tcshighschool.org
SUMMARY:Physical Education
DESCRIPTION:
URL:https://tcshighschool.org/event/physical-education-8/2026-03-11/
CATEGORIES:Seminar - Regular
END:VEVENT
BEGIN:VEVENT
DTSTART;TZID=America/New_York:20260312T124500
DTEND;TZID=America/New_York:20260312T134500
DTSTAMP:20260425T093321
CREATED:20250815T143203Z
LAST-MODIFIED:20250815T143203Z
UID:48931-1773319500-1773323100@tcshighschool.org
SUMMARY:Financial Literacy Seminar
DESCRIPTION:
URL:https://tcshighschool.org/event/financial-literacy-seminar-35/
CATEGORIES:Seminar - Regular
END:VEVENT
BEGIN:VEVENT
DTSTART;TZID=America/New_York:20260313T090000
DTEND;TZID=America/New_York:20260313T110000
DTSTAMP:20260425T093321
CREATED:20250708T133732Z
LAST-MODIFIED:20250708T133732Z
UID:48749-1773392400-1773399600@tcshighschool.org
SUMMARY:Creative Writing Seminar
DESCRIPTION:
URL:https://tcshighschool.org/event/creative-writing-seminar-12-2025-11-28-2026-03-13/
CATEGORIES:Seminar - Regular
END:VEVENT
BEGIN:VEVENT
DTSTART;TZID=America/New_York:20260318T085500
DTEND;TZID=America/New_York:20260318T095500
DTSTAMP:20260425T093321
CREATED:20250708T133601Z
LAST-MODIFIED:20250708T133601Z
UID:48797-1773824100-1773827700@tcshighschool.org
SUMMARY:Physical Education
DESCRIPTION:
URL:https://tcshighschool.org/event/physical-education-8/2026-03-18/
CATEGORIES:Seminar - Regular
END:VEVENT
BEGIN:VEVENT
DTSTART;TZID=America/New_York:20260320T090000
DTEND;TZID=America/New_York:20260320T110000
DTSTAMP:20260425T093321
CREATED:20250708T133732Z
LAST-MODIFIED:20250708T133732Z
UID:48750-1773997200-1774004400@tcshighschool.org
SUMMARY:Creative Writing Seminar
DESCRIPTION:
URL:https://tcshighschool.org/event/creative-writing-seminar-12-2025-11-28-2026-03-20/
CATEGORIES:Seminar - Regular
END:VEVENT
BEGIN:VEVENT
DTSTART;TZID=America/New_York:20260324T140000
DTEND;TZID=America/New_York:20260324T150000
DTSTAMP:20260425T093321
CREATED:20251206T012347Z
LAST-MODIFIED:20260104T175559Z
UID:49914-1774360800-1774364400@tcshighschool.org
SUMMARY:MICA Art Seminar
DESCRIPTION:Vanessa will teach
URL:https://tcshighschool.org/event/mica-art-seminar-2026-03-24/
CATEGORIES:Seminar - Regular
END:VEVENT
BEGIN:VEVENT
DTSTART;TZID=America/New_York:20260325T085500
DTEND;TZID=America/New_York:20260325T095500
DTSTAMP:20260425T093321
CREATED:20250708T133601Z
LAST-MODIFIED:20250708T133601Z
UID:48798-1774428900-1774432500@tcshighschool.org
SUMMARY:Physical Education
DESCRIPTION:
URL:https://tcshighschool.org/event/physical-education-8/2026-03-25/
CATEGORIES:Seminar - Regular
END:VEVENT
BEGIN:VEVENT
DTSTART;TZID=America/New_York:20260327T090000
DTEND;TZID=America/New_York:20260327T110000
DTSTAMP:20260425T093321
CREATED:20250708T133732Z
LAST-MODIFIED:20250708T133732Z
UID:48751-1774602000-1774609200@tcshighschool.org
SUMMARY:Creative Writing Seminar
DESCRIPTION:
URL:https://tcshighschool.org/event/creative-writing-seminar-12-2025-11-28-2026-03-27/
CATEGORIES:Seminar - Regular
END:VEVENT
BEGIN:VEVENT
DTSTART;TZID=America/New_York:20260407T140000
DTEND;TZID=America/New_York:20260407T150000
DTSTAMP:20260425T093321
CREATED:20251206T012347Z
LAST-MODIFIED:20251206T012347Z
UID:49916-1775570400-1775574000@tcshighschool.org
SUMMARY:MICA Art Seminar
DESCRIPTION:
URL:https://tcshighschool.org/event/mica-art-seminar/2026-04-07/
CATEGORIES:Seminar - Regular
END:VEVENT
BEGIN:VEVENT
DTSTART;TZID=America/New_York:20260408T085500
DTEND;TZID=America/New_York:20260408T095500
DTSTAMP:20260425T093321
CREATED:20250708T133601Z
LAST-MODIFIED:20250708T133601Z
UID:48800-1775638500-1775642100@tcshighschool.org
SUMMARY:Physical Education
DESCRIPTION:
URL:https://tcshighschool.org/event/physical-education-8/2026-04-08/
CATEGORIES:Seminar - Regular
END:VEVENT
BEGIN:VEVENT
DTSTART;TZID=America/New_York:20260410T090000
DTEND;TZID=America/New_York:20260410T110000
DTSTAMP:20260425T093321
CREATED:20250708T133732Z
LAST-MODIFIED:20250708T133732Z
UID:48753-1775811600-1775818800@tcshighschool.org
SUMMARY:Creative Writing Seminar
DESCRIPTION:
URL:https://tcshighschool.org/event/creative-writing-seminar-12-2025-11-28-2026-04-10/
CATEGORIES:Seminar - Regular
END:VEVENT
BEGIN:VEVENT
DTSTART;TZID=America/New_York:20260414T140000
DTEND;TZID=America/New_York:20260414T150000
DTSTAMP:20260425T093321
CREATED:20251206T012347Z
LAST-MODIFIED:20251206T012347Z
UID:49917-1776175200-1776178800@tcshighschool.org
SUMMARY:MICA Art Seminar
DESCRIPTION:
URL:https://tcshighschool.org/event/mica-art-seminar/2026-04-14/
CATEGORIES:Seminar - Regular
END:VEVENT
BEGIN:VEVENT
DTSTART;TZID=America/New_York:20260415T085500
DTEND;TZID=America/New_York:20260415T095500
DTSTAMP:20260425T093321
CREATED:20250708T133601Z
LAST-MODIFIED:20250708T133601Z
UID:48801-1776243300-1776246900@tcshighschool.org
SUMMARY:Physical Education
DESCRIPTION:
URL:https://tcshighschool.org/event/physical-education-8/2026-04-15/
CATEGORIES:Seminar - Regular
END:VEVENT
BEGIN:VEVENT
DTSTART;TZID=America/New_York:20260417T090000
DTEND;TZID=America/New_York:20260417T110000
DTSTAMP:20260425T093321
CREATED:20250708T133732Z
LAST-MODIFIED:20250708T133732Z
UID:48754-1776416400-1776423600@tcshighschool.org
SUMMARY:Creative Writing Seminar
DESCRIPTION:
URL:https://tcshighschool.org/event/creative-writing-seminar-12-2025-11-28-2026-04-17/
CATEGORIES:Seminar - Regular
END:VEVENT
BEGIN:VEVENT
DTSTART;TZID=America/New_York:20260421T140000
DTEND;TZID=America/New_York:20260421T150000
DTSTAMP:20260425T093321
CREATED:20251206T012347Z
LAST-MODIFIED:20251206T012347Z
UID:49919-1776780000-1776783600@tcshighschool.org
SUMMARY:MICA Art Seminar
DESCRIPTION:
URL:https://tcshighschool.org/event/mica-art-seminar/2026-04-21/
CATEGORIES:Seminar - Regular
END:VEVENT
BEGIN:VEVENT
DTSTART;TZID=America/New_York:20260422T085500
DTEND;TZID=America/New_York:20260422T095500
DTSTAMP:20260425T093321
CREATED:20250708T133601Z
LAST-MODIFIED:20250708T133601Z
UID:48802-1776848100-1776851700@tcshighschool.org
SUMMARY:Physical Education
DESCRIPTION:
URL:https://tcshighschool.org/event/physical-education-8/2026-04-22/
CATEGORIES:Seminar - Regular
END:VEVENT
BEGIN:VEVENT
DTSTART;TZID=America/New_York:20260423T123000
DTEND;TZID=America/New_York:20260423T140000
DTSTAMP:20260425T093321
CREATED:20250708T133303Z
LAST-MODIFIED:20260406T171949Z
UID:48686-1776947400-1776952800@tcshighschool.org
SUMMARY:Theatre at The Lyric
DESCRIPTION:
URL:https://tcshighschool.org/event/theatre-at-the-lyric-8/
CATEGORIES:Seminar - Regular
ATTACH;FMTTYPE=image/jpeg:https://tcshighschool.org/wp-content/uploads/2025/07/R8KZBLwV.jpg
END:VEVENT
BEGIN:VEVENT
DTSTART;TZID=America/New_York:20260424T090000
DTEND;TZID=America/New_York:20260424T110000
DTSTAMP:20260425T093321
CREATED:20250708T133732Z
LAST-MODIFIED:20250708T133732Z
UID:48755-1777021200-1777028400@tcshighschool.org
SUMMARY:Creative Writing Seminar
DESCRIPTION:
URL:https://tcshighschool.org/event/creative-writing-seminar-12-2025-11-28-2026-04-24/
CATEGORIES:Seminar - Regular
END:VEVENT
BEGIN:VEVENT
DTSTART;TZID=America/New_York:20260429T085500
DTEND;TZID=America/New_York:20260429T095500
DTSTAMP:20260425T093321
CREATED:20250708T133601Z
LAST-MODIFIED:20250708T133601Z
UID:48803-1777452900-1777456500@tcshighschool.org
SUMMARY:Physical Education
DESCRIPTION:
URL:https://tcshighschool.org/event/physical-education-8/2026-04-29/
CATEGORIES:Seminar - Regular
END:VEVENT
BEGIN:VEVENT
DTSTART;TZID=America/New_York:20260429T120000
DTEND;TZID=America/New_York:20260429T140000
DTSTAMP:20260425T093321
CREATED:20260418T143810Z
LAST-MODIFIED:20260418T143810Z
UID:50749-1777464000-1777471200@tcshighschool.org
SUMMARY:Creative Writing Seminar
DESCRIPTION:
URL:https://tcshighschool.org/event/creative-writing-seminar-13/
CATEGORIES:Seminar - Regular
END:VEVENT
BEGIN:VEVENT
DTSTART;TZID=America/New_York:20260430T124500
DTEND;TZID=America/New_York:20260430T134500
DTSTAMP:20260425T093321
CREATED:20250815T143336Z
LAST-MODIFIED:20250815T143336Z
UID:48933-1777553100-1777556700@tcshighschool.org
SUMMARY:Financial Literacy Seminar
DESCRIPTION:
URL:https://tcshighschool.org/event/financial-literacy-seminar-36/
CATEGORIES:Seminar - Regular
END:VEVENT
BEGIN:VEVENT
DTSTART;TZID=America/New_York:20260506T085500
DTEND;TZID=America/New_York:20260506T095500
DTSTAMP:20260425T093321
CREATED:20250708T133601Z
LAST-MODIFIED:20250708T133601Z
UID:48804-1778057700-1778061300@tcshighschool.org
SUMMARY:Physical Education
DESCRIPTION:
URL:https://tcshighschool.org/event/physical-education-8/2026-05-06/
CATEGORIES:Seminar - Regular
END:VEVENT
END:VCALENDAR