BEGIN:VCALENDAR
VERSION:2.0
PRODID:-//TCS High School - ECPv6.15.11//NONSGML v1.0//EN
CALSCALE:GREGORIAN
METHOD:PUBLISH
X-ORIGINAL-URL:https://tcshighschool.org
X-WR-CALDESC:Events for TCS High School
REFRESH-INTERVAL;VALUE=DURATION:PT1H
X-Robots-Tag:noindex
X-PUBLISHED-TTL:PT1H
BEGIN:VTIMEZONE
TZID:America/New_York
BEGIN:DAYLIGHT
TZOFFSETFROM:-0500
TZOFFSETTO:-0400
TZNAME:EDT
DTSTART:20240310T070000
END:DAYLIGHT
BEGIN:STANDARD
TZOFFSETFROM:-0400
TZOFFSETTO:-0500
TZNAME:EST
DTSTART:20241103T060000
END:STANDARD
BEGIN:DAYLIGHT
TZOFFSETFROM:-0500
TZOFFSETTO:-0400
TZNAME:EDT
DTSTART:20250309T070000
END:DAYLIGHT
BEGIN:STANDARD
TZOFFSETFROM:-0400
TZOFFSETTO:-0500
TZNAME:EST
DTSTART:20251102T060000
END:STANDARD
BEGIN:DAYLIGHT
TZOFFSETFROM:-0500
TZOFFSETTO:-0400
TZNAME:EDT
DTSTART:20260308T070000
END:DAYLIGHT
BEGIN:STANDARD
TZOFFSETFROM:-0400
TZOFFSETTO:-0500
TZNAME:EST
DTSTART:20261101T060000
END:STANDARD
END:VTIMEZONE
BEGIN:VEVENT
DTSTART;TZID=America/New_York:20250520T110000
DTEND;TZID=America/New_York:20250520T120000
DTSTAMP:20260424T115021
CREATED:20250119T234340Z
LAST-MODIFIED:20250119T234340Z
UID:47481-1747738800-1747742400@tcshighschool.org
SUMMARY:ASL II
DESCRIPTION:
URL:https://tcshighschool.org/event/asl-ii-7/2025-05-20/
CATEGORIES:Seminar - Regular
END:VEVENT
BEGIN:VEVENT
DTSTART;TZID=America/New_York:20250520T124500
DTEND;TZID=America/New_York:20250520T134500
DTSTAMP:20260424T115021
CREATED:20250119T234707Z
LAST-MODIFIED:20250211T000043Z
UID:47493-1747745100-1747748700@tcshighschool.org
SUMMARY:ASL I
DESCRIPTION:
URL:https://tcshighschool.org/event/asl-i-12-2025-04-08/2025-05-20/
CATEGORIES:Seminar - Regular
END:VEVENT
BEGIN:VEVENT
DTSTART;TZID=America/New_York:20250521T085500
DTEND;TZID=America/New_York:20250521T095500
DTSTAMP:20260424T115021
CREATED:20250409T132253Z
LAST-MODIFIED:20250409T132253Z
UID:48316-1747817700-1747821300@tcshighschool.org
SUMMARY:Physical Education
DESCRIPTION:
URL:https://tcshighschool.org/event/physical-education-7/2025-05-21/
CATEGORIES:Seminar - Regular
END:VEVENT
BEGIN:VEVENT
DTSTART;TZID=America/New_York:20250521T124500
DTEND;TZID=America/New_York:20250521T134500
DTSTAMP:20260424T115021
CREATED:20240925T111056Z
LAST-MODIFIED:20250303T173014Z
UID:47942-1747831500-1747835100@tcshighschool.org
SUMMARY:Art Seminar
DESCRIPTION:
URL:https://tcshighschool.org/event/art-seminar-7-2024-10-09-2025-02-26-2025-05-21/
CATEGORIES:Seminar - Regular
END:VEVENT
BEGIN:VEVENT
DTSTART;TZID=America/New_York:20250523T090000
DTEND;TZID=America/New_York:20250523T110000
DTSTAMP:20260424T115021
CREATED:20250110T145117Z
LAST-MODIFIED:20250428T133026Z
UID:47411-1747990800-1747998000@tcshighschool.org
SUMMARY:Creative Writing
DESCRIPTION:
URL:https://tcshighschool.org/event/creative-writing-12/2025-05-23/
CATEGORIES:Seminar - Regular
END:VEVENT
BEGIN:VEVENT
DTSTART;TZID=America/New_York:20250527T110000
DTEND;TZID=America/New_York:20250527T120000
DTSTAMP:20260424T115021
CREATED:20250119T234340Z
LAST-MODIFIED:20250119T234340Z
UID:47482-1748343600-1748347200@tcshighschool.org
SUMMARY:ASL II
DESCRIPTION:
URL:https://tcshighschool.org/event/asl-ii-7/2025-05-27/
CATEGORIES:Seminar - Regular
END:VEVENT
BEGIN:VEVENT
DTSTART;TZID=America/New_York:20250527T124500
DTEND;TZID=America/New_York:20250527T134500
DTSTAMP:20260424T115021
CREATED:20250119T234707Z
LAST-MODIFIED:20250211T000052Z
UID:47494-1748349900-1748353500@tcshighschool.org
SUMMARY:ASL I
DESCRIPTION:
URL:https://tcshighschool.org/event/asl-i-12-2025-04-08/2025-05-27/
CATEGORIES:Seminar - Regular
END:VEVENT
BEGIN:VEVENT
DTSTART;TZID=America/New_York:20250528T085500
DTEND;TZID=America/New_York:20250528T095500
DTSTAMP:20260424T115021
CREATED:20250409T132253Z
LAST-MODIFIED:20250409T132253Z
UID:48317-1748422500-1748426100@tcshighschool.org
SUMMARY:Physical Education
DESCRIPTION:
URL:https://tcshighschool.org/event/physical-education-7/2025-05-28/
CATEGORIES:Seminar - Regular
END:VEVENT
BEGIN:VEVENT
DTSTART;TZID=America/New_York:20250528T124500
DTEND;TZID=America/New_York:20250528T134500
DTSTAMP:20260424T115021
CREATED:20240925T111056Z
LAST-MODIFIED:20240925T111056Z
UID:48131-1748436300-1748439900@tcshighschool.org
SUMMARY:Art Seminar
DESCRIPTION:
URL:https://tcshighschool.org/event/art-seminar-7-2024-10-09-2025-03-26-2025-05-28/
CATEGORIES:Seminar - Regular
END:VEVENT
BEGIN:VEVENT
DTSTART;TZID=America/New_York:20250905T090000
DTEND;TZID=America/New_York:20250905T110000
DTSTAMP:20260424T115021
CREATED:20250708T133732Z
LAST-MODIFIED:20250708T133732Z
UID:48702-1757062800-1757070000@tcshighschool.org
SUMMARY:Creative Writing Seminar
DESCRIPTION:
URL:https://tcshighschool.org/event/creative-writing-seminar-12/2025-09-05/
CATEGORIES:Seminar - Regular
END:VEVENT
BEGIN:VEVENT
DTSTART;TZID=America/New_York:20250909T124500
DTEND;TZID=America/New_York:20250909T134500
DTSTAMP:20260424T115021
CREATED:20250825T102112Z
LAST-MODIFIED:20250929T222002Z
UID:49121-1757421900-1757425500@tcshighschool.org
SUMMARY:Guest Artist: George Hagegeorge
DESCRIPTION:Bio\nMusician\, producer\, songwriter\, photographer\, writer\, and watercolorist George\nHagegeorge has credits on dozens of music releases as producer\, remixer\, musician\nand composer.  His photojournalism has been published in newspapers throughout\nMaryland including the Baltimore Sun\, The Baltimore Examiner\, and the Washington\nPost. George’s watercolor work began during covid lockdown and developed as he\nexperimented with various methods. \nClass\nGeorge’s demonstration/workshop will be about painting with watercolors\, with your\neyes closed. It will include a short introduction to his work and methods\, then most of\nthe hour will be dedicated to each of the students creating “eyes closed” watercolor\npaintings\, choosing their favorite and talking about it.
URL:https://tcshighschool.org/event/art-class-introduction/
CATEGORIES:Seminar - Regular
ATTACH;FMTTYPE=image/jpeg:https://tcshighschool.org/wp-content/uploads/2025/08/Georgesq.jpg
END:VEVENT
BEGIN:VEVENT
DTSTART;TZID=America/New_York:20250910T085500
DTEND;TZID=America/New_York:20250910T095500
DTSTAMP:20260424T115021
CREATED:20250708T133601Z
LAST-MODIFIED:20250708T133601Z
UID:48690-1757494500-1757498100@tcshighschool.org
SUMMARY:Physical Education
DESCRIPTION:
URL:https://tcshighschool.org/event/physical-education-8/2025-09-10/
CATEGORIES:Seminar - Regular
END:VEVENT
BEGIN:VEVENT
DTSTART;TZID=America/New_York:20250912T090000
DTEND;TZID=America/New_York:20250912T110000
DTSTAMP:20260424T115021
CREATED:20250708T133732Z
LAST-MODIFIED:20250708T133732Z
UID:48703-1757667600-1757674800@tcshighschool.org
SUMMARY:Creative Writing Seminar
DESCRIPTION:
URL:https://tcshighschool.org/event/creative-writing-seminar-12/2025-09-12/
CATEGORIES:Seminar - Regular
END:VEVENT
BEGIN:VEVENT
DTSTART;TZID=America/New_York:20250916T124500
DTEND;TZID=America/New_York:20250916T134500
DTSTAMP:20260424T115021
CREATED:20250822T124606Z
LAST-MODIFIED:20250905T103441Z
UID:49042-1758026700-1758030300@tcshighschool.org
SUMMARY:Guest Artist: Kelly Irvine
DESCRIPTION:https://www.kellyirvinedesign.art/ \nBio: \nKelly Irvine (she/her) is an abstract painter living and working in Baltimore\, MD. Her work explores the interaction of color and transparency to create visual depth and affect mood. She works primarily with thinned acrylic paint applied to raw canvas\, enabling new colors to form where transparent forms overlap. She often sews painted canvas and sheer fabric together\, allowing the sheer areas reveal the stretcher bars underneath\, thus drawing the viewer into the depths of the painting. \nCurrently an MFA candidate at Towson University\, Irvine received her bachelor’s degree in graphic design from University of Maryland and subsequently studied painting at the Yellow Barn in Glen Echo. She has mounted solo exhibitions at Touchstone Gallery in Washington\, DC and at the National Institutes of Health in Bethesda\, MD. Her work has been selected for group exhibitions at The Delaware Contemporary in Wilmington\,  Hamilton Gallery\, Maryland Art Place\, and Gallery 410 in Baltimore\, as well as University of Mary Washington Galleries in Fredericksburg\, VA\, Martha Spak Gallery in Washington DC\, the Delaplaine Arts Center in Frederick\, MD\, and at Glen Echo Park in MD. \nKelly is a 2023 Maryland State Arts Council grant recipient.
URL:https://tcshighschool.org/event/guest-artist-kelly-irvine/
CATEGORIES:Seminar - Regular
ATTACH;FMTTYPE=image/jpeg:https://tcshighschool.org/wp-content/uploads/2025/08/KellyIrvine-headshot.jpg
END:VEVENT
BEGIN:VEVENT
DTSTART;TZID=America/New_York:20250918T123000
DTEND;TZID=America/New_York:20250918T140000
DTSTAMP:20260424T115021
CREATED:20250602T181628Z
LAST-MODIFIED:20250602T181628Z
UID:48651-1758198600-1758204000@tcshighschool.org
SUMMARY:Theatre at the Lyric
DESCRIPTION:
URL:https://tcshighschool.org/event/theatre-at-the-lyric-2/
CATEGORIES:Seminar - Regular
END:VEVENT
BEGIN:VEVENT
DTSTART;TZID=America/New_York:20250919T090000
DTEND;TZID=America/New_York:20250919T110000
DTSTAMP:20260424T115021
CREATED:20250708T133732Z
LAST-MODIFIED:20250708T133732Z
UID:48704-1758272400-1758279600@tcshighschool.org
SUMMARY:Creative Writing Seminar
DESCRIPTION:
URL:https://tcshighschool.org/event/creative-writing-seminar-12/2025-09-19/
CATEGORIES:Seminar - Regular
END:VEVENT
BEGIN:VEVENT
DTSTART;TZID=America/New_York:20250923T124500
DTEND;TZID=America/New_York:20250923T134500
DTSTAMP:20260424T115021
CREATED:20250823T143553Z
LAST-MODIFIED:20250905T103256Z
UID:49078-1758631500-1758635100@tcshighschool.org
SUMMARY:Guest Artists: Nicholas Rudolph
DESCRIPTION:Bio\nNicholas is a Baltimore-based photographer and co-founder of Studio 5\, a portrait studio in the Station North Arts District. What started as a creative experiment has grown into a lively studio where people come to celebrate who they are—whether through headshots\, family portraits\, or creative shoots with entertainers and artists.   Nicholas loves making photography feel fun and comfortable\, helping people see themselves in a new light. \n“Studio 5 Baltimore is a creative photography space developed in 2018 by Nicholas Rudolf [right] and Richard Henneberry [left] dedicated to capturing authentic\, high-quality portraits that reflect the personality and spirit of each person. \nLocated in the heart of the Station North Arts District and our studio offers a welcoming and professional environment for headshots\, family portraits\, and studio photography for local entertainers\, actors\, and professionals alike. With a passion for storytelling through imagery\, we blend artistry with expertise to deliver stunning\, timeless … beyond traditional photography…timeless\, artistic expressions of individuality. Every session is a collaboration\, carefully crafted with expert lighting\, refined posing\, and a meticulous attention to detail. Inspired by classical and contemporary influences\, we create striking\, quality portraits that celebrate personality\, emotion\, and elegance.” \n\nhttps://www.studio5baltimore.com/
URL:https://tcshighschool.org/event/guest-artists-rchard-henberry-nicholas-rudolph/
CATEGORIES:Seminar - Regular
ATTACH;FMTTYPE=image/jpeg:https://tcshighschool.org/wp-content/uploads/2025/08/Nicholas.jpg
END:VEVENT
BEGIN:VEVENT
DTSTART;TZID=America/New_York:20250925T124500
DTEND;TZID=America/New_York:20250925T134500
DTSTAMP:20260424T115021
CREATED:20250815T141739Z
LAST-MODIFIED:20250815T141739Z
UID:48918-1758804300-1758807900@tcshighschool.org
SUMMARY:Financial Literacy Seminar
DESCRIPTION:
URL:https://tcshighschool.org/event/financial-literacy-seminar-29/
CATEGORIES:Seminar - Regular
END:VEVENT
BEGIN:VEVENT
DTSTART;TZID=America/New_York:20250926T090000
DTEND;TZID=America/New_York:20250926T110000
DTSTAMP:20260424T115021
CREATED:20250708T133732Z
LAST-MODIFIED:20250708T133732Z
UID:48705-1758877200-1758884400@tcshighschool.org
SUMMARY:Creative Writing Seminar
DESCRIPTION:
URL:https://tcshighschool.org/event/creative-writing-seminar-12/2025-09-26/
CATEGORIES:Seminar - Regular
END:VEVENT
BEGIN:VEVENT
DTSTART;TZID=America/New_York:20250930T124500
DTEND;TZID=America/New_York:20250930T131500
DTSTAMP:20260424T115021
CREATED:20250822T152639Z
LAST-MODIFIED:20250909T003850Z
UID:49076-1759236300-1759238100@tcshighschool.org
SUMMARY:Guest Artist: Christianne Knight
DESCRIPTION:Christiane Knight [she/they] is a self-taught fiber artist who blends knitting\, crochet\, weaving\, and other textile traditions with a bold\, modern approach to texture and color. Their work often combines natural elements—stones\, metals\, and plant matter—with hand-dyed wools and fibers to create both wearable pieces and home décor. Working in what has been called an Urban Mystic style\, Christiane brings together the contemporary and the magical in each creation. \n  \nhttps://www.threeravens.net/about/ \nhttps://www.christianeknight.com/bio/
URL:https://tcshighschool.org/event/guest-artist-christianne-knight-2/
CATEGORIES:Seminar - Regular
ATTACH;FMTTYPE=image/jpeg:https://tcshighschool.org/wp-content/uploads/2025/08/C-Knight-Author-Photo.jpg
END:VEVENT
BEGIN:VEVENT
DTSTART;TZID=America/New_York:20251003T090000
DTEND;TZID=America/New_York:20251003T110000
DTSTAMP:20260424T115021
CREATED:20250708T133732Z
LAST-MODIFIED:20250708T133732Z
UID:48706-1759482000-1759489200@tcshighschool.org
SUMMARY:Creative Writing Seminar
DESCRIPTION:
URL:https://tcshighschool.org/event/creative-writing-seminar-12/2025-10-03/
CATEGORIES:Seminar - Regular
END:VEVENT
BEGIN:VEVENT
DTSTART;TZID=America/New_York:20251007T124500
DTEND;TZID=America/New_York:20251007T134500
DTSTAMP:20260424T115021
CREATED:20250821T133032Z
LAST-MODIFIED:20251004T183520Z
UID:49004-1759841100-1759844700@tcshighschool.org
SUMMARY:Guest Artist: Kini Collins Part 1
DESCRIPTION:Japanese Calligraphy \nBio – Kini Collins has spent her life as an artist—martial\, visual\, literary. Day jobs to support those habits include event producer\, bookstore manager\, gallery assistant\, community organizer\, dog walker\, nanny\, teacher and office temp. Raised in central New Jersey in the 1960s she finally settled in Baltimore in 1998 after a whole lot of stops along the way. \nhttps://kinicollins.com/home.html
URL:https://tcshighschool.org/event/guest-artist-kini-collins/
CATEGORIES:Seminar - Regular
ATTACH;FMTTYPE=image/jpeg:https://tcshighschool.org/wp-content/uploads/2025/08/Kini-Collins-2.jpg
END:VEVENT
BEGIN:VEVENT
DTSTART;TZID=America/New_York:20251010T090000
DTEND;TZID=America/New_York:20251010T110000
DTSTAMP:20260424T115021
CREATED:20250708T133732Z
LAST-MODIFIED:20250708T133732Z
UID:48707-1760086800-1760094000@tcshighschool.org
SUMMARY:Creative Writing Seminar
DESCRIPTION:
URL:https://tcshighschool.org/event/creative-writing-seminar-12/2025-10-10/
CATEGORIES:Seminar - Regular
END:VEVENT
BEGIN:VEVENT
DTSTART;TZID=America/New_York:20251014T124500
DTEND;TZID=America/New_York:20251014T134500
DTSTAMP:20260424T115021
CREATED:20250821T133145Z
LAST-MODIFIED:20250921T183617Z
UID:49007-1760445900-1760449500@tcshighschool.org
SUMMARY:Guest Artist: Kini Collins Part 2
DESCRIPTION:Printmaking \nBio – Kini Collins has spent her life as an artist—martial\, visual\, literary. Day jobs to support those habits include event producer\, bookstore manager\, gallery assistant\, community organizer\, dog walker\, nanny\, teacher and office temp. Raised in central New Jersey in the 1960s she finally settled in Baltimore in 1998 after a whole lot of stops along the way. \n  \nhttps://kinicollins.com/home.html
URL:https://tcshighschool.org/event/guest-artist-kini-collins-2/
CATEGORIES:Seminar - Regular
ATTACH;FMTTYPE=image/jpeg:https://tcshighschool.org/wp-content/uploads/2025/08/Kini-Collins.jpg
END:VEVENT
BEGIN:VEVENT
DTSTART;TZID=America/New_York:20251016T123000
DTEND;TZID=America/New_York:20251016T140000
DTSTAMP:20260424T115021
CREATED:20250708T132826Z
LAST-MODIFIED:20250708T132826Z
UID:48676-1760617800-1760623200@tcshighschool.org
SUMMARY:Theatre at The Lyric
DESCRIPTION:
URL:https://tcshighschool.org/event/theatre-at-the-lyric-3/
CATEGORIES:Seminar - Regular
END:VEVENT
BEGIN:VEVENT
DTSTART;TZID=America/New_York:20251017T090000
DTEND;TZID=America/New_York:20251017T110000
DTSTAMP:20260424T115021
CREATED:20250708T133732Z
LAST-MODIFIED:20250708T133732Z
UID:48708-1760691600-1760698800@tcshighschool.org
SUMMARY:Creative Writing Seminar
DESCRIPTION:
URL:https://tcshighschool.org/event/creative-writing-seminar-12/2025-10-17/
CATEGORIES:Seminar - Regular
END:VEVENT
BEGIN:VEVENT
DTSTART;TZID=America/New_York:20251021T124500
DTEND;TZID=America/New_York:20251021T131500
DTSTAMP:20260424T115021
CREATED:20250825T141557Z
LAST-MODIFIED:20250909T004600Z
UID:49130-1761050700-1761052500@tcshighschool.org
SUMMARY:Guest Artist: Jenny O'Grady
DESCRIPTION:Jenny O’Grady is a book artist and writer who makes book sculptures out of beans and paper bags and fabric and whatever else she fancies at the moment. Jenny is editor of The Light Ekphrastic (www.thelightekphrastic.com)\, an online literary journal that since 2010 has paired more than 500 writers and visual artists from around the world to create new works online. Jenny has taught book arts as an adjunct professor in the University of Baltimore’s Creative Writing and Publishing Arts MFA program\, where she earned her MFA in 2006. She received a b-grant from the Baker Artist Awards\, and has been published in a variety of literary magazines. By day\, she leads communications at UMBC. See more of her work at jennyogrady.com. \n  \n 
URL:https://tcshighschool.org/event/guest-artist-jenny-ogrady/
CATEGORIES:Seminar - Regular
ATTACH;FMTTYPE=image/jpeg:https://tcshighschool.org/wp-content/uploads/2025/08/Jenny-OGrady.jpg
END:VEVENT
BEGIN:VEVENT
DTSTART;TZID=America/New_York:20251023T124500
DTEND;TZID=America/New_York:20251023T134500
DTSTAMP:20260424T115021
CREATED:20250815T141828Z
LAST-MODIFIED:20250815T141828Z
UID:48921-1761223500-1761227100@tcshighschool.org
SUMMARY:Financial Literacy Seminar
DESCRIPTION:
URL:https://tcshighschool.org/event/financial-literacy-seminar-30/
CATEGORIES:Seminar - Regular
END:VEVENT
BEGIN:VEVENT
DTSTART;TZID=America/New_York:20251024T090000
DTEND;TZID=America/New_York:20251024T110000
DTSTAMP:20260424T115021
CREATED:20250708T133732Z
LAST-MODIFIED:20250708T133732Z
UID:48709-1761296400-1761303600@tcshighschool.org
SUMMARY:Creative Writing Seminar
DESCRIPTION:
URL:https://tcshighschool.org/event/creative-writing-seminar-12/2025-10-24/
CATEGORIES:Seminar - Regular
END:VEVENT
BEGIN:VEVENT
DTSTART;TZID=America/New_York:20251028T124500
DTEND;TZID=America/New_York:20251028T134500
DTSTAMP:20260424T115021
CREATED:20250826T114842Z
LAST-MODIFIED:20250909T213329Z
UID:49135-1761655500-1761659100@tcshighschool.org
SUMMARY:Guest Artist: Rahne Alexander
DESCRIPTION:Rahne Alexander is an intermedia artist and writer from Baltimore\, Maryland. She is a 2021 graduate of the Intermedia+Digital Arts MFA at UMBC\, and a 2021 Baker Artist Prize Awardee. Her works in video\, performance\, music\, and painting have been exhibited across the U.S. and around the world\, including the Baltimore Museum of Art\, Tephra Institute of Contemporary Art\, and MIX NYC. She performs music as 50’ and formerly fronted the bands Santa Librada and The Degenerettes. Her writing appears in publications such as BmoreArt\, The Hopkins Review\, UMBC Magazine\, the light ekphrastic\, flux\, Come Sail Away\, OnCurating\, and the Lambda Literary Award-winning anthology Take Me There: Trans and Genderqueer Erotica. Alexander’s 2019 OutWrite-award-winning chapbook of collected essays Heretic to Housewife was published by Neon Hemlock\, and she publishes a weekly blog\, Paradise Is Not For Sale. 2024 will see a complete redesign of her website: rahne.com \nhttps://bakerartist.org/portfolios/rahnealexander
URL:https://tcshighschool.org/event/guest-artist-rahne-alexander/
CATEGORIES:Seminar - Regular
ATTACH;FMTTYPE=image/jpeg:https://tcshighschool.org/wp-content/uploads/2025/08/Rahnesq.jpg
END:VEVENT
END:VCALENDAR