BEGIN:VCALENDAR
VERSION:2.0
PRODID:-//TCS High School - ECPv6.15.11//NONSGML v1.0//EN
CALSCALE:GREGORIAN
METHOD:PUBLISH
X-WR-CALNAME:TCS High School
X-ORIGINAL-URL:https://tcshighschool.org
X-WR-CALDESC:Events for TCS High School
REFRESH-INTERVAL;VALUE=DURATION:PT1H
X-Robots-Tag:noindex
X-PUBLISHED-TTL:PT1H
BEGIN:VTIMEZONE
TZID:America/New_York
BEGIN:DAYLIGHT
TZOFFSETFROM:-0500
TZOFFSETTO:-0400
TZNAME:EDT
DTSTART:20230312T070000
END:DAYLIGHT
BEGIN:STANDARD
TZOFFSETFROM:-0400
TZOFFSETTO:-0500
TZNAME:EST
DTSTART:20231105T060000
END:STANDARD
BEGIN:DAYLIGHT
TZOFFSETFROM:-0500
TZOFFSETTO:-0400
TZNAME:EDT
DTSTART:20240310T070000
END:DAYLIGHT
BEGIN:STANDARD
TZOFFSETFROM:-0400
TZOFFSETTO:-0500
TZNAME:EST
DTSTART:20241103T060000
END:STANDARD
BEGIN:DAYLIGHT
TZOFFSETFROM:-0500
TZOFFSETTO:-0400
TZNAME:EDT
DTSTART:20250309T070000
END:DAYLIGHT
BEGIN:STANDARD
TZOFFSETFROM:-0400
TZOFFSETTO:-0500
TZNAME:EST
DTSTART:20251102T060000
END:STANDARD
END:VTIMEZONE
BEGIN:VEVENT
DTSTART;TZID=America/New_York:20240321T124500
DTEND;TZID=America/New_York:20240321T134500
DTSTAMP:20260425T125458
CREATED:20231010T104507Z
LAST-MODIFIED:20231010T104507Z
UID:44246-1711025100-1711028700@tcshighschool.org
SUMMARY:Theatre with The Lyric
DESCRIPTION:
URL:https://tcshighschool.org/event/theatre-with-the-lyric-3/2024-03-21/
CATEGORIES:Seminar - Regular
END:VEVENT
BEGIN:VEVENT
DTSTART;TZID=America/New_York:20240322T090000
DTEND;TZID=America/New_York:20240322T110000
DTSTAMP:20260425T125458
CREATED:20230814T215012Z
LAST-MODIFIED:20230814T215012Z
UID:42981-1711098000-1711105200@tcshighschool.org
SUMMARY:Creative Writing
DESCRIPTION:
URL:https://tcshighschool.org/event/creative-writing-8/2024-03-22/
CATEGORIES:Seminar - Regular
END:VEVENT
BEGIN:VEVENT
DTSTART;TZID=America/New_York:20240402T084500
DTEND;TZID=America/New_York:20240402T100000
DTSTAMP:20260425T125458
CREATED:20240220T000719Z
LAST-MODIFIED:20240220T000719Z
UID:45114-1712047500-1712052000@tcshighschool.org
SUMMARY:Digital Story Telling Seminar
DESCRIPTION:
URL:https://tcshighschool.org/event/digital-story-telling-seminar/
CATEGORIES:Seminar - Regular
END:VEVENT
BEGIN:VEVENT
DTSTART;TZID=America/New_York:20240403T084500
DTEND;TZID=America/New_York:20240403T084500
DTSTAMP:20260425T125458
CREATED:20230814T214915Z
LAST-MODIFIED:20230814T214915Z
UID:42942-1712133900-1712133900@tcshighschool.org
SUMMARY:Physical Education
DESCRIPTION:
URL:https://tcshighschool.org/event/physical-education-3/2024-04-03/
CATEGORIES:Seminar - Regular
END:VEVENT
BEGIN:VEVENT
DTSTART;TZID=America/New_York:20240403T124500
DTEND;TZID=America/New_York:20240403T134500
DTSTAMP:20260425T125458
CREATED:20230814T215311Z
LAST-MODIFIED:20230821T134628Z
UID:43464-1712148300-1712151900@tcshighschool.org
SUMMARY:Visual Arts
DESCRIPTION:
URL:https://tcshighschool.org/event/visual-arts-2023-09-13/2024-04-03/
CATEGORIES:Seminar - Regular
END:VEVENT
BEGIN:VEVENT
DTSTART;TZID=America/New_York:20240405T090000
DTEND;TZID=America/New_York:20240405T110000
DTSTAMP:20260425T125458
CREATED:20230814T215012Z
LAST-MODIFIED:20230814T215012Z
UID:42983-1712307600-1712314800@tcshighschool.org
SUMMARY:Creative Writing
DESCRIPTION:
URL:https://tcshighschool.org/event/creative-writing-8/2024-04-05/
CATEGORIES:Seminar - Regular
END:VEVENT
BEGIN:VEVENT
DTSTART;TZID=America/New_York:20240409T084500
DTEND;TZID=America/New_York:20240409T100000
DTSTAMP:20260425T125458
CREATED:20240220T000719Z
LAST-MODIFIED:20240220T000719Z
UID:45115-1712652300-1712656800@tcshighschool.org
SUMMARY:Digital Story Telling Seminar
DESCRIPTION:
URL:https://tcshighschool.org/event/digital-story-telling-seminar/2024-04-09/
CATEGORIES:Seminar - Regular
END:VEVENT
BEGIN:VEVENT
DTSTART;TZID=America/New_York:20240409T100000
DTEND;TZID=America/New_York:20240409T110000
DTSTAMP:20260425T125458
CREATED:20230820T152732Z
LAST-MODIFIED:20230820T152732Z
UID:43627-1712656800-1712660400@tcshighschool.org
SUMMARY:ASL I
DESCRIPTION:
URL:https://tcshighschool.org/event/asl-i-3/2024-04-09/
CATEGORIES:Seminar - Regular
END:VEVENT
BEGIN:VEVENT
DTSTART;TZID=America/New_York:20240409T124500
DTEND;TZID=America/New_York:20240409T134500
DTSTAMP:20260425T125458
CREATED:20230814T215700Z
LAST-MODIFIED:20230816T191434Z
UID:43117-1712666700-1712670300@tcshighschool.org
SUMMARY:ASL II
DESCRIPTION:
URL:https://tcshighschool.org/event/asl-ii-2-2023-09-19/2024-04-09/
CATEGORIES:Seminar - Regular
END:VEVENT
BEGIN:VEVENT
DTSTART;TZID=America/New_York:20240410T084500
DTEND;TZID=America/New_York:20240410T084500
DTSTAMP:20260425T125458
CREATED:20230814T214915Z
LAST-MODIFIED:20230814T214915Z
UID:42943-1712738700-1712738700@tcshighschool.org
SUMMARY:Physical Education
DESCRIPTION:
URL:https://tcshighschool.org/event/physical-education-3/2024-04-10/
CATEGORIES:Seminar - Regular
END:VEVENT
BEGIN:VEVENT
DTSTART;TZID=America/New_York:20240410T124500
DTEND;TZID=America/New_York:20240410T134500
DTSTAMP:20260425T125458
CREATED:20230814T215311Z
LAST-MODIFIED:20230821T134628Z
UID:43465-1712753100-1712756700@tcshighschool.org
SUMMARY:Visual Arts
DESCRIPTION:
URL:https://tcshighschool.org/event/visual-arts-2023-09-13/2024-04-10/
CATEGORIES:Seminar - Regular
END:VEVENT
BEGIN:VEVENT
DTSTART;TZID=America/New_York:20240412T090000
DTEND;TZID=America/New_York:20240412T110000
DTSTAMP:20260425T125458
CREATED:20230814T215012Z
LAST-MODIFIED:20230814T215012Z
UID:43186-1712912400-1712919600@tcshighschool.org
SUMMARY:Creative Writing
DESCRIPTION:
URL:https://tcshighschool.org/event/creative-writing-8-2023-12-29-2024-04-12/
CATEGORIES:Seminar - Regular
END:VEVENT
BEGIN:VEVENT
DTSTART;TZID=America/New_York:20240415T130000
DTEND;TZID=America/New_York:20240415T150000
DTSTAMP:20260425T125458
CREATED:20230822T191659Z
LAST-MODIFIED:20240403T165409Z
UID:43693-1713186000-1713193200@tcshighschool.org
SUMMARY:Done Construction Seminar
DESCRIPTION:
URL:https://tcshighschool.org/event/done-construction-seminar-5-2024-04-08/
CATEGORIES:Seminar - Regular
END:VEVENT
BEGIN:VEVENT
DTSTART;TZID=America/New_York:20240416T084500
DTEND;TZID=America/New_York:20240416T100000
DTSTAMP:20260425T125458
CREATED:20240220T000719Z
LAST-MODIFIED:20240220T000719Z
UID:45116-1713257100-1713261600@tcshighschool.org
SUMMARY:Digital Story Telling Seminar
DESCRIPTION:
URL:https://tcshighschool.org/event/digital-story-telling-seminar/2024-04-16/
CATEGORIES:Seminar - Regular
END:VEVENT
BEGIN:VEVENT
DTSTART;TZID=America/New_York:20240416T100000
DTEND;TZID=America/New_York:20240416T110000
DTSTAMP:20260425T125458
CREATED:20230820T152732Z
LAST-MODIFIED:20230820T152732Z
UID:43629-1713261600-1713265200@tcshighschool.org
SUMMARY:ASL I
DESCRIPTION:
URL:https://tcshighschool.org/event/asl-i-3/2024-04-16/
CATEGORIES:Seminar - Regular
END:VEVENT
BEGIN:VEVENT
DTSTART;TZID=America/New_York:20240416T124500
DTEND;TZID=America/New_York:20240416T134500
DTSTAMP:20260425T125458
CREATED:20230814T215700Z
LAST-MODIFIED:20230816T191434Z
UID:43118-1713271500-1713275100@tcshighschool.org
SUMMARY:ASL II
DESCRIPTION:
URL:https://tcshighschool.org/event/asl-ii-2-2023-09-19/2024-04-16/
CATEGORIES:Seminar - Regular
END:VEVENT
BEGIN:VEVENT
DTSTART;TZID=America/New_York:20240417T084500
DTEND;TZID=America/New_York:20240417T084500
DTSTAMP:20260425T125458
CREATED:20230814T214915Z
LAST-MODIFIED:20230814T214915Z
UID:42945-1713343500-1713343500@tcshighschool.org
SUMMARY:Physical Education
DESCRIPTION:
URL:https://tcshighschool.org/event/physical-education-3/2024-04-17/
CATEGORIES:Seminar - Regular
END:VEVENT
BEGIN:VEVENT
DTSTART;TZID=America/New_York:20240417T124500
DTEND;TZID=America/New_York:20240417T134500
DTSTAMP:20260425T125458
CREATED:20230814T215311Z
LAST-MODIFIED:20230821T134628Z
UID:43466-1713357900-1713361500@tcshighschool.org
SUMMARY:Visual Arts
DESCRIPTION:
URL:https://tcshighschool.org/event/visual-arts-2023-09-13/2024-04-17/
CATEGORIES:Seminar - Regular
END:VEVENT
BEGIN:VEVENT
DTSTART;TZID=America/New_York:20240419T090000
DTEND;TZID=America/New_York:20240419T110000
DTSTAMP:20260425T125458
CREATED:20230814T215012Z
LAST-MODIFIED:20230814T215012Z
UID:43187-1713517200-1713524400@tcshighschool.org
SUMMARY:Creative Writing
DESCRIPTION:
URL:https://tcshighschool.org/event/creative-writing-8-2023-12-29-2024-04-19/
CATEGORIES:Seminar - Regular
END:VEVENT
BEGIN:VEVENT
DTSTART;TZID=America/New_York:20240423T084500
DTEND;TZID=America/New_York:20240423T100000
DTSTAMP:20260425T125458
CREATED:20240220T000719Z
LAST-MODIFIED:20240220T000719Z
UID:45117-1713861900-1713866400@tcshighschool.org
SUMMARY:Digital Story Telling Seminar
DESCRIPTION:
URL:https://tcshighschool.org/event/digital-story-telling-seminar/2024-04-23/
CATEGORIES:Seminar - Regular
END:VEVENT
BEGIN:VEVENT
DTSTART;TZID=America/New_York:20240423T100000
DTEND;TZID=America/New_York:20240423T110000
DTSTAMP:20260425T125458
CREATED:20230820T152732Z
LAST-MODIFIED:20230820T152732Z
UID:43630-1713866400-1713870000@tcshighschool.org
SUMMARY:ASL I
DESCRIPTION:
URL:https://tcshighschool.org/event/asl-i-3/2024-04-23/
CATEGORIES:Seminar - Regular
END:VEVENT
BEGIN:VEVENT
DTSTART;TZID=America/New_York:20240423T124500
DTEND;TZID=America/New_York:20240423T134500
DTSTAMP:20260425T125458
CREATED:20230814T215700Z
LAST-MODIFIED:20230816T191434Z
UID:43119-1713876300-1713879900@tcshighschool.org
SUMMARY:ASL II
DESCRIPTION:
URL:https://tcshighschool.org/event/asl-ii-2-2023-09-19/2024-04-23/
CATEGORIES:Seminar - Regular
END:VEVENT
BEGIN:VEVENT
DTSTART;TZID=America/New_York:20240424T084500
DTEND;TZID=America/New_York:20240424T084500
DTSTAMP:20260425T125458
CREATED:20230814T214915Z
LAST-MODIFIED:20230814T214915Z
UID:42946-1713948300-1713948300@tcshighschool.org
SUMMARY:Physical Education
DESCRIPTION:
URL:https://tcshighschool.org/event/physical-education-3/2024-04-24/
CATEGORIES:Seminar - Regular
END:VEVENT
BEGIN:VEVENT
DTSTART;TZID=America/New_York:20240424T124500
DTEND;TZID=America/New_York:20240424T134500
DTSTAMP:20260425T125458
CREATED:20230814T215311Z
LAST-MODIFIED:20230821T134628Z
UID:43467-1713962700-1713966300@tcshighschool.org
SUMMARY:Visual Arts
DESCRIPTION:
URL:https://tcshighschool.org/event/visual-arts-2023-09-13/2024-04-24/
CATEGORIES:Seminar - Regular
END:VEVENT
BEGIN:VEVENT
DTSTART;TZID=America/New_York:20240426T090000
DTEND;TZID=America/New_York:20240426T110000
DTSTAMP:20260425T125458
CREATED:20230814T215012Z
LAST-MODIFIED:20230814T215012Z
UID:43188-1714122000-1714129200@tcshighschool.org
SUMMARY:Creative Writing
DESCRIPTION:
URL:https://tcshighschool.org/event/creative-writing-8-2023-12-29-2024-04-26/
CATEGORIES:Seminar - Regular
END:VEVENT
BEGIN:VEVENT
DTSTART;TZID=America/New_York:20240429T124500
DTEND;TZID=America/New_York:20240429T134500
DTSTAMP:20260425T125458
CREATED:20230817T155800Z
LAST-MODIFIED:20240403T114057Z
UID:43483-1714394700-1714398300@tcshighschool.org
SUMMARY:Financial Literacy
DESCRIPTION:
URL:https://tcshighschool.org/event/financial-literacy-5-2024-04-08/
CATEGORIES:Seminar - Regular
END:VEVENT
BEGIN:VEVENT
DTSTART;TZID=America/New_York:20240430T084500
DTEND;TZID=America/New_York:20240430T100000
DTSTAMP:20260425T125458
CREATED:20240220T000719Z
LAST-MODIFIED:20240220T000719Z
UID:45118-1714466700-1714471200@tcshighschool.org
SUMMARY:Digital Story Telling Seminar
DESCRIPTION:
URL:https://tcshighschool.org/event/digital-story-telling-seminar/2024-04-30/
CATEGORIES:Seminar - Regular
END:VEVENT
BEGIN:VEVENT
DTSTART;TZID=America/New_York:20240430T100000
DTEND;TZID=America/New_York:20240430T110000
DTSTAMP:20260425T125458
CREATED:20240421T181626Z
LAST-MODIFIED:20240421T181626Z
UID:45519-1714471200-1714474800@tcshighschool.org
SUMMARY:ASL I
DESCRIPTION:
URL:https://tcshighschool.org/event/asl-i-7/
CATEGORIES:Seminar - Regular
END:VEVENT
BEGIN:VEVENT
DTSTART;TZID=America/New_York:20240430T124500
DTEND;TZID=America/New_York:20240430T134500
DTSTAMP:20260425T125458
CREATED:20240421T181731Z
LAST-MODIFIED:20240421T181731Z
UID:45521-1714481100-1714484700@tcshighschool.org
SUMMARY:ASL II
DESCRIPTION:
URL:https://tcshighschool.org/event/asl-ii-4/
CATEGORIES:Seminar - Regular
END:VEVENT
BEGIN:VEVENT
DTSTART;TZID=America/New_York:20240501T084500
DTEND;TZID=America/New_York:20240501T084500
DTSTAMP:20260425T125458
CREATED:20230814T214915Z
LAST-MODIFIED:20230814T214915Z
UID:42947-1714553100-1714553100@tcshighschool.org
SUMMARY:Physical Education
DESCRIPTION:
URL:https://tcshighschool.org/event/physical-education-3/2024-05-01/
CATEGORIES:Seminar - Regular
END:VEVENT
END:VCALENDAR