BEGIN:VCALENDAR
VERSION:2.0
PRODID:-//TCS High School - ECPv6.15.11//NONSGML v1.0//EN
CALSCALE:GREGORIAN
METHOD:PUBLISH
X-WR-CALNAME:TCS High School
X-ORIGINAL-URL:https://tcshighschool.org
X-WR-CALDESC:Events for TCS High School
REFRESH-INTERVAL;VALUE=DURATION:PT1H
X-Robots-Tag:noindex
X-PUBLISHED-TTL:PT1H
BEGIN:VTIMEZONE
TZID:America/New_York
BEGIN:DAYLIGHT
TZOFFSETFROM:-0500
TZOFFSETTO:-0400
TZNAME:EDT
DTSTART:20230312T070000
END:DAYLIGHT
BEGIN:STANDARD
TZOFFSETFROM:-0400
TZOFFSETTO:-0500
TZNAME:EST
DTSTART:20231105T060000
END:STANDARD
BEGIN:DAYLIGHT
TZOFFSETFROM:-0500
TZOFFSETTO:-0400
TZNAME:EDT
DTSTART:20240310T070000
END:DAYLIGHT
BEGIN:STANDARD
TZOFFSETFROM:-0400
TZOFFSETTO:-0500
TZNAME:EST
DTSTART:20241103T060000
END:STANDARD
BEGIN:DAYLIGHT
TZOFFSETFROM:-0500
TZOFFSETTO:-0400
TZNAME:EDT
DTSTART:20250309T070000
END:DAYLIGHT
BEGIN:STANDARD
TZOFFSETFROM:-0400
TZOFFSETTO:-0500
TZNAME:EST
DTSTART:20251102T060000
END:STANDARD
END:VTIMEZONE
BEGIN:VEVENT
DTSTART;TZID=America/New_York:20241118T140000
DTEND;TZID=America/New_York:20241118T150000
DTSTAMP:20260425T113440
CREATED:20241016T173716Z
LAST-MODIFIED:20241021T212624Z
UID:46798-1731938400-1731942000@tcshighschool.org
SUMMARY:Young Playwrights Seminar
DESCRIPTION:
URL:https://tcshighschool.org/event/young-playwrights-seminar-9-2024-11-11/2024-11-18/
CATEGORIES:Seminar - Regular
END:VEVENT
BEGIN:VEVENT
DTSTART;TZID=America/New_York:20241119T110000
DTEND;TZID=America/New_York:20241119T120000
DTSTAMP:20260425T113440
CREATED:20240725T142422Z
LAST-MODIFIED:20240725T142422Z
UID:45833-1732014000-1732017600@tcshighschool.org
SUMMARY:ASL I
DESCRIPTION:
URL:https://tcshighschool.org/event/asl-i-8/2024-11-19/
CATEGORIES:Seminar - Regular
END:VEVENT
BEGIN:VEVENT
DTSTART;TZID=America/New_York:20241119T124500
DTEND;TZID=America/New_York:20241119T134500
DTSTAMP:20260425T113440
CREATED:20240725T142541Z
LAST-MODIFIED:20240725T142541Z
UID:45845-1732020300-1732023900@tcshighschool.org
SUMMARY:ASL II
DESCRIPTION:
URL:https://tcshighschool.org/event/asl-ii-5/2024-11-19/
CATEGORIES:Seminar - Regular
END:VEVENT
BEGIN:VEVENT
DTSTART;TZID=America/New_York:20241120T085500
DTEND;TZID=America/New_York:20241120T095500
DTSTAMP:20260425T113440
CREATED:20240801T213900Z
LAST-MODIFIED:20240801T213900Z
UID:46000-1732092900-1732096500@tcshighschool.org
SUMMARY:Physical Education
DESCRIPTION:
URL:https://tcshighschool.org/event/physical-education-4/2024-11-20/
CATEGORIES:Seminar - Regular
END:VEVENT
BEGIN:VEVENT
DTSTART;TZID=America/New_York:20241120T124500
DTEND;TZID=America/New_York:20241120T134500
DTSTAMP:20260425T113440
CREATED:20240814T002601Z
LAST-MODIFIED:20240814T002601Z
UID:47931-1732106700-1732110300@tcshighschool.org
SUMMARY:Art Seminar
DESCRIPTION:
URL:https://tcshighschool.org/event/art-seminar-4/2024-11-20/
CATEGORIES:Seminar - Regular
END:VEVENT
BEGIN:VEVENT
DTSTART;TZID=America/New_York:20241121T124500
DTEND;TZID=America/New_York:20241121T134500
DTSTAMP:20260425T113440
CREATED:20240722T191232Z
LAST-MODIFIED:20240722T191232Z
UID:45770-1732193100-1732196700@tcshighschool.org
SUMMARY:Financial Literacy
DESCRIPTION:
URL:https://tcshighschool.org/event/financial-literacy-9/
CATEGORIES:Seminar - Regular
END:VEVENT
BEGIN:VEVENT
DTSTART;TZID=America/New_York:20241122T090000
DTEND;TZID=America/New_York:20241122T110000
DTSTAMP:20260425T113440
CREATED:20241124T004515Z
LAST-MODIFIED:20241124T004515Z
UID:47118-1732266000-1732273200@tcshighschool.org
SUMMARY:Creative Writing
DESCRIPTION:
URL:https://tcshighschool.org/event/creative-writing-11/2024-11-22/
CATEGORIES:Seminar - Regular
END:VEVENT
BEGIN:VEVENT
DTSTART;TZID=America/New_York:20241126T110000
DTEND;TZID=America/New_York:20241126T120000
DTSTAMP:20260425T113440
CREATED:20240816T161920Z
LAST-MODIFIED:20240816T161920Z
UID:46247-1732618800-1732622400@tcshighschool.org
SUMMARY:ASL I
DESCRIPTION:
URL:https://tcshighschool.org/event/asl-i-9/
CATEGORIES:Seminar - Regular
END:VEVENT
BEGIN:VEVENT
DTSTART;TZID=America/New_York:20241126T124500
DTEND;TZID=America/New_York:20241126T134500
DTSTAMP:20260425T113440
CREATED:20240816T162039Z
LAST-MODIFIED:20240816T162039Z
UID:46252-1732625100-1732628700@tcshighschool.org
SUMMARY:ASL II
DESCRIPTION:
URL:https://tcshighschool.org/event/asl-ii-6/
CATEGORIES:Seminar - Regular
END:VEVENT
BEGIN:VEVENT
DTSTART;TZID=America/New_York:20241127T085500
DTEND;TZID=America/New_York:20241127T095500
DTSTAMP:20260425T113440
CREATED:20240813T214657Z
LAST-MODIFIED:20240813T214657Z
UID:46126-1732697700-1732701300@tcshighschool.org
SUMMARY:Physical Education
DESCRIPTION:
URL:https://tcshighschool.org/event/physical-education-5/
CATEGORIES:Seminar - Regular
END:VEVENT
BEGIN:VEVENT
DTSTART;TZID=America/New_York:20241127T124500
DTEND;TZID=America/New_York:20241127T134500
DTSTAMP:20260425T113440
CREATED:20240814T002601Z
LAST-MODIFIED:20240814T002601Z
UID:47932-1732711500-1732715100@tcshighschool.org
SUMMARY:Art Seminar
DESCRIPTION:
URL:https://tcshighschool.org/event/art-seminar-4/2024-11-27/
CATEGORIES:Seminar - Regular
END:VEVENT
BEGIN:VEVENT
DTSTART;TZID=America/New_York:20241202T140000
DTEND;TZID=America/New_York:20241202T150000
DTSTAMP:20260425T113440
CREATED:20241016T173716Z
LAST-MODIFIED:20241021T212638Z
UID:46800-1733148000-1733151600@tcshighschool.org
SUMMARY:Young Playwrights Seminar
DESCRIPTION:
URL:https://tcshighschool.org/event/young-playwrights-seminar-9-2024-11-11/2024-12-02/
CATEGORIES:Seminar - Regular
END:VEVENT
BEGIN:VEVENT
DTSTART;TZID=America/New_York:20241203T110000
DTEND;TZID=America/New_York:20241203T120000
DTSTAMP:20260425T113440
CREATED:20240816T161920Z
LAST-MODIFIED:20240816T161920Z
UID:46248-1733223600-1733227200@tcshighschool.org
SUMMARY:ASL I
DESCRIPTION:
URL:https://tcshighschool.org/event/asl-i-9/2024-12-03/
CATEGORIES:Seminar - Regular
END:VEVENT
BEGIN:VEVENT
DTSTART;TZID=America/New_York:20241203T124500
DTEND;TZID=America/New_York:20241203T134500
DTSTAMP:20260425T113440
CREATED:20240816T162039Z
LAST-MODIFIED:20240816T162039Z
UID:46253-1733229900-1733233500@tcshighschool.org
SUMMARY:ASL II
DESCRIPTION:
URL:https://tcshighschool.org/event/asl-ii-6/2024-12-03/
CATEGORIES:Seminar - Regular
END:VEVENT
BEGIN:VEVENT
DTSTART;TZID=America/New_York:20241204T085500
DTEND;TZID=America/New_York:20241204T095500
DTSTAMP:20260425T113440
CREATED:20240813T214657Z
LAST-MODIFIED:20240813T214657Z
UID:46127-1733302500-1733306100@tcshighschool.org
SUMMARY:Physical Education
DESCRIPTION:
URL:https://tcshighschool.org/event/physical-education-5/2024-12-04/
CATEGORIES:Seminar - Regular
END:VEVENT
BEGIN:VEVENT
DTSTART;TZID=America/New_York:20241206T090000
DTEND;TZID=America/New_York:20241206T110000
DTSTAMP:20260425T113440
CREATED:20241124T004515Z
LAST-MODIFIED:20241124T004515Z
UID:47120-1733475600-1733482800@tcshighschool.org
SUMMARY:Creative Writing
DESCRIPTION:
URL:https://tcshighschool.org/event/creative-writing-11/2024-12-06/
CATEGORIES:Seminar - Regular
END:VEVENT
BEGIN:VEVENT
DTSTART;TZID=America/New_York:20241209T140000
DTEND;TZID=America/New_York:20241209T150000
DTSTAMP:20260425T113440
CREATED:20241016T173716Z
LAST-MODIFIED:20241021T212645Z
UID:46802-1733752800-1733756400@tcshighschool.org
SUMMARY:Young Playwrights Seminar
DESCRIPTION:
URL:https://tcshighschool.org/event/young-playwrights-seminar-9-2024-11-11/2024-12-09/
CATEGORIES:Seminar - Regular
END:VEVENT
BEGIN:VEVENT
DTSTART;TZID=America/New_York:20241210T110000
DTEND;TZID=America/New_York:20241210T120000
DTSTAMP:20260425T113440
CREATED:20240816T161920Z
LAST-MODIFIED:20240816T161920Z
UID:46249-1733828400-1733832000@tcshighschool.org
SUMMARY:ASL I
DESCRIPTION:
URL:https://tcshighschool.org/event/asl-i-9/2024-12-10/
CATEGORIES:Seminar - Regular
END:VEVENT
BEGIN:VEVENT
DTSTART;TZID=America/New_York:20241210T124500
DTEND;TZID=America/New_York:20241210T134500
DTSTAMP:20260425T113440
CREATED:20240816T162039Z
LAST-MODIFIED:20240816T162039Z
UID:46254-1733834700-1733838300@tcshighschool.org
SUMMARY:ASL II
DESCRIPTION:
URL:https://tcshighschool.org/event/asl-ii-6/2024-12-10/
CATEGORIES:Seminar - Regular
END:VEVENT
BEGIN:VEVENT
DTSTART;TZID=America/New_York:20241211T085500
DTEND;TZID=America/New_York:20241211T095500
DTSTAMP:20260425T113440
CREATED:20240813T214657Z
LAST-MODIFIED:20240813T214657Z
UID:46128-1733907300-1733910900@tcshighschool.org
SUMMARY:Physical Education
DESCRIPTION:
URL:https://tcshighschool.org/event/physical-education-5/2024-12-11/
CATEGORIES:Seminar - Regular
END:VEVENT
BEGIN:VEVENT
DTSTART;TZID=America/New_York:20241211T124500
DTEND;TZID=America/New_York:20241211T134500
DTSTAMP:20260425T113440
CREATED:20240814T003342Z
LAST-MODIFIED:20240814T003342Z
UID:46144-1733921100-1733924700@tcshighschool.org
SUMMARY:Art Seminar
DESCRIPTION:
URL:https://tcshighschool.org/event/art-seminar-5-2024-12-11/
CATEGORIES:Seminar - Regular
END:VEVENT
BEGIN:VEVENT
DTSTART;TZID=America/New_York:20241212T124500
DTEND;TZID=America/New_York:20241212T134500
DTSTAMP:20260425T113440
CREATED:20240814T003342Z
LAST-MODIFIED:20241120T174607Z
UID:46143-1734007500-1734011100@tcshighschool.org
SUMMARY:Art Seminar
DESCRIPTION:
URL:https://tcshighschool.org/event/art-seminar-5-2024-12-04/
CATEGORIES:Seminar - Regular
END:VEVENT
BEGIN:VEVENT
DTSTART;TZID=America/New_York:20241213T090000
DTEND;TZID=America/New_York:20241213T110000
DTSTAMP:20260425T113440
CREATED:20241124T004515Z
LAST-MODIFIED:20241124T004515Z
UID:47121-1734080400-1734087600@tcshighschool.org
SUMMARY:Creative Writing
DESCRIPTION:
URL:https://tcshighschool.org/event/creative-writing-11/2024-12-13/
CATEGORIES:Seminar - Regular
END:VEVENT
BEGIN:VEVENT
DTSTART;TZID=America/New_York:20241216T140000
DTEND;TZID=America/New_York:20241216T150000
DTSTAMP:20260425T113440
CREATED:20241016T173716Z
LAST-MODIFIED:20241021T212652Z
UID:46803-1734357600-1734361200@tcshighschool.org
SUMMARY:Young Playwrights Seminar
DESCRIPTION:
URL:https://tcshighschool.org/event/young-playwrights-seminar-9-2024-11-11/2024-12-16/
CATEGORIES:Seminar - Regular
END:VEVENT
BEGIN:VEVENT
DTSTART;TZID=America/New_York:20241217T110000
DTEND;TZID=America/New_York:20241217T120000
DTSTAMP:20260425T113440
CREATED:20240816T161920Z
LAST-MODIFIED:20240816T161920Z
UID:46250-1734433200-1734436800@tcshighschool.org
SUMMARY:ASL I
DESCRIPTION:
URL:https://tcshighschool.org/event/asl-i-9/2024-12-17/
CATEGORIES:Seminar - Regular
END:VEVENT
BEGIN:VEVENT
DTSTART;TZID=America/New_York:20241217T124500
DTEND;TZID=America/New_York:20241217T134500
DTSTAMP:20260425T113440
CREATED:20240816T162039Z
LAST-MODIFIED:20240816T162039Z
UID:46255-1734439500-1734443100@tcshighschool.org
SUMMARY:ASL II
DESCRIPTION:
URL:https://tcshighschool.org/event/asl-ii-6/2024-12-17/
CATEGORIES:Seminar - Regular
END:VEVENT
BEGIN:VEVENT
DTSTART;TZID=America/New_York:20241218T085500
DTEND;TZID=America/New_York:20241218T095500
DTSTAMP:20260425T113440
CREATED:20240813T214657Z
LAST-MODIFIED:20240813T214657Z
UID:46129-1734512100-1734515700@tcshighschool.org
SUMMARY:Physical Education
DESCRIPTION:
URL:https://tcshighschool.org/event/physical-education-5/2024-12-18/
CATEGORIES:Seminar - Regular
END:VEVENT
BEGIN:VEVENT
DTSTART;TZID=America/New_York:20241219T111500
DTEND;TZID=America/New_York:20241219T121500
DTSTAMP:20260425T113440
CREATED:20241123T193031Z
LAST-MODIFIED:20241123T193031Z
UID:47116-1734606900-1734610500@tcshighschool.org
SUMMARY:Art Seminar
DESCRIPTION:
URL:https://tcshighschool.org/event/art-seminar-8/
CATEGORIES:Seminar - Regular
END:VEVENT
BEGIN:VEVENT
DTSTART;TZID=America/New_York:20241219T124500
DTEND;TZID=America/New_York:20241219T134500
DTSTAMP:20260425T113440
CREATED:20240722T191232Z
LAST-MODIFIED:20240722T191232Z
UID:45771-1734612300-1734615900@tcshighschool.org
SUMMARY:Financial Literacy
DESCRIPTION:
URL:https://tcshighschool.org/event/financial-literacy-9/2024-12-19/
CATEGORIES:Seminar - Regular
END:VEVENT
BEGIN:VEVENT
DTSTART;TZID=America/New_York:20241220T090000
DTEND;TZID=America/New_York:20241220T110000
DTSTAMP:20260425T113440
CREATED:20241124T004515Z
LAST-MODIFIED:20241124T004515Z
UID:47122-1734685200-1734692400@tcshighschool.org
SUMMARY:Creative Writing
DESCRIPTION:
URL:https://tcshighschool.org/event/creative-writing-11/2024-12-20/
CATEGORIES:Seminar - Regular
END:VEVENT
END:VCALENDAR